Workbook

Sheet 組み分け
A1: AIFA第3回津留建設工業リーグ2024西尾張リーグU-11
A4: １部 | H4: ≪リーグ戦開催推奨日≫
A5: 1 | B5: 尾西ＦＣ | E5: Aブロック1位 | H5: 45437 | K5: 45571
A6: 2 | B6: クレバーフットＡ | E6: Bブロック1位 | H6: 45445 | K6: 45600
A7: 3 | B7: ＴＲＹ愛知 | E7: Cブロック1位 | H7: 45487 | K7: 45640
A8: 4 | B8: 尾張ＦＣ Ａ | E8: Aブロック2位 | H8: 45522 | K8: 45295
A9: 5 | B9: Ｆ.Ｃ.ＤＩＶＩＮＥ Ａ | E9: Bブロック2位 | H9: 45535 | K9: 45303
A10: 6 | B10: クレバーフットＢ | E10: Cブロック２位 | H10: 45556 | K10: 45309
A11: 7 | B11: 愛知ＦＣ一宮Ａ | E11: Aブロック３位 | H11: 45563
A12: 8 | B12: 一宮ＦＣ Ａ | E12: Bブロック３位
A13: 9 | B13: アクアＪＦＣ愛西 | E13: Cブロック３位
A14: 10 | B14: ドルフィンＦＣ Ａ | E14: Aブロック４位
A15: 11 | B15: エルニーニョ美和 | E15: Bブロック４位
A16: 12 | B16: ＦＣ市江 | E16: Cブロック４位
A18: ブロック委員
A19: 【 尾西ＦＣ 】
A21: ２部 Ａブロック | I21: ２部 Ｂブロック
A22: 13 | B22: Ｆ.Ｃ ＫＯＮＡＮ | E22: Aブロック５位 | I22: 25 | J22: 津島ＡＦＣ | M22: Bブロック5位
A23: 14 | B23: ＦＣ ｇｏｌａｚｏｇｏｌ一宮 | E23: Cブロック６位 | I23: 26 | J23: ＳＡＫＵＲＡ ＦＣ | M23: Cブロック5位
A24: 15 | B24: モノリスＦＣ | E24: Bブロック6位 | I24: 27 | J24: 犬山クラブＡ | M24: Aブロック6位
A25: 16 | B25: 尾張ＦＣ Ｂ | E25: Bブロック7位 | I25: 28 | J25: 弥富ＪＳＳ | M25: Aブロック７位
A26: 17 | B26: 一宮ＦＣ Ｂ | E26: Cブロック7位 | I26: 29 | J26: アシストＦＣ | M26: Cブロック8位
A27: 18 | B27: Ｌｉｖｅｎｔ | E27: Aブロック９位 | I27: 30 | J27: Ｆ.Ｃ.ＤＩＶＩＮＥ Ｂ | M27: Aブロック8位
A28: 19 | B28: 尾西ＳＳ | E28: Bブロック9位 | I28: 31 | J28: 木曽川ＳＳＳ | M28: Cブロック9位
A29: 20 | B29: ドルフィンＦＣ Ｂ | E29: Bブロック１０位 | I29: 32 | J29: ＰｏｓｉｔｉｖｏＦＣ | M29: Cブロック10位
A30: 21 | B30: 岩倉ＦＣフォルテ | E30: Aブロック１０位 | I30: 33 | J30: 丹陽ＦＣ/ｒａｂｏｎａ一宮 | M30: 新規
A31: 22 | B31: 犬山クラブＢ | E31: 新規 | I31: 34 | J31: 愛知ＦＣ一宮Ｂ | M31: 新規
A32: 23 | B32: 祖父江少年ＳＣ | E32: 新規 | I32: 35 | J32: ＡＩＳＡＩ ＦＣ | M32: 新規
A33: 24 | B33: 扶桑ＦＣ | E33: 新規
A35: ブロック委員 | I35: ブロック委員
A36: 【 犬山クラブＢ 】 | I36: 【 ＳＡＫＵＲＡ ＦＣ 】

Sheet 結果
A1: AIFA第3回津留建設工業リーグ2024西尾張リーグU-11
B3: 【1部】
A4: １部 | D4: =IF(A6="","",A6) -> 1 | H4: =IF(A7="","",A7) -> 2 | L4: =IF(A8="","",A8) -> 3 | P4: =IF(A9="","",A9) -> 4 | T4: =IF(A10="","",A10) -> 5 | X4: =IF(A11="","",A11) -> 6 | AB4: =IF(A12="","",A12) -> 7 | AF4: =IF(A13="","",A13) -> 8 | AJ4: 9 | AN4: 10 | AR4: 11 | AV4: =IF(A17="","",A17) -> 12 | AY4: 勝 | AZ4: 負 | BA4: 分 | BB4: 勝点 | BC4: 得点 | BD4: 失点 | BE4: 得失 | BF4: 集計 | BG4: 順位
C5: =IF(B6="","",B6) -> 尾西ＦＣ | G5: =IF(B7="","",B7) -> クレバーフットＡ | K5: =IF(B8="","",B8) -> ＴＲＹ愛知 | O5: =IF(B9="","",B9) -> 尾張ＦＣ Ａ | S5: =IF(B10="","",B10) -> Ｆ.Ｃ.ＤＩＶＩＮＥ Ａ | W5: =IF(B11="","",B11) -> クレバーフットＢ | AA5: =IF(B12="","",B12) -> 愛知ＦＣ一宮Ａ | AE5: =IF(B13="","",B13) -> 一宮ＦＣ Ａ | AI5: アクアＪＦＣ愛西 | AM5: ドルフィンＦＣ Ａ | AQ5: エルニーニョ美和 | AU5: =IF(B17="","",B17) -> ＦＣ市江
A6: 1 | B6: =IF(組み分け!B5="","",組み分け!B5) -> 尾西ＦＣ | G6: ○ | H6: 4 | I6: - | J6: 3 | K6: ● | L6: 2 | M6: - | N6: 4 | O6: ○ | P6: 2 | Q6: - | R6: 1 | S6: ○ | T6: 4 | U6: - | V6: 1 | W6: =IF(OR(X6="",Z6=""),"",IF(X6=Z6,"△",IF(X6>Z6,"○",IF(X6<Z6,"●","")))) -> ○ | X6: 2 | Y6: - | Z6: 0 | AA6: ● | AB6: 0 | AC6: - | AD6: 2 | AE6: 〇 | AF6: 5 | AG6: - | AH6: 2 | AI6: ● | AJ6: 1 | AK6: - | AL6: 2 | AM6: ○ | AN6: 4 | AO6: - | AP6: 0 | AQ6: ○ | AR6: 5 | AS6: - | AT6: 1 | AU6: △ | AV6: 1 | AW6: - | AX6: 1 | AY6: 7 | AZ6: =COUNTIF(C6:AX6,"●") -> 3 | BA6: =COUNTIF(C6:AX6,"△") -> 1 | BB6: =SUM(3*AY6,0*AZ6,1*BA6) -> 22 | BC6: =SUM(P6,T6,X6,AB6,AF6,AJ6,AN6,AR6,AV6,L6,H6,D6) -> 30 | BD6: =SUM(R6,V6,Z6,AD6,AH6,AL6,AP6,AT6,AX6,N6,J6,F6) -> 17 | BE6: =BC6-BD6 -> 13 | BF6: =BB6+(BE6/100)+(BC6/100000) -> 22.1303 | BG6: =_xlfn.RANK.EQ(BF6,BF$6:BF$17,0) -> 4
A7: 2 | B7: =IF(組み分け!B6="","",組み分け!B6) -> クレバーフットＡ | C7: ● | D7: 3 | E7: - | F7: 4 | K7: ○ | L7: 2 | M7: - | N7: 1 | O7: △ | P7: 1 | Q7: - | R7: 1 | S7: 〇 | T7: 5 | U7: - | V7: 0 | W7: △ | X7: 0 | Y7: - | Z7: 0 | AA7: ○ | AB7: 1 | AC7: - | AD7: 0 | AE7: 〇 | AF7: 4 | AG7: - | AH7: 1 | AI7: △ | AJ7: 1 | AK7: - | AL7: 1 | AM7: 〇 | AN7: 3 | AO7: - | AP7: 2 | AQ7: ○ | AR7: 5 | AS7: - | AT7: 0 | AU7: ○ | AV7: 2 | AW7: - | AX7: 0 | AY7: 7 | AZ7: =COUNTIF(C7:AX7,"●") -> 1 | BA7: =COUNTIF(C7:AX7,"△") -> 3 | BB7: =SUM(3*AY7,0*AZ7,1*BA7) -> 24 | BC7: =SUM(P7,T7,X7,AB7,AF7,AJ7,AN7,AR7,AV7,L7,H7,D7) -> 27 | BD7: =SUM(R7,V7,Z7,AD7,AH7,AL7,AP7,AT7,AX7,N7,J7,F7) -> 10 | BE7: =BC7-BD7 -> 17 | BF7: =BB7+(BE7/100)+(BC7/100000) -> 24.17027 | BG7: =_xlfn.RANK.EQ(BF7,BF$6:BF$17,0) -> 3
A8: 3 | B8: =IF(組み分け!B7="","",組み分け!B7) -> ＴＲＹ愛知 | C8: =IF(OR(D8="",F8=""),"",IF(D8=F8,"△",IF(D8>F8,"○",IF(D8<F8,"●","")))) -> ○ | D8: =IF(N6="","",N6) -> 4 | E8: - | F8: =IF(L6="","",L6) -> 2 | G8: =IF(OR(H8="",J8=""),"",IF(H8=J8,"△",IF(H8>J8,"○",IF(H8<J8,"●","")))) -> ● | H8: =IF(N7="","",N7) -> 1 | I8: - | J8: =IF(L7="","",L7) -> 2 | O8: ○ | P8: 3 | Q8: - | R8: 2 | S8: ○ | T8: 5 | U8: - | V8: 2 | W8: ○ | X8: 6 | Y8: - | Z8: 1 | AA8: ○ | AB8: 2 | AC8: - | AD8: 1 | AE8: 〇 | AF8: 6 | AG8: - | AH8: 2 | AI8: ○ | AJ8: 9 | AK8: - | AL8: 0 | AM8: 〇 | AN8: 4 | AO8: - | AP8: 1 | AQ8: ○ | AR8: 4 | AS8: - | AT8: 1 | AU8: 〇 | AV8: 8 | AW8: - | AX8: 0 | AY8: 10 | AZ8: =COUNTIF(C8:AX8,"●") -> 1 | BA8: =COUNTIF(C8:AX8,"△") -> 0 | BB8: =SUM(3*AY8,0*AZ8,1*BA8) -> 30 | BC8: =SUM(P8,T8,X8,AB8,AF8,AJ8,AN8,AR8,AV8,L8,H8,D8) -> 52 | BD8: =SUM(R8,V8,Z8,AD8,AH8,AL8,AP8,AT8,AX8,N8,J8,F8) -> 14 | BE8: =BC8-BD8 -> 38 | BF8: =BB8+(BE8/100)+(BC8/100000) -> 30.38052 | BG8: =_xlfn.RANK.EQ(BF8,BF$6:BF$17,0) -> 1
A9: 4 | B9: =IF(組み分け!B8="","",組み分け!B8) -> 尾張ＦＣ Ａ | C9: =IF(OR(D9="",F9=""),"",IF(D9=F9,"△",IF(D9>F9,"○",IF(D9<F9,"●","")))) -> ● | D9: =IF(R6="","",R6) -> 1 | E9: - | F9: =IF(P6="","",P6) -> 2 | G9: =IF(OR(H9="",J9=""),"",IF(H9=J9,"△",IF(H9>J9,"○",IF(H9<J9,"●","")))) -> △ | H9: =IF(R7="","",R7) -> 1 | I9: - | J9: =IF(P7="","",P7) -> 1 | K9: =IF(OR(L9="",N9=""),"",IF(L9=N9,"△",IF(L9>N9,"○",IF(L9<N9,"●","")))) -> ● | L9: =IF(R8="","",R8) -> 2 | M9: - | N9: =IF(P8="","",P8) -> 3 | S9: △ | T9: 1 | U9: - | V9: 1 | W9: ● | X9: 0 | Y9: - | Z9: 1 | AA9: ○ | AB9: 3 | AC9: - | AD9: 0 | AE9: ○ | AF9: 3 | AG9: - | AH9: 0 | AI9: 〇 | AJ9: 3 | AK9: - | AL9: 1 | AM9: ○ | AN9: 3 | AO9: - | AP9: 0 | AQ9: ○ | AR9: 5 | AS9: - | AT9: 0 | AU9: ○ | AV9: 3 | AW9: - | AX9: 0 | AY9: 6 | AZ9: =COUNTIF(C9:AX9,"●") -> 3 | BA9: =COUNTIF(C9:AX9,"△") -> 2 | BB9: =SUM(3*AY9,0*AZ9,1*BA9) -> 20 | BC9: =SUM(P9,T9,X9,AB9,AF9,AJ9,AN9,AR9,AV9,L9,H9,D9) -> 25 | BD9: =SUM(R9,V9,Z9,AD9,AH9,AL9,AP9,AT9,AX9,N9,J9,F9) -> 9 | BE9: =BC9-BD9 -> 16 | BF9: =BB9+(BE9/100)+(BC9/100000) -> 20.16025 | BG9: =_xlfn.RANK.EQ(BF9,BF$6:BF$17,0) -> 5
A10: 5 | B10: =IF(組み分け!B9="","",組み分け!B9) -> Ｆ.Ｃ.ＤＩＶＩＮＥ Ａ | C10: =IF(OR(D10="",F10=""),"",IF(D10=F10,"△",IF(D10>F10,"○",IF(D10<F10,"●","")))) -> ● | D10: =IF(V6="","",V6) -> 1 | E10: - | F10: =IF(T6="","",T6) -> 4 | G10: =IF(OR(H10="",J10=""),"",IF(H10=J10,"△",IF(H10>J10,"○",IF(H10<J10,"●","")))) -> ● | H10: =IF(V7="","",V7) -> 0 | I10: - | J10: =IF(T7="","",T7) -> 5 | K10: =IF(OR(L10="",N10=""),"",IF(L10=N10,"△",IF(L10>N10,"○",IF(L10<N10,"●","")))) -> ● | L10: =IF(V8="","",V8) -> 2 | M10: - | N10: =IF(T8="","",T8) -> 5 | O10: =IF(OR(P10="",R10=""),"",IF(P10=R10,"△",IF(P10>R10,"○",IF(P10<R10,"●","")))) -> △ | P10: =IF(V9="","",V9) -> 1 | Q10: - | R10: =IF(T9="","",T9) -> 1 | W10: △ | X10: 1 | Y10: - | Z10: 1 | AA10: ● | AB10: 0 | AC10: - | AD10: 2 | AE10: ○ | AF10: 3 | AG10: - | AH10: 1 | AI10: ● | AJ10: 0 | AK10: - | AL10: 2 | AM10: 〇 | AN10: 2 | AO10: - | AP10: 0 | AQ10: ○ | AR10: 4 | AS10: - | AT10: 1 | AU10: ○ | AV10: 2 | AW10: - | AX10: 0 | AY10: 4 | AZ10: =COUNTIF(C10:AX10,"●") -> 5 | BA10: =COUNTIF(C10:AX10,"△") -> 2 | BB10: =SUM(3*AY10,0*AZ10,1*BA10) -> 14 | BC10: =SUM(P10,T10,X10,AB10,AF10,AJ10,AN10,AR10,AV10,L10,H10,D10) -> 16 | BD10: =SUM(R10,V10,Z10,AD10,AH10,AL10,AP10,AT10,AX10,N10,J10,F10) -> 22 | BE10: =BC10-BD10 -> -6 | BF10: =BB10+(BE10/100)+(BC10/100000) -> 13.94016 | BG10: =_xlfn.RANK.EQ(BF10,BF$6:BF$17,0) -> 8
A11: 6 | B11: =IF(組み分け!B10="","",組み分け!B10) -> クレバーフットＢ | C11: =IF(OR(D11="",F11=""),"",IF(D11=F11,"△",IF(D11>F11,"○",IF(D11<F11,"●","")))) -> ● | D11: =IF(Z6="","",Z6) -> 0 | E11: - | F11: =IF(X6="","",X6) -> 2 | G11: =IF(OR(H11="",J11=""),"",IF(H11=J11,"△",IF(H11>J11,"○",IF(H11<J11,"●","")))) -> △ | H11: =IF(Z7="","",Z7) -> 0 | I11: - | J11: =IF(X7="","",X7) -> 0 | K11: =IF(OR(L11="",N11=""),"",IF(L11=N11,"△",IF(L11>N11,"○",IF(L11<N11,"●","")))) -> ● | L11: =IF(Z8="","",Z8) -> 1 | M11: - | N11: =IF(X8="","",X8) -> 6 | O11: =IF(OR(P11="",R11=""),"",IF(P11=R11,"△",IF(P11>R11,"○",IF(P11<R11,"●","")))) -> ○ | P11: =IF(Z9="","",Z9) -> 1 | Q11: - | R11: =IF(X9="","",X9) -> 0 | S11: =IF(OR(T11="",V11=""),"",IF(T11=V11,"△",IF(T11>V11,"○",IF(T11<V11,"●","")))) -> △ | T11: =IF(Z10="","",Z10) -> 1 | U11: - | V11: =IF(X10="","",X10) -> 1 | AA11: ● | AB11: 1 | AC11: - | AD11: 4 | AE11: =IF(OR(AF11="",AH11=""),"",IF(AF11=AH11,"△",IF(AF11>AH11,"○",IF(AF11<AH11,"●","")))) -> ○ | AF11: 4 | AG11: - | AH11: 0 | AI11: ○ | AJ11: 2 | AK11: - | AL11: 1 | AM11: ○ | AN11: 2 | AO11: - | AP11: 0 | AQ11: 〇 | AR11: 1 | AS11: - | AT11: 0 | AU11: ○ | AV11: 1 | AW11: - | AX11: 0 | AY11: 5 | AZ11: =COUNTIF(C11:AX11,"●") -> 3 | BA11: =COUNTIF(C11:AX11,"△") -> 2 | BB11: =SUM(3*AY11,0*AZ11,1*BA11) -> 17 | BC11: =SUM(P11,T11,X11,AB11,AF11,AJ11,AN11,AR11,AV11,L11,H11,D11) -> 14 | BD11: =SUM(R11,V11,Z11,AD11,AH11,AL11,AP11,AT11,AX11,N11,J11,F11) -> 14 | BE11: =BC11-BD11 -> 0 | BF11: =BB11+(BE11/100)+(BC11/100000) -> 17.00014 | BG11: =_xlfn.RANK.EQ(BF11,BF$6:BF$17,0) -> 6
A12: 7 | B12: =IF(組み分け!B11="","",組み分け!B11) -> 愛知ＦＣ一宮Ａ | C12: =IF(OR(D12="",F12=""),"",IF(D12=F12,"△",IF(D12>F12,"○",IF(D12<F12,"●","")))) -> ○ | D12: =IF(AD6="","",AD6) -> 2 | E12: - | F12: =IF(AB6="","",AB6) -> 0 | G12: =IF(OR(H12="",J12=""),"",IF(H12=J12,"△",IF(H12>J12,"○",IF(H12<J12,"●","")))) -> ● | H12: =IF(AD7="","",AD7) -> 0 | I12: - | J12: =IF(AB7="","",AB7) -> 1 | K12: =IF(OR(L12="",N12=""),"",IF(L12=N12,"△",IF(L12>N12,"○",IF(L12<N12,"●","")))) -> ● | L12: =IF(AD8="","",AD8) -> 1 | M12: - | N12: =IF(AB8="","",AB8) -> 2 | O12: =IF(OR(P12="",R12=""),"",IF(P12=R12,"△",IF(P12>R12,"○",IF(P12<R12,"●","")))) -> ● | P12: =IF(AD9="","",AD9) -> 0 | Q12: - | R12: =IF(AB9="","",AB9) -> 3 | S12: =IF(OR(T12="",V12=""),"",IF(T12=V12,"△",IF(T12>V12,"○",IF(T12<V12,"●","")))) -> ○ | T12: =IF(AD10="","",AD10) -> 2 | U12: - | V12: =IF(AB10="","",AB10) -> 0 | W12: =IF(OR(X12="",Z12=""),"",IF(X12=Z12,"△",IF(X12>Z12,"○",IF(X12<Z12,"●","")))) -> ○ | X12: =IF(AD11="","",AD11) -> 4 | Y12: - | Z12: =IF(AB11="","",AB11) -> 1 | AE12: ○ | AF12: 3 | AG12: - | AH12: 0 | AI12: ○ | AJ12: 3 | AK12: - | AL12: 1 | AM12: 〇 | AN12: 5 | AO12: - | AP12: 0 | AQ12: ○ | AR12: 5 | AS12: - | AT12: 1 | AU12: ○ | AV12: 2 | AW12: - | AX12: 0 | AY12: 8 | AZ12: =COUNTIF(C12:AX12,"●") -> 3 | BA12: =COUNTIF(C12:AX12,"△") -> 0 | BB12: =SUM(3*AY12,0*AZ12,1*BA12) -> 24 | BC12: =SUM(P12,T12,X12,AB12,AF12,AJ12,AN12,AR12,AV12,L12,H12,D12) -> 27 | BD12: =SUM(R12,V12,Z12,AD12,AH12,AL12,AP12,AT12,AX12,N12,J12,F12) -> 9 | BE12: =BC12-BD12 -> 18 | BF12: =BB12+(BE12/100)+(BC12/100000) -> 24.18027 | BG12: =_xlfn.RANK.EQ(BF12,BF$6:BF$17,0) -> 2
A13: 8 | B13: =IF(組み分け!B12="","",組み分け!B12) -> 一宮ＦＣ Ａ | C13: =IF(OR(D13="",F13=""),"",IF(D13=F13,"△",IF(D13>F13,"○",IF(D13<F13,"●","")))) -> ● | D13: =IF(AH6="","",AH6) -> 2 | E13: - | F13: =IF(AF6="","",AF6) -> 5 | G13: =IF(OR(H13="",J13=""),"",IF(H13=J13,"△",IF(H13>J13,"○",IF(H13<J13,"●","")))) -> ● | H13: =IF(AH7="","",AH7) -> 1 | I13: - | J13: =IF(AF7="","",AF7) -> 4 | K13: =IF(OR(L13="",N13=""),"",IF(L13=N13,"△",IF(L13>N13,"○",IF(L13<N13,"●","")))) -> ● | L13: =IF(AH8="","",AH8) -> 2 | M13: - | N13: =IF(AF8="","",AF8) -> 6 | O13: =IF(OR(P13="",R13=""),"",IF(P13=R13,"△",IF(P13>R13,"○",IF(P13<R13,"●","")))) -> ● | P13: =IF(AH9="","",AH9) -> 0 | Q13: - | R13: =IF(AF9="","",AF9) -> 3 | S13: =IF(OR(T13="",V13=""),"",IF(T13=V13,"△",IF(T13>V13,"○",IF(T13<V13,"●","")))) -> ● | T13: =IF(AH10="","",AH10) -> 1 | U13: - | V13: =IF(AF10="","",AF10) -> 3 | W13: =IF(OR(X13="",Z13=""),"",IF(X13=Z13,"△",IF(X13>Z13,"○",IF(X13<Z13,"●","")))) -> ● | X13: =IF(AH11="","",AH11) -> 0 | Y13: - | Z13: =IF(AF11="","",AF11) -> 4 | AA13: =IF(OR(AB13="",AD13=""),"",IF(AB13=AD13,"△",IF(AB13>AD13,"○",IF(AB13<AD13,"●","")))) -> ● | AB13: =IF(AH12="","",AH12) -> 0 | AC13: - | AD13: =IF(AF12="","",AF12) -> 3 | AI13: ● | AJ13: 1 | AK13: - | AL13: 2 | AM13: 〇 | AN13: 2 | AO13: - | AP13: 1 | AQ13: ○ | AR13: 1 | AS13: - | AT13: 0 | AU13: ● | AV13: 0 | AW13: - | AX13: 4 | AY13: 2 | AZ13: =COUNTIF(C13:AX13,"●") -> 9 | BA13: =COUNTIF(C13:AX13,"△") -> 0 | BB13: =SUM(3*AY13,0*AZ13,1*BA13) -> 6 | BC13: =SUM(P13,T13,X13,AB13,AF13,AJ13,AN13,AR13,AV13,L13,H13,D13) -> 10 | BD13: =SUM(R13,V13,Z13,AD13,AH13,AL13,AP13,AT13,AX13,N13,J13,F13) -> 35 | BE13: =BC13-BD13 -> -25 | BF13: =BB13+(BE13/100)+(BC13/100000) -> 5.7501 | BG13: =_xlfn.RANK.EQ(BF13,BF$6:BF$17,0) -> 10
A14: 9 | B14: =IF(組み分け!B13="","",組み分け!B13) -> アクアＪＦＣ愛西 | C14: =IF(OR(D14="",F14=""),"",IF(D14=F14,"△",IF(D14>F14,"○",IF(D14<F14,"●","")))) -> ○ | D14: =IF(AL6="","",AL6) -> 2 | E14: - | F14: =IF(AJ6="","",AJ6) -> 1 | G14: =IF(OR(H14="",J14=""),"",IF(H14=J14,"△",IF(H14>J14,"○",IF(H14<J14,"●","")))) -> △ | H14: =IF(AL7="","",AL7) -> 1 | I14: - | J14: =IF(AJ7="","",AJ7) -> 1 | K14: =IF(OR(L14="",N14=""),"",IF(L14=N14,"△",IF(L14>N14,"○",IF(L14<N14,"●","")))) -> ● | L14: =IF(AL8="","",AL8) -> 0 | M14: - | N14: =IF(AJ8="","",AJ8) -> 9 | O14: =IF(OR(P14="",R14=""),"",IF(P14=R14,"△",IF(P14>R14,"○",IF(P14<R14,"●","")))) -> ● | P14: =IF(AL9="","",AL9) -> 1 | Q14: - | R14: =IF(AJ9="","",AJ9) -> 3 | S14: =IF(OR(T14="",V14=""),"",IF(T14=V14,"△",IF(T14>V14,"○",IF(T14<V14,"●","")))) -> ○ | T14: =IF(AL10="","",AL10) -> 2 | U14: - | V14: =IF(AJ10="","",AJ10) -> 0 | W14: =IF(OR(X14="",Z14=""),"",IF(X14=Z14,"△",IF(X14>Z14,"○",IF(X14<Z14,"●","")))) -> ● | X14: =IF(AL11="","",AL11) -> 1 | Y14: - | Z14: =IF(AJ11="","",AJ11) -> 2 | AA14: =IF(OR(AB14="",AD14=""),"",IF(AB14=AD14,"△",IF(AB14>AD14,"○",IF(AB14<AD14,"●","")))) -> ● | AB14: =IF(AL12="","",AL12) -> 1 | AC14: - | AD14: =IF(AJ12="","",AJ12) -> 3 | AE14: =IF(OR(AF14="",AH14=""),"",IF(AF14=AH14,"△",IF(AF14>AH14,"○",IF(AF14<AH14,"●","")))) -> ○ | AF14: =IF(AL13="","",AL13) -> 2 | AG14: - | AH14: =IF(AJ13="","",AJ13) -> 1 | AM14: ● | AN14: 2 | AO14: - | AP14: 3 | AQ14: ○ | AR14: 7 | AS14: - | AT14: 1 | AU14: 〇 | AV14: 2 | AW14: - | AX14: 0 | AY14: 5 | AZ14: =COUNTIF(C14:AX14,"●") -> 5 | BA14: =COUNTIF(C14:AX14,"△") -> 1 | BB14: =SUM(3*AY14,0*AZ14,1*BA14) -> 16 | BC14: =SUM(P14,T14,X14,AB14,AF14,AJ14,AN14,AR14,AV14,L14,H14,D14) -> 21 | BD14: =SUM(R14,V14,Z14,AD14,AH14,AL14,AP14,AT14,AX14,N14,J14,F14) -> 24 | BE14: =BC14-BD14 -> -3 | BF14: =BB14+(BE14/100)+(BC14/100000) -> 15.97021 | BG14: =_xlfn.RANK.EQ(BF14,BF$6:BF$17,0) -> 7
A15: 10 | B15: =IF(組み分け!B14="","",組み分け!B14) -> ドルフィンＦＣ Ａ | C15: =IF(OR(D15="",F15=""),"",IF(D15=F15,"△",IF(D15>F15,"○",IF(D15<F15,"●","")))) -> ● | D15: =IF(AP6="","",AP6) -> 0 | E15: - | F15: =IF(AN6="","",AN6) -> 4 | G15: =IF(OR(H15="",J15=""),"",IF(H15=J15,"△",IF(H15>J15,"○",IF(H15<J15,"●","")))) -> ● | H15: =IF(AP7="","",AP7) -> 2 | I15: - | J15: =IF(AN7="","",AN7) -> 3 | K15: =IF(OR(L15="",N15=""),"",IF(L15=N15,"△",IF(L15>N15,"○",IF(L15<N15,"●","")))) -> ● | L15: =IF(AP8="","",AP8) -> 1 | M15: - | N15: =IF(AN8="","",AN8) -> 4 | O15: =IF(OR(P15="",R15=""),"",IF(P15=R15,"△",IF(P15>R15,"○",IF(P15<R15,"●","")))) -> ● | P15: =IF(AP9="","",AP9) -> 0 | Q15: - | R15: =IF(AN9="","",AN9) -> 3 | S15: =IF(OR(T15="",V15=""),"",IF(T15=V15,"△",IF(T15>V15,"○",IF(T15<V15,"●","")))) -> ● | T15: =IF(AP10="","",AP10) -> 0 | U15: - | V15: =IF(AN10="","",AN10) -> 2 | W15: =IF(OR(X15="",Z15=""),"",IF(X15=Z15,"△",IF(X15>Z15,"○",IF(X15<Z15,"●","")))) -> ● | X15: =IF(AP11="","",AP11) -> 0 | Y15: - | Z15: =IF(AN11="","",AN11) -> 2 | AA15: =IF(OR(AB15="",AD15=""),"",IF(AB15=AD15,"△",IF(AB15>AD15,"○",IF(AB15<AD15,"●","")))) -> ● | AB15: =IF(AP12="","",AP12) -> 0 | AC15: - | AD15: =IF(AN12="","",AN12) -> 5 | AE15: =IF(OR(AF15="",AH15=""),"",IF(AF15=AH15,"△",IF(AF15>AH15,"○",IF(AF15<AH15,"●","")))) -> ● | AF15: =IF(AP13="","",AP13) -> 1 | AG15: - | AH15: =IF(AN13="","",AN13) -> 2 | AI15: =IF(OR(AJ15="",AL15=""),"",IF(AJ15=AL15,"△",IF(AJ15>AL15,"○",IF(AJ15<AL15,"●","")))) -> ○ | AJ15: =IF(AP14="","",AP14) -> 3 | AK15: - | AL15: =IF(AN14="","",AN14) -> 2 | AQ15: △ | AR15: 0 | AS15: - | AT15: 0 | AU15: ○ | AV15: 1 | AW15: - | AX15: 0 | AY15: =COUNTIF(C15:AX15,"○") -> 2 | AZ15: =COUNTIF(C15:AX15,"●") -> 8 | BA15: =COUNTIF(C15:AX15,"△") -> 1 | BB15: =SUM(3*AY15,0*AZ15,1*BA15) -> 7 | BC15: =SUM(P15,T15,X15,AB15,AF15,AJ15,AN15,AR15,AV15,L15,H15,D15) -> 8 | BD15: =SUM(R15,V15,Z15,AD15,AH15,AL15,AP15,AT15,AX15,N15,J15,F15) -> 27 | BE15: =BC15-BD15 -> -19 | BF15: =BB15+(BE15/100)+(BC15/100000) -> 6.81008 | BG15: =_xlfn.RANK.EQ(BF15,BF$6:BF$17,0) -> 9
A16: 11 | B16: =IF(組み分け!B15="","",組み分け!B15) -> エルニーニョ美和 | C16: =IF(OR(D16="",F16=""),"",IF(D16=F16,"△",IF(D16>F16,"○",IF(D16<F16,"●","")))) -> ● | D16: =IF(AT6="","",AT6) -> 1 | E16: - | F16: =IF(AR6="","",AR6) -> 5 | G16: =IF(OR(H16="",J16=""),"",IF(H16=J16,"△",IF(H16>J16,"○",IF(H16<J16,"●","")))) -> ● | H16: =IF(AT7="","",AT7) -> 0 | I16: - | J16: =IF(AR7="","",AR7) -> 5 | K16: =IF(OR(L16="",N16=""),"",IF(L16=N16,"△",IF(L16>N16,"○",IF(L16<N16,"●","")))) -> ● | L16: =IF(AT8="","",AT8) -> 1 | M16: - | N16: =IF(AR8="","",AR8) -> 4 | O16: =IF(OR(P16="",R16=""),"",IF(P16=R16,"△",IF(P16>R16,"○",IF(P16<R16,"●","")))) -> ● | P16: =IF(AT9="","",AT9) -> 0 | Q16: - | R16: =IF(AR9="","",AR9) -> 5 | S16: =IF(OR(T16="",V16=""),"",IF(T16=V16,"△",IF(T16>V16,"○",IF(T16<V16,"●","")))) -> ● | T16: =IF(AT10="","",AT10) -> 1 | U16: - | V16: =IF(AR10="","",AR10) -> 4 | W16: =IF(OR(X16="",Z16=""),"",IF(X16=Z16,"△",IF(X16>Z16,"○",IF(X16<Z16,"●","")))) -> ● | X16: =IF(AT11="","",AT11) -> 0 | Y16: - | Z16: =IF(AR11="","",AR11) -> 1 | AA16: =IF(OR(AB16="",AD16=""),"",IF(AB16=AD16,"△",IF(AB16>AD16,"○",IF(AB16<AD16,"●","")))) -> ● | AB16: =IF(AT12="","",AT12) -> 1 | AC16: - | AD16: =IF(AR12="","",AR12) -> 5 | AE16: =IF(OR(AF16="",AH16=""),"",IF(AF16=AH16,"△",IF(AF16>AH16,"○",IF(AF16<AH16,"●","")))) -> ● | AF16: =IF(AT13="","",AT13) -> 0 | AG16: - | AH16: =IF(AR13="","",AR13) -> 1 | AI16: =IF(OR(AJ16="",AL16=""),"",IF(AJ16=AL16,"△",IF(AJ16>AL16,"○",IF(AJ16<AL16,"●","")))) -> ● | AJ16: =IF(AT14="","",AT14) -> 1 | AK16: - | AL16: =IF(AR14="","",AR14) -> 7 | AM16: =IF(OR(AN16="",AP16=""),"",IF(AN16=AP16,"△",IF(AN16>AP16,"○",IF(AN16<AP16,"●","")))) -> △ | AN16: =IF(AT15="","",AT15) -> 0 | AO16: - | AP16: =IF(AR15="","",AR15) -> 0 | AU16: ○ | AV16: 2 | AW16: - | AX16: 0 | AY16: =COUNTIF(C16:AX16,"○") -> 1 | AZ16: =COUNTIF(C16:AX16,"●") -> 9 | BA16: =COUNTIF(C16:AX16,"△") -> 1 | BB16: =SUM(3*AY16,0*AZ16,1*BA16) -> 4 | BC16: =SUM(P16,T16,X16,AB16,AF16,AJ16,AN16,AR16,AV16,L16,H16,D16) -> 7 | BD16: =SUM(R16,V16,Z16,AD16,AH16,AL16,AP16,AT16,AX16,N16,J16,F16) -> 37 | BE16: =BC16-BD16 -> -30 | BF16: =BB16+(BE16/100)+(BC16/100000) -> 3.70007 | BG16: =_xlfn.RANK.EQ(BF16,BF$6:BF$17,0) -> 12
A17: 12 | B17: =IF(組み分け!B16="","",組み分け!B16) -> ＦＣ市江 | C17: =IF(OR(D17="",F17=""),"",IF(D17=F17,"△",IF(D17>F17,"○",IF(D17<F17,"●","")))) -> △ | D17: =IF(AX6="","",AX6) -> 1 | E17: - | F17: =IF(AV6="","",AV6) -> 1 | G17: =IF(OR(H17="",J17=""),"",IF(H17=J17,"△",IF(H17>J17,"○",IF(H17<J17,"●","")))) -> ● | H17: =IF(AX7="","",AX7) -> 0 | I17: - | J17: =IF(AV7="","",AV7) -> 2 | K17: =IF(OR(L17="",N17=""),"",IF(L17=N17,"△",IF(L17>N17,"○",IF(L17<N17,"●","")))) -> ● | L17: =IF(AX8="","",AX8) -> 0 | M17: - | N17: =IF(AV8="","",AV8) -> 8 | O17: =IF(OR(P17="",R17=""),"",IF(P17=R17,"△",IF(P17>R17,"○",IF(P17<R17,"●","")))) -> ● | P17: =IF(AX9="","",AX9) -> 0 | Q17: - | R17: =IF(AV9="","",AV9) -> 3 | S17: =IF(OR(T17="",V17=""),"",IF(T17=V17,"△",IF(T17>V17,"○",IF(T17<V17,"●","")))) -> ● | T17: =IF(AX10="","",AX10) -> 0 | U17: - | V17: =IF(AV10="","",AV10) -> 2 | W17: =IF(OR(X17="",Z17=""),"",IF(X17=Z17,"△",IF(X17>Z17,"○",IF(X17<Z17,"●","")))) -> ● | X17: =IF(AX11="","",AX11) -> 0 | Y17: - | Z17: =IF(AV11="","",AV11) -> 1 | AA17: =IF(OR(AB17="",AD17=""),"",IF(AB17=AD17,"△",IF(AB17>AD17,"○",IF(AB17<AD17,"●","")))) -> ● | AB17: =IF(AX12="","",AX12) -> 0 | AC17: - | AD17: =IF(AV12="","",AV12) -> 2 | AE17: =IF(OR(AF17="",AH17=""),"",IF(AF17=AH17,"△",IF(AF17>AH17,"○",IF(AF17<AH17,"●","")))) -> ○ | AF17: =IF(AX13="","",AX13) -> 4 | AG17: - | AH17: =IF(AV13="","",AV13) -> 0 | AI17: =IF(OR(AJ17="",AL17=""),"",IF(AJ17=AL17,"△",IF(AJ17>AL17,"○",IF(AJ17<AL17,"●","")))) -> ● | AJ17: =IF(AX14="","",AX14) -> 0 | AK17: - | AL17: =IF(AV14="","",AV14) -> 2 | AM17: =IF(OR(AN17="",AP17=""),"",IF(AN17=AP17,"△",IF(AN17>AP17,"○",IF(AN17<AP17,"●","")))) -> ● | AN17: =IF(AX15="","",AX15) -> 0 | AO17: - | AP17: =IF(AV15="","",AV15) -> 1 | AQ17: =IF(OR(AR17="",AT17=""),"",IF(AR17=AT17,"△",IF(AR17>AT17,"○",IF(AR17<AT17,"●","")))) -> ● | AR17: =IF(AX16="","",AX16) -> 0 | AS17: - | AT17: =IF(AV16="","",AV16) -> 2 | AY17: =COUNTIF(C17:AX17,"○") -> 1 | AZ17: =COUNTIF(C17:AX17,"●") -> 9 | BA17: =COUNTIF(C17:AX17,"△") -> 1 | BB17: =SUM(3*AY17,0*AZ17,1*BA17) -> 4 | BC17: =SUM(P17,T17,X17,AB17,AF17,AJ17,AN17,AR17,AV17,L17,H17,D17) -> 5 | BD17: =SUM(R17,V17,Z17,AD17,AH17,AL17,AP17,AT17,AX17,N17,J17,F17) -> 24 | BE17: =BC17-BD17 -> -19 | BF17: =BB17+(BE17/100)+(BC17/100000) -> 3.81005 | BG17: =_xlfn.RANK.EQ(BF17,BF$6:BF$17,0) -> 11
B19: 【２部 Ａブロック】 | AD19: 13日
A20: ２部Ａブロック | D20: =IF(A22="","",A22) -> 13 | H20: =IF(A23="","",A23) -> 14 | L20: =IF(A24="","",A24) -> 15 | P20: =IF(A25="","",A25) -> 16 | T20: =IF(A26="","",A26) -> 17 | X20: =IF(A27="","",A27) -> 18 | AB20: =IF(A28="","",A28) -> 19 | AF20: =IF(A29="","",A29) -> 20 | AJ20: =IF(A30="","",A30) -> 21 | AN20: =IF(A31="","",A31) -> 22 | AR20: =IF(A32="","",A32) -> 23 | AV20: =IF(A33="","",A33) -> 24 | AY20: 勝 | AZ20: 負 | BA20: 分 | BB20: 勝点 | BC20: 得点 | BD20: 失点 | BE20: 得失 | BF20: 集計 | BG20: 順位
C21: =IF(B22="","",B22) -> F.C KONAN | G21: =IF(B23="","",B23) -> ＦＣ ｇｏｌａｚｏｇｏｌ一宮 | K21: =IF(B24="","",B24) -> モノリスFC | O21: =IF(B25="","",B25) -> 尾張FC B | S21: =IF(B26="","",B26) -> 一宮FC B | W21: =IF(B27="","",B27) -> Livent | AA21: =IF(B28="","",B28) -> 尾西SS | AE21: =IF(B29="","",B29) -> ドルフィンFC B | AI21: =IF(B30="","",B30) -> 岩倉FCフォルテ | AM21: =IF(B31="","",B31) -> 犬山クラブ B | AQ21: =IF(B32="","",B32) -> 祖父江少年SC | AU21: =IF(B33="","",B33) -> 扶桑FC
A22: 13 | B22: =IF([1]組み分け!B22="","",[1]組み分け!B22) -> F.C KONAN | G22: △ | H22: 1 | I22: - | J22: 1 | M22: - | O22: ● | P22: 1 | Q22: - | R22: 3 | S22: ● | T22: 0 | U22: - | V22: 1 | W22: 〇 | X22: 5 | Y22: - | Z22: 1 | AA22: 〇 | AB22: 2 | AC22: - | AD22: 1 | AE22: △ | AF22: 1 | AG22: - | AH22: 1 | AI22: ● | AJ22: 2 | AK22: - | AL22: 3 | AM22: 〇 | AN22: 4 | AO22: - | AP22: 2 | AQ22: ● | AR22: 1 | AS22: - | AT22: 3 | AU22: ● | AV22: 2 | AW22: - | AX22: 4 | AY22: 3 | AZ22: =COUNTIF(C22:AX22,"●") -> 5 | BA22: =COUNTIF(C22:AX22,"△") -> 2 | BB22: =SUM(3*AY22,0*AZ22,1*BA22) -> 11 | BC22: =SUM(P22,T22,X22,AB22,AF22,AJ22,AN22,AR22,AV22,L22,H22,D22) -> 19 | BD22: =SUM(R22,V22,Z22,AD22,AH22,AL22,AP22,AT22,AX22,N22,J22,F22) -> 20 | BE22: =BC22-BD22 -> -1 | BF22: =BB22+(BE22/100)+(BC22/100000) -> 10.99019 | BG22: =_xlfn.RANK.EQ(BF22,BF$22:BF$33,0) -> 8
A23: 14 | B23: =IF([1]組み分け!B23="","",[1]組み分け!B23) -> ＦＣ ｇｏｌａｚｏｇｏｌ一宮 | C23: △ | D23: 1 | E23: - | F23: 1 | K23: =IF(OR(L23="",N23=""),"",IF(L23=N23,"△",IF(L23>N23,"○",IF(L23<N23,"●","")))) | M23: - | O23: 〇 | P23: 1 | Q23: - | R23: 0 | S23: 〇 | T23: 7 | U23: - | V23: 1 | W23: 〇 | X23: 3 | Y23: - | Z23: 0 | AA23: 〇 | AB23: 6 | AC23: - | AD23: 0 | AE23: 〇 | AF23: 5 | AG23: - | AH23: 0 | AI23: =IF(OR(AJ23="",AL23=""),"",IF(AJ23=AL23,"△",IF(AJ23>AL23,"○",IF(AJ23<AL23,"●","")))) -> ○ | AJ23: 3 | AK23: - | AL23: 1 | AM23: 〇 | AN23: 3 | AO23: - | AP23: 0 | AQ23: 〇 | AR23: 3 | AS23: - | AT23: 0 | AU23: ● | AV23: 1 | AW23: - | AX23: 2 | AY23: 7 | AZ23: =COUNTIF(C23:AX23,"●") -> 1 | BA23: =COUNTIF(C23:AX23,"△") -> 1 | BB23: =SUM(3*AY23,0*AZ23,1*BA23) -> 22 | BC23: =SUM(P23,T23,X23,AB23,AF23,AJ23,AN23,AR23,AV23,L23,H23,D23) -> 33 | BD23: =SUM(R23,V23,Z23,AD23,AH23,AL23,AP23,AT23,AX23,N23,J23,F23) -> 5 | BE23: =BC23-BD23 -> 28 | BF23: =BB23+(BE23/100)+(BC23/100000) -> 22.28033 | BG23: =_xlfn.RANK.EQ(BF23,BF$22:BF$33,0) -> 1
A24: 15 | B24: =IF([1]組み分け!B24="","",[1]組み分け!B24) -> モノリスFC | C24: =IF(OR(D24="",F24=""),"",IF(D24=F24,"△",IF(D24>F24,"○",IF(D24<F24,"●","")))) | D24: =IF(N22="","",N22) | E24: - | F24: =IF(L22="","",L22) | G24: =IF(OR(H24="",J24=""),"",IF(H24=J24,"△",IF(H24>J24,"○",IF(H24<J24,"●","")))) | H24: =IF(N23="","",N23) | I24: - | J24: =IF(L23="","",L23) | O24: =IF(OR(P24="",R24=""),"",IF(P24=R24,"△",IF(P24>R24,"○",IF(P24<R24,"●","")))) | Q24: - | S24: =IF(OR(T24="",V24=""),"",IF(T24=V24,"△",IF(T24>V24,"○",IF(T24<V24,"●","")))) | U24: - | W24: =IF(OR(X24="",Z24=""),"",IF(X24=Z24,"△",IF(X24>Z24,"○",IF(X24<Z24,"●","")))) | Y24: - | AA24: =IF(OR(AB24="",AD24=""),"",IF(AB24=AD24,"△",IF(AB24>AD24,"○",IF(AB24<AD24,"●","")))) | AC24: - | AE24: =IF(OR(AF24="",AH24=""),"",IF(AF24=AH24,"△",IF(AF24>AH24,"○",IF(AF24<AH24,"●","")))) | AG24: - | AI24: =IF(OR(AJ24="",AL24=""),"",IF(AJ24=AL24,"△",IF(AJ24>AL24,"○",IF(AJ24<AL24,"●","")))) | AK24: - | AM24: =IF(OR(AN24="",AP24=""),"",IF(AN24=AP24,"△",IF(AN24>AP24,"○",IF(AN24<AP24,"●","")))) | AO24: - | AQ24: =IF(OR(AR24="",AT24=""),"",IF(AR24=AT24,"△",IF(AR24>AT24,"○",IF(AR24<AT24,"●","")))) | AS24: - | AW24: - | AY24: 0 | AZ24: =COUNTIF(C24:AX24,"●") -> 0 | BA24: =COUNTIF(C24:AX24,"△") -> 0 | BB24: =SUM(3*AY24,0*AZ24,1*BA24) -> 0 | BC24: =SUM(P24,T24,X24,AB24,AF24,AJ24,AN24,AR24,AV24,L24,H24,D24) -> 0 | BD24: =SUM(R24,V24,Z24,AD24,AH24,AL24,AP24,AT24,AX24,N24,J24,F24) -> 0 | BE24: =BC24-BD24 -> 0 | BF24: =BB24+(BE24/100)+(BC24/100000) -> 0 | BG24: =_xlfn.RANK.EQ(BF24,BF$22:BF$33,0) -> 12
A25: 16 | B25: =IF([1]組み分け!B25="","",[1]組み分け!B25) -> 尾張FC B | C25: =IF(OR(D25="",F25=""),"",IF(D25=F25,"△",IF(D25>F25,"○",IF(D25<F25,"●","")))) -> ○ | D25: =IF(R22="","",R22) -> 3 | E25: - | F25: =IF(P22="","",P22) -> 1 | G25: =IF(OR(H25="",J25=""),"",IF(H25=J25,"△",IF(H25>J25,"○",IF(H25<J25,"●","")))) -> ● | H25: =IF(R23="","",R23) -> 0 | I25: - | J25: =IF(P23="","",P23) -> 1 | K25: =IF(OR(L25="",N25=""),"",IF(L25=N25,"△",IF(L25>N25,"○",IF(L25<N25,"●","")))) | L25: =IF(R24="","",R24) | M25: - | N25: =IF(P24="","",P24) | S25: 〇 | T25: 2 | U25: - | V25: 0 | W25: 〇 | X25: 5 | Y25: - | Z25: 0 | AA25: ● | AB25: 2 | AC25: - | AD25: 3 | AE25: 〇 | AF25: 3 | AG25: - | AH25: 0 | AI25: △ | AJ25: 2 | AK25: - | AL25: 2 | AM25: 〇 | AN25: 3 | AO25: - | AP25: 1 | AQ25: △ | AR25: 1 | AS25: - | AT25: 1 | AU25: 〇 | AV25: 2 | AW25: - | AX25: 0 | AY25: 6 | AZ25: =COUNTIF(C25:AX25,"●") -> 2 | BA25: =COUNTIF(C25:AX25,"△") -> 2 | BB25: =SUM(3*AY25,0*AZ25,1*BA25) -> 20 | BC25: =SUM(P25,T25,X25,AB25,AF25,AJ25,AN25,AR25,AV25,L25,H25,D25) -> 23 | BD25: =SUM(R25,V25,Z25,AD25,AH25,AL25,AP25,AT25,AX25,N25,J25,F25) -> 9 | BE25: =BC25-BD25 -> 14 | BF25: =BB25+(BE25/100)+(BC25/100000) -> 20.14023 | BG25: =_xlfn.RANK.EQ(BF25,BF$22:BF$33,0) -> 2
A26: 17 | B26: =IF([1]組み分け!B26="","",[1]組み分け!B26) -> 一宮FC B | C26: 〇 | D26: 1 | E26: - | F26: 0 | G26: =IF(OR(H26="",J26=""),"",IF(H26=J26,"△",IF(H26>J26,"○",IF(H26<J26,"●","")))) -> ● | H26: =IF(V23="","",V23) -> 1 | I26: - | J26: =IF(T23="","",T23) -> 7 | K26: =IF(OR(L26="",N26=""),"",IF(L26=N26,"△",IF(L26>N26,"○",IF(L26<N26,"●","")))) | L26: =IF(V24="","",V24) | M26: - | N26: =IF(T24="","",T24) | O26: =IF(OR(P26="",R26=""),"",IF(P26=R26,"△",IF(P26>R26,"○",IF(P26<R26,"●","")))) -> ● | P26: =IF(V25="","",V25) -> 0 | Q26: - | R26: =IF(T25="","",T25) -> 2 | W26: 〇 | X26: 2 | Y26: - | Z26: 0 | AA26: 〇 | AB26: 3 | AC26: - | AD26: 0 | AE26: =IF(OR(AF26="",AH26=""),"",IF(AF26=AH26,"△",IF(AF26>AH26,"○",IF(AF26<AH26,"●","")))) -> ○ | AF26: 1 | AG26: - | AH26: 0 | AI26: ● | AJ26: 0 | AK26: - | AL26: 1 | AM26: 〇 | AN26: 3 | AO26: - | AP26: 1 | AQ26: 〇 | AR26: 1 | AS26: - | AT26: 0 | AU26: ● | AV26: 0 | AW26: - | AX26: 4 | AY26: 5 | AZ26: =COUNTIF(C26:AX26,"●") -> 4 | BA26: =COUNTIF(C26:AX26,"△") -> 0 | BB26: =SUM(3*AY26,0*AZ26,1*BA26) -> 15 | BC26: =SUM(P26,T26,X26,AB26,AF26,AJ26,AN26,AR26,AV26,L26,H26,D26) -> 12 | BD26: =SUM(R26,V26,Z26,AD26,AH26,AL26,AP26,AT26,AX26,N26,J26,F26) -> 15 | BE26: =BC26-BD26 -> -3 | BF26: =BB26+(BE26/100)+(BC26/100000) -> 14.97012 | BG26: =_xlfn.RANK.EQ(BF26,BF$22:BF$33,0) -> 5
A27: 18 | B27: =IF([1]組み分け!B27="","",[1]組み分け!B27) -> Livent | C27: =IF(OR(D27="",F27=""),"",IF(D27=F27,"△",IF(D27>F27,"○",IF(D27<F27,"●","")))) -> ● | D27: =IF(Z22="","",Z22) -> 1 | E27: - | F27: =IF(X22="","",X22) -> 5 | G27: =IF(OR(H27="",J27=""),"",IF(H27=J27,"△",IF(H27>J27,"○",IF(H27<J27,"●","")))) -> ● | H27: =IF(Z23="","",Z23) -> 0 | I27: - | J27: =IF(X23="","",X23) -> 3 | K27: =IF(OR(L27="",N27=""),"",IF(L27=N27,"△",IF(L27>N27,"○",IF(L27<N27,"●","")))) | L27: =IF(Z24="","",Z24) | M27: - | N27: =IF(X24="","",X24) | O27: =IF(OR(P27="",R27=""),"",IF(P27=R27,"△",IF(P27>R27,"○",IF(P27<R27,"●","")))) -> ● | P27: =IF(Z25="","",Z25) -> 0 | Q27: - | R27: =IF(X25="","",X25) -> 5 | S27: =IF(OR(T27="",V27=""),"",IF(T27=V27,"△",IF(T27>V27,"○",IF(T27<V27,"●","")))) -> ● | T27: =IF(Z26="","",Z26) -> 0 | U27: - | V27: =IF(X26="","",X26) -> 2 | AA27: ● | AB27: 1 | AC27: - | AD27: 4 | AE27: 〇 | AF27: 3 | AG27: - | AH27: 1 | AI27: ● | AJ27: 0 | AK27: - | AL27: 2 | AM27: △ | AN27: 1 | AO27: - | AP27: 1 | AQ27: ● | AR27: 2 | AS27: - | AT27: 3 | AU27: ● | AV27: 0 | AW27: - | AX27: 5 | AY27: 1 | AZ27: =COUNTIF(C27:AX27,"●") -> 8 | BA27: =COUNTIF(C27:AX27,"△") -> 1 | BB27: =SUM(3*AY27,0*AZ27,1*BA27) -> 4 | BC27: =SUM(P27,T27,X27,AB27,AF27,AJ27,AN27,AR27,AV27,L27,H27,D27) -> 8 | BD27: =SUM(R27,V27,Z27,AD27,AH27,AL27,AP27,AT27,AX27,N27,J27,F27) -> 31 | BE27: =BC27-BD27 -> -23 | BF27: =BB27+(BE27/100)+(BC27/100000) -> 3.77008 | BG27: =_xlfn.RANK.EQ(BF27,BF$22:BF$33,0) -> 11
A28: 19 | B28: =IF([1]組み分け!B28="","",[1]組み分け!B28) -> 尾西SS | C28: =IF(OR(D28="",F28=""),"",IF(D28=F28,"△",IF(D28>F28,"○",IF(D28<F28,"●","")))) -> ● | D28: =IF(AD22="","",AD22) -> 1 | E28: - | F28: =IF(AB22="","",AB22) -> 2 | G28: =IF(OR(H28="",J28=""),"",IF(H28=J28,"△",IF(H28>J28,"○",IF(H28<J28,"●","")))) -> ● | H28: =IF(AD23="","",AD23) -> 0 | I28: - | J28: =IF(AB23="","",AB23) -> 6 | K28: =IF(OR(L28="",N28=""),"",IF(L28=N28,"△",IF(L28>N28,"○",IF(L28<N28,"●","")))) | L28: =IF(AD24="","",AD24) | M28: - | N28: =IF(AB24="","",AB24) | O28: =IF(OR(P28="",R28=""),"",IF(P28=R28,"△",IF(P28>R28,"○",IF(P28<R28,"●","")))) -> ○ | P28: =IF(AD25="","",AD25) -> 3 | Q28: - | R28: =IF(AB25="","",AB25) -> 2 | S28: =IF(OR(T28="",V28=""),"",IF(T28=V28,"△",IF(T28>V28,"○",IF(T28<V28,"●","")))) -> ● | T28: =IF(AD26="","",AD26) -> 0 | U28: - | V28: =IF(AB26="","",AB26) -> 3 | W28: =IF(OR(X28="",Z28=""),"",IF(X28=Z28,"△",IF(X28>Z28,"○",IF(X28<Z28,"●","")))) -> ○ | X28: =IF(AD27="","",AD27) -> 4 | Y28: - | Z28: =IF(AB27="","",AB27) -> 1 | AE28: 〇 | AF28: 2 | AG28: - | AH28: 1 | AI28: 〇 | AJ28: 2 | AK28: - | AL28: 1 | AM28: 〇 | AN28: 4 | AO28: - | AP28: 1 | AQ28: ● | AR28: 1 | AS28: - | AT28: 2 | AU28: △ | AV28: 1 | AW28: - | AX28: 1 | AY28: 5 | AZ28: =COUNTIF(C28:AX28,"●") -> 4 | BA28: =COUNTIF(C28:AX28,"△") -> 1 | BB28: =SUM(3*AY28,0*AZ28,1*BA28) -> 16 | BC28: =SUM(P28,T28,X28,AB28,AF28,AJ28,AN28,AR28,AV28,L28,H28,D28) -> 18 | BD28: =SUM(R28,V28,Z28,AD28,AH28,AL28,AP28,AT28,AX28,N28,J28,F28) -> 20 | BE28: =BC28-BD28 -> -2 | BF28: =BB28+(BE28/100)+(BC28/100000) -> 15.98018 | BG28: =_xlfn.RANK.EQ(BF28,BF$22:BF$33,0) -> 4
A29: 20 | B29: =IF([1]組み分け!B29="","",[1]組み分け!B29) -> ドルフィンFC B | C29: =IF(OR(D29="",F29=""),"",IF(D29=F29,"△",IF(D29>F29,"○",IF(D29<F29,"●","")))) -> △ | D29: =IF(AH22="","",AH22) -> 1 | E29: - | F29: =IF(AF22="","",AF22) -> 1 | G29: =IF(OR(H29="",J29=""),"",IF(H29=J29,"△",IF(H29>J29,"○",IF(H29<J29,"●","")))) -> ● | H29: =IF(AH23="","",AH23) -> 0 | I29: - | J29: =IF(AF23="","",AF23) -> 5 | K29: =IF(OR(L29="",N29=""),"",IF(L29=N29,"△",IF(L29>N29,"○",IF(L29<N29,"●","")))) | L29: =IF(AH24="","",AH24) | M29: - | N29: =IF(AF24="","",AF24) | O29: =IF(OR(P29="",R29=""),"",IF(P29=R29,"△",IF(P29>R29,"○",IF(P29<R29,"●","")))) -> ● | P29: =IF(AH25="","",AH25) -> 0 | Q29: - | R29: =IF(AF25="","",AF25) -> 3 | S29: =IF(OR(T29="",V29=""),"",IF(T29=V29,"△",IF(T29>V29,"○",IF(T29<V29,"●","")))) -> ● | T29: =IF(AH26="","",AH26) -> 0 | U29: - | V29: =IF(AF26="","",AF26) -> 1 | W29: =IF(OR(X29="",Z29=""),"",IF(X29=Z29,"△",IF(X29>Z29,"○",IF(X29<Z29,"●","")))) -> ● | X29: =IF(AH27="","",AH27) -> 1 | Y29: - | Z29: =IF(AF27="","",AF27) -> 3 | AA29: =IF(OR(AB29="",AD29=""),"",IF(AB29=AD29,"△",IF(AB29>AD29,"○",IF(AB29<AD29,"●","")))) -> ● | AB29: =IF(AH28="","",AH28) -> 1 | AC29: - | AD29: =IF(AF28="","",AF28) -> 2 | AI29: △ | AJ29: 0 | AK29: - | AL29: 0 | AM29: △ | AN29: 1 | AO29: - | AP29: 1 | AQ29: 〇 | AR29: 3 | AS29: - | AT29: 1 | AU29: 〇 | AV29: 2 | AW29: - | AX29: 0 | AY29: 2 | AZ29: =COUNTIF(C29:AX29,"●") -> 5 | BA29: =COUNTIF(C29:AX29,"△") -> 3 | BB29: =SUM(3*AY29,0*AZ29,1*BA29) -> 9 | BC29: =SUM(P29,T29,X29,AB29,AF29,AJ29,AN29,AR29,AV29,L29,H29,D29) -> 9 | BD29: =SUM(R29,V29,Z29,AD29,AH29,AL29,AP29,AT29,AX29,N29,J29,F29) -> 17 | BE29: =BC29-BD29 -> -8 | BF29: =BB29+(BE29/100)+(BC29/100000) -> 8.92009 | BG29: =_xlfn.RANK.EQ(BF29,BF$22:BF$33,0) -> 9
A30: 21 | B30: =IF([1]組み分け!B30="","",[1]組み分け!B30) -> 岩倉FCフォルテ | C30: =IF(OR(D30="",F30=""),"",IF(D30=F30,"△",IF(D30>F30,"○",IF(D30<F30,"●","")))) -> ○ | D30: =IF(AL22="","",AL22) -> 3 | E30: - | F30: =IF(AJ22="","",AJ22) -> 2 | G30: =IF(OR(H30="",J30=""),"",IF(H30=J30,"△",IF(H30>J30,"○",IF(H30<J30,"●","")))) -> ● | H30: =IF(AL23="","",AL23) -> 1 | I30: - | J30: =IF(AJ23="","",AJ23) -> 3 | K30: =IF(OR(L30="",N30=""),"",IF(L30=N30,"△",IF(L30>N30,"○",IF(L30<N30,"●","")))) | L30: =IF(AL24="","",AL24) | M30: - | N30: =IF(AJ24="","",AJ24) | O30: =IF(OR(P30="",R30=""),"",IF(P30=R30,"△",IF(P30>R30,"○",IF(P30<R30,"●","")))) -> △ | P30: =IF(AL25="","",AL25) -> 2 | Q30: - | R30: =IF(AJ25="","",AJ25) -> 2 | S30: =IF(OR(T30="",V30=""),"",IF(T30=V30,"△",IF(T30>V30,"○",IF(T30<V30,"●","")))) -> ○ | T30: =IF(AL26="","",AL26) -> 1 | U30: - | V30: =IF(AJ26="","",AJ26) -> 0 | W30: =IF(OR(X30="",Z30=""),"",IF(X30=Z30,"△",IF(X30>Z30,"○",IF(X30<Z30,"●","")))) -> ○ | X30: =IF(AL27="","",AL27) -> 2 | Y30: - | Z30: =IF(AJ27="","",AJ27) -> 0 | AA30: =IF(OR(AB30="",AD30=""),"",IF(AB30=AD30,"△",IF(AB30>AD30,"○",IF(AB30<AD30,"●","")))) -> ● | AB30: =IF(AL28="","",AL28) -> 1 | AC30: - | AD30: =IF(AJ28="","",AJ28) -> 2 | AE30: =IF(OR(AF30="",AH30=""),"",IF(AF30=AH30,"△",IF(AF30>AH30,"○",IF(AF30<AH30,"●","")))) -> △ | AF30: =IF(AL29="","",AL29) -> 0 | AG30: - | AH30: =IF(AJ29="","",AJ29) -> 0 | AM30: ● | AN30: 2 | AO30: - | AP30: 4 | AQ30: 〇 | AR30: 2 | AS30: - | AT30: 0 | AU30: ● | AV30: 1 | AW30: - | AX30: 2 | AY30: 4 | AZ30: =COUNTIF(C30:AX30,"●") -> 4 | BA30: =COUNTIF(C30:AX30,"△") -> 2 | BB30: =SUM(3*AY30,0*AZ30,1*BA30) -> 14 | BC30: =SUM(P30,T30,X30,AB30,AF30,AJ30,AN30,AR30,AV30,L30,H30,D30) -> 15 | BD30: =SUM(R30,V30,Z30,AD30,AH30,AL30,AP30,AT30,AX30,N30,J30,F30) -> 15 | BE30: =BC30-BD30 -> 0 | BF30: =BB30+(BE30/100)+(BC30/100000) -> 14.00015 | BG30: =_xlfn.RANK.EQ(BF30,BF$22:BF$33,0) -> 6
A31: 22 | B31: =IF([1]組み分け!B31="","",[1]組み分け!B31) -> 犬山クラブ B | C31: =IF(OR(D31="",F31=""),"",IF(D31=F31,"△",IF(D31>F31,"○",IF(D31<F31,"●","")))) -> ● | D31: =IF(AP22="","",AP22) -> 2 | E31: - | F31: =IF(AN22="","",AN22) -> 4 | G31: =IF(OR(H31="",J31=""),"",IF(H31=J31,"△",IF(H31>J31,"○",IF(H31<J31,"●","")))) -> ● | H31: =IF(AP23="","",AP23) -> 0 | I31: - | J31: =IF(AN23="","",AN23) -> 3 | K31: =IF(OR(L31="",N31=""),"",IF(L31=N31,"△",IF(L31>N31,"○",IF(L31<N31,"●","")))) | L31: =IF(AP24="","",AP24) | M31: - | N31: =IF(AN24="","",AN24) | O31: =IF(OR(P31="",R31=""),"",IF(P31=R31,"△",IF(P31>R31,"○",IF(P31<R31,"●","")))) -> ● | P31: =IF(AP25="","",AP25) -> 1 | Q31: - | R31: =IF(AN25="","",AN25) -> 3 | S31: =IF(OR(T31="",V31=""),"",IF(T31=V31,"△",IF(T31>V31,"○",IF(T31<V31,"●","")))) -> ● | T31: =IF(AP26="","",AP26) -> 1 | U31: - | V31: =IF(AN26="","",AN26) -> 3 | W31: =IF(OR(X31="",Z31=""),"",IF(X31=Z31,"△",IF(X31>Z31,"○",IF(X31<Z31,"●","")))) -> △ | X31: =IF(AP27="","",AP27) -> 1 | Y31: - | Z31: =IF(AN27="","",AN27) -> 1 | AA31: =IF(OR(AB31="",AD31=""),"",IF(AB31=AD31,"△",IF(AB31>AD31,"○",IF(AB31<AD31,"●","")))) -> ● | AB31: =IF(AP28="","",AP28) -> 1 | AC31: - | AD31: =IF(AN28="","",AN28) -> 4 | AE31: =IF(OR(AF31="",AH31=""),"",IF(AF31=AH31,"△",IF(AF31>AH31,"○",IF(AF31<AH31,"●","")))) -> △ | AF31: =IF(AP29="","",AP29) -> 1 | AG31: - | AH31: =IF(AN29="","",AN29) -> 1 | AI31: =IF(OR(AJ31="",AL31=""),"",IF(AJ31=AL31,"△",IF(AJ31>AL31,"○",IF(AJ31<AL31,"●","")))) -> ○ | AJ31: =IF(AP30="","",AP30) -> 4 | AK31: - | AL31: =IF(AN30="","",AN30) -> 2 | AQ31: 〇 | AR31: 1 | AS31: - | AT31: 0 | AU31: ● | AV31: 0 | AW31: - | AX31: 5 | AY31: 2 | AZ31: =COUNTIF(C31:AX31,"●") -> 6 | BA31: =COUNTIF(C31:AX31,"△") -> 2 | BB31: =SUM(3*AY31,0*AZ31,1*BA31) -> 8 | BC31: =SUM(P31,T31,X31,AB31,AF31,AJ31,AN31,AR31,AV31,L31,H31,D31) -> 12 | BD31: =SUM(R31,V31,Z31,AD31,AH31,AL31,AP31,AT31,AX31,N31,J31,F31) -> 26 | BE31: =BC31-BD31 -> -14 | BF31: =BB31+(BE31/100)+(BC31/100000) -> 7.86012 | BG31: =_xlfn.RANK.EQ(BF31,BF$22:BF$33,0) -> 10
A32: 23 | B32: =IF([1]組み分け!B32="","",[1]組み分け!B32) -> 祖父江少年SC | C32: =IF(OR(D32="",F32=""),"",IF(D32=F32,"△",IF(D32>F32,"○",IF(D32<F32,"●","")))) -> ○ | D32: =IF(AT22="","",AT22) -> 3 | E32: - | F32: =IF(AR22="","",AR22) -> 1 | G32: =IF(OR(H32="",J32=""),"",IF(H32=J32,"△",IF(H32>J32,"○",IF(H32<J32,"●","")))) -> ● | H32: =IF(AT23="","",AT23) -> 0 | I32: - | J32: =IF(AR23="","",AR23) -> 3 | K32: =IF(OR(L32="",N32=""),"",IF(L32=N32,"△",IF(L32>N32,"○",IF(L32<N32,"●","")))) | L32: =IF(AT24="","",AT24) | M32: - | N32: =IF(AR24="","",AR24) | O32: =IF(OR(P32="",R32=""),"",IF(P32=R32,"△",IF(P32>R32,"○",IF(P32<R32,"●","")))) -> △ | P32: =IF(AT25="","",AT25) -> 1 | Q32: - | R32: =IF(AR25="","",AR25) -> 1 | S32: =IF(OR(T32="",V32=""),"",IF(T32=V32,"△",IF(T32>V32,"○",IF(T32<V32,"●","")))) -> ● | T32: =IF(AT26="","",AT26) -> 0 | U32: - | V32: =IF(AR26="","",AR26) -> 1 | W32: =IF(OR(X32="",Z32=""),"",IF(X32=Z32,"△",IF(X32>Z32,"○",IF(X32<Z32,"●","")))) -> ○ | X32: =IF(AT27="","",AT27) -> 3 | Y32: - | Z32: =IF(AR27="","",AR27) -> 2 | AA32: 〇 | AB32: 2 | AC32: - | AD32: 1 | AE32: =IF(OR(AF32="",AH32=""),"",IF(AF32=AH32,"△",IF(AF32>AH32,"○",IF(AF32<AH32,"●","")))) -> ● | AF32: =IF(AT29="","",AT29) -> 1 | AG32: - | AH32: =IF(AR29="","",AR29) -> 3 | AI32: =IF(OR(AJ32="",AL32=""),"",IF(AJ32=AL32,"△",IF(AJ32>AL32,"○",IF(AJ32<AL32,"●","")))) -> ● | AJ32: =IF(AT30="","",AT30) -> 0 | AK32: - | AL32: =IF(AR30="","",AR30) -> 2 | AM32: =IF(OR(AN32="",AP32=""),"",IF(AN32=AP32,"△",IF(AN32>AP32,"○",IF(AN32<AP32,"●","")))) -> ● | AN32: 0 | AO32: - | AP32: =IF(AR31="","",AR31) -> 1 | AU32: 〇 | AV32: 2 | AW32: - | AX32: 1 | AY32: 4 | AZ32: =COUNTIF(C32:AX32,"●") -> 5 | BA32: =COUNTIF(C32:AX32,"△") -> 1 | BB32: =SUM(3*AY32,0*AZ32,1*BA32) -> 13 | BC32: =SUM(P32,T32,X32,AB32,AF32,AJ32,AN32,AR32,AV32,L32,H32,D32) -> 12 | BD32: =SUM(R32,V32,Z32,AD32,AH32,AL32,AP32,AT32,AX32,N32,J32,F32) -> 16 | BE32: =BC32-BD32 -> -4 | BF32: =BB32+(BE32/100)+(BC32/100000) -> 12.96012 | BG32: =_xlfn.RANK.EQ(BF32,BF$22:BF$33,0) -> 7
A33: 24 | B33: =IF([1]組み分け!B33="","",[1]組み分け!B33) -> 扶桑FC | C33: =IF(OR(D33="",F33=""),"",IF(D33=F33,"△",IF(D33>F33,"○",IF(D33<F33,"●","")))) -> ○ | D33: =IF(AX22="","",AX22) -> 4 | E33: - | F33: =IF(AV22="","",AV22) -> 2 | G33: =IF(OR(H33="",J33=""),"",IF(H33=J33,"△",IF(H33>J33,"○",IF(H33<J33,"●","")))) -> ○ | H33: =IF(AX23="","",AX23) -> 2 | I33: - | J33: =IF(AV23="","",AV23) -> 1 | M33: - | O33: =IF(OR(P33="",R33=""),"",IF(P33=R33,"△",IF(P33>R33,"○",IF(P33<R33,"●","")))) -> ● | P33: =IF(AX25="","",AX25) -> 0 | Q33: - | R33: =IF(AV25="","",AV25) -> 2 | S33: =IF(OR(T33="",V33=""),"",IF(T33=V33,"△",IF(T33>V33,"○",IF(T33<V33,"●","")))) -> ○ | T33: =IF(AX26="","",AX26) -> 4 | U33: - | V33: =IF(AV26="","",AV26) -> 0 | W33: =IF(OR(X33="",Z33=""),"",IF(X33=Z33,"△",IF(X33>Z33,"○",IF(X33<Z33,"●","")))) -> ○ | X33: =IF(AX27="","",AX27) -> 5 | Y33: - | Z33: =IF(AV27="","",AV27) -> 0 | AA33: =IF(OR(AB33="",AD33=""),"",IF(AB33=AD33,"△",IF(AB33>AD33,"○",IF(AB33<AD33,"●","")))) -> △ | AB33: =IF(AX28="","",AX28) -> 1 | AC33: - | AD33: =IF(AV28="","",AV28) -> 1 | AE33: =IF(OR(AF33="",AH33=""),"",IF(AF33=AH33,"△",IF(AF33>AH33,"○",IF(AF33<AH33,"●","")))) -> ● | AF33: =IF(AX29="","",AX29) -> 0 | AG33: - | AH33: =IF(AV29="","",AV29) -> 2 | AI33: =IF(OR(AJ33="",AL33=""),"",IF(AJ33=AL33,"△",IF(AJ33>AL33,"○",IF(AJ33<AL33,"●","")))) -> ○ | AJ33: 2 | AK33: - | AL33: =IF(AV30="","",AV30) -> 1 | AM33: =IF(OR(AN33="",AP33=""),"",IF(AN33=AP33,"△",IF(AN33>AP33,"○",IF(AN33<AP33,"●","")))) -> ○ | AN33: =IF(AX31="","",AX31) -> 5 | AO33: - | AP33: =IF(AV31="","",AV31) -> 0 | AQ33: =IF(OR(AR33="",AT33=""),"",IF(AR33=AT33,"△",IF(AR33>AT33,"○",IF(AR33<AT33,"●","")))) -> ● | AR33: =IF(AX32="","",AX32) -> 1 | AS33: - | AT33: =IF(AV32="","",AV32) -> 2 | AY33: =COUNTIF(C33:AX33,"○") -> 6 | AZ33: =COUNTIF(C33:AX33,"●") -> 3 | BA33: =COUNTIF(C33:AX33,"△") -> 1 | BB33: =SUM(3*AY33,0*AZ33,1*BA33) -> 19 | BC33: =SUM(P33,T33,X33,AB33,AF33,AJ33,AN33,AR33,AV33,L33,H33,D33) -> 24 | BD33: =SUM(R33,V33,Z33,AD33,AH33,AL33,AP33,AT33,AX33,N33,J33,F33) -> 11 | BE33: =BC33-BD33 -> 13 | BF33: =BB33+(BE33/100)+(BC33/100000) -> 19.13024 | BG33: =_xlfn.RANK.EQ(BF33,BF$22:BF$33,0) -> 3
B35: 【２部 Ｂブロック】
A36: ２部Bブロック | D36: =IF(A38="","",A38) -> 25 | H36: =IF(A39="","",A39) -> 26 | L36: =IF(A40="","",A40) -> 27 | P36: =IF(A41="","",A41) -> 28 | T36: =IF(A42="","",A42) -> 29 | X36: =IF(A43="","",A43) -> 30 | AB36: =IF(A44="","",A44) -> 31 | AF36: =IF(A45="","",A45) -> 32 | AJ36: =IF(A46="","",A46) -> 33 | AN36: =IF(A47="","",A47) -> 34 | AR36: =IF(A48="","",A48) -> 35 | AY36: 勝 | AZ36: 負 | BA36: 分 | BB36: 勝点 | BC36: 得点 | BD36: 失点 | BE36: 得失 | BF36: 集計 | BG36: 順位
C37: =IF(B38="","",B38) -> 津島AFC | G37: =IF(B39="","",B39) -> SAKURA FC | K37: =IF(B40="","",B40) -> 犬山クラブ A | O37: =IF(B41="","",B41) -> 弥富JSS | S37: =IF(B42="","",B42) -> アシストFC | W37: =IF(B43="","",B43) -> F.C.DIVINE B | AA37: =IF(B44="","",B44) -> 木曽川SSS | AE37: =IF(B45="","",B45) -> PositivoFC | AI37: =IF(B46="","",B46) -> 丹陽FC/rabona一宮 | AM37: =IF(B47="","",B47) -> 愛知FC一宮 B | AQ37: =IF(B48="","",B48) -> AISAI FC
A38: 25 | B38: =IF([2]組み分け!J22="","",[2]組み分け!J22) -> 津島AFC | G38: =IF(OR(H38="",J38=""),"",IF(H38=J38,"△",IF(H38>J38,"○",IF(H38<J38,"●","")))) -> ○ | H38: 1 | I38: - | J38: 0 | K38: =IF(OR(L38="",N38=""),"",IF(L38=N38,"△",IF(L38>N38,"○",IF(L38<N38,"●","")))) -> ● | L38: 0 | M38: - | N38: 2 | O38: =IF(OR(P38="",R38=""),"",IF(P38=R38,"△",IF(P38>R38,"○",IF(P38<R38,"●","")))) -> ○ | P38: 2 | Q38: - | R38: 0 | S38: =IF(OR(T38="",V38=""),"",IF(T38=V38,"△",IF(T38>V38,"○",IF(T38<V38,"●","")))) -> ○ | T38: 3 | U38: - | V38: 0 | W38: =IF(OR(X38="",Z38=""),"",IF(X38=Z38,"△",IF(X38>Z38,"○",IF(X38<Z38,"●","")))) -> ● | X38: 1 | Y38: - | Z38: 6 | AA38: =IF(OR(AB38="",AD38=""),"",IF(AB38=AD38,"△",IF(AB38>AD38,"○",IF(AB38<AD38,"●","")))) -> ● | AB38: 0 | AC38: - | AD38: 2 | AE38: =IF(OR(AF38="",AH38=""),"",IF(AF38=AH38,"△",IF(AF38>AH38,"○",IF(AF38<AH38,"●","")))) -> △ | AF38: 2 | AG38: - | AH38: 2 | AI38: =IF(OR(AJ38="",AL38=""),"",IF(AJ38=AL38,"△",IF(AJ38>AL38,"○",IF(AJ38<AL38,"●","")))) -> ● | AJ38: 0 | AK38: - | AL38: 5 | AM38: =IF(OR(AN38="",AP38=""),"",IF(AN38=AP38,"△",IF(AN38>AP38,"○",IF(AN38<AP38,"●","")))) -> ● | AN38: 1 | AO38: - | AP38: 3 | AQ38: =IF(OR(AR38="",AT38=""),"",IF(AR38=AT38,"△",IF(AR38>AT38,"○",IF(AR38<AT38,"●","")))) -> ● | AR38: 0 | AS38: - | AT38: 4 | AY38: =COUNTIF(C38:AX38,"○") -> 3 | AZ38: =COUNTIF(C38:AX38,"●") -> 6 | BA38: =COUNTIF(C38:AX38,"△") -> 1 | BB38: =SUM(3*AY38,0*AZ38,1*BA38) -> 10 | BC38: =SUM(P38,T38,X38,AB38,AF38,AJ38,AN38,AR38,AV38,L38,H38,D38) -> 10 | BD38: =SUM(R38,V38,Z38,AD38,AH38,AL38,AP38,AT38,AX38,N38,J38,F38) -> 24 | BE38: =BC38-BD38 -> -14 | BF38: =BB38+(BE38/100)+(BC38/100000) -> 9.8601 | BG38: =_xlfn.RANK.EQ(BF38,BF$38:BF$48,0) -> 8
A39: 26 | B39: =IF([2]組み分け!J23="","",[2]組み分け!J23) -> SAKURA FC | C39: =IF(OR(D39="",F39=""),"",IF(D39=F39,"△",IF(D39>F39,"○",IF(D39<F39,"●","")))) -> ● | D39: =IF(J38="","",J38) -> 0 | E39: - | F39: =IF(H38="","",H38) -> 1 | K39: =IF(OR(L39="",N39=""),"",IF(L39=N39,"△",IF(L39>N39,"○",IF(L39<N39,"●","")))) -> △ | L39: 1 | M39: - | N39: 1 | O39: =IF(OR(P39="",R39=""),"",IF(P39=R39,"△",IF(P39>R39,"○",IF(P39<R39,"●","")))) -> ○ | P39: 7 | Q39: - | R39: 0 | S39: =IF(OR(T39="",V39=""),"",IF(T39=V39,"△",IF(T39>V39,"○",IF(T39<V39,"●","")))) -> ○ | T39: 2 | U39: - | V39: 0 | W39: =IF(OR(X39="",Z39=""),"",IF(X39=Z39,"△",IF(X39>Z39,"○",IF(X39<Z39,"●","")))) -> ○ | X39: 3 | Y39: - | Z39: 0 | AA39: =IF(OR(AB39="",AD39=""),"",IF(AB39=AD39,"△",IF(AB39>AD39,"○",IF(AB39<AD39,"●","")))) -> △ | AB39: 0 | AC39: - | AD39: 0 | AE39: =IF(OR(AF39="",AH39=""),"",IF(AF39=AH39,"△",IF(AF39>AH39,"○",IF(AF39<AH39,"●","")))) -> ○ | AF39: 3 | AG39: - | AH39: 1 | AI39: =IF(OR(AJ39="",AL39=""),"",IF(AJ39=AL39,"△",IF(AJ39>AL39,"○",IF(AJ39<AL39,"●","")))) -> ● | AJ39: 0 | AK39: - | AL39: 2 | AM39: =IF(OR(AN39="",AP39=""),"",IF(AN39=AP39,"△",IF(AN39>AP39,"○",IF(AN39<AP39,"●","")))) -> ○ | AN39: 3 | AO39: - | AP39: 1 | AQ39: =IF(OR(AR39="",AT39=""),"",IF(AR39=AT39,"△",IF(AR39>AT39,"○",IF(AR39<AT39,"●","")))) -> △ | AR39: 1 | AS39: - | AT39: 1 | AY39: =COUNTIF(C39:AX39,"○") -> 5 | AZ39: =COUNTIF(C39:AX39,"●") -> 2 | BA39: =COUNTIF(C39:AX39,"△") -> 3 | BB39: =SUM(3*AY39,0*AZ39,1*BA39) -> 18 | BC39: =SUM(P39,T39,X39,AB39,AF39,AJ39,AN39,AR39,AV39,L39,H39,D39) -> 20 | BD39: =SUM(R39,V39,Z39,AD39,AH39,AL39,AP39,AT39,AX39,N39,J39,F39) -> 7 | BE39: =BC39-BD39 -> 13 | BF39: =BB39+(BE39/100)+(BC39/100000) -> 18.1302 | BG39: =_xlfn.RANK.EQ(BF39,BF$38:BF$48,0) -> 3
A40: 27 | B40: =IF([2]組み分け!J24="","",[2]組み分け!J24) -> 犬山クラブ A | C40: =IF(OR(D40="",F40=""),"",IF(D40=F40,"△",IF(D40>F40,"○",IF(D40<F40,"●","")))) -> ○ | D40: =IF(N38="","",N38) -> 2 | E40: - | F40: =IF(L38="","",L38) -> 0 | G40: =IF(OR(H40="",J40=""),"",IF(H40=J40,"△",IF(H40>J40,"○",IF(H40<J40,"●","")))) -> △ | H40: =IF(N39="","",N39) -> 1 | I40: - | J40: =IF(L39="","",L39) -> 1 | O40: =IF(OR(P40="",R40=""),"",IF(P40=R40,"△",IF(P40>R40,"○",IF(P40<R40,"●","")))) -> ○ | P40: 6 | Q40: - | R40: 1 | S40: =IF(OR(T40="",V40=""),"",IF(T40=V40,"△",IF(T40>V40,"○",IF(T40<V40,"●","")))) -> ○ | T40: 1 | U40: - | V40: 0 | W40: =IF(OR(X40="",Z40=""),"",IF(X40=Z40,"△",IF(X40>Z40,"○",IF(X40<Z40,"●","")))) -> ○ | X40: 4 | Y40: - | Z40: 0 | AA40: =IF(OR(AB40="",AD40=""),"",IF(AB40=AD40,"△",IF(AB40>AD40,"○",IF(AB40<AD40,"●","")))) -> ○ | AB40: 4 | AC40: - | AD40: 0 | AE40: =IF(OR(AF40="",AH40=""),"",IF(AF40=AH40,"△",IF(AF40>AH40,"○",IF(AF40<AH40,"●","")))) -> ○ | AF40: 4 | AG40: - | AH40: 0 | AI40: =IF(OR(AJ40="",AL40=""),"",IF(AJ40=AL40,"△",IF(AJ40>AL40,"○",IF(AJ40<AL40,"●","")))) -> ○ | AJ40: 3 | AK40: - | AL40: 0 | AM40: =IF(OR(AN40="",AP40=""),"",IF(AN40=AP40,"△",IF(AN40>AP40,"○",IF(AN40<AP40,"●","")))) -> △ | AN40: 1 | AO40: - | AP40: 1 | AQ40: =IF(OR(AR40="",AT40=""),"",IF(AR40=AT40,"△",IF(AR40>AT40,"○",IF(AR40<AT40,"●","")))) -> ○ | AR40: 12 | AS40: - | AT40: 0 | AY40: =COUNTIF(C40:AX40,"○") -> 8 | AZ40: =COUNTIF(C40:AX40,"●") -> 0 | BA40: =COUNTIF(C40:AX40,"△") -> 2 | BB40: =SUM(3*AY40,0*AZ40,1*BA40) -> 26 | BC40: =SUM(P40,T40,X40,AB40,AF40,AJ40,AN40,AR40,AV40,L40,H40,D40) -> 38 | BD40: =SUM(R40,V40,Z40,AD40,AH40,AL40,AP40,AT40,AX40,N40,J40,F40) -> 3 | BE40: =BC40-BD40 -> 35 | BF40: =BB40+(BE40/100)+(BC40/100000) -> 26.35038 | BG40: =_xlfn.RANK.EQ(BF40,BF$38:BF$48,0) -> 2
A41: 28 | B41: =IF([2]組み分け!J25="","",[2]組み分け!J25) -> 弥富JSS | C41: =IF(OR(D41="",F41=""),"",IF(D41=F41,"△",IF(D41>F41,"○",IF(D41<F41,"●","")))) -> ● | D41: =IF(R38="","",R38) -> 0 | E41: - | F41: =IF(P38="","",P38) -> 2 | G41: =IF(OR(H41="",J41=""),"",IF(H41=J41,"△",IF(H41>J41,"○",IF(H41<J41,"●","")))) -> ● | H41: =IF(R39="","",R39) -> 0 | I41: - | J41: =IF(P39="","",P39) -> 7 | K41: =IF(OR(L41="",N41=""),"",IF(L41=N41,"△",IF(L41>N41,"○",IF(L41<N41,"●","")))) -> ● | L41: =IF(R40="","",R40) -> 1 | M41: - | N41: =IF(P40="","",P40) -> 6 | S41: =IF(OR(T41="",V41=""),"",IF(T41=V41,"△",IF(T41>V41,"○",IF(T41<V41,"●","")))) -> ○ | T41: 3 | U41: - | V41: 0 | W41: =IF(OR(X41="",Z41=""),"",IF(X41=Z41,"△",IF(X41>Z41,"○",IF(X41<Z41,"●","")))) -> ● | X41: 0 | Y41: - | Z41: 1 | AA41: =IF(OR(AB41="",AD41=""),"",IF(AB41=AD41,"△",IF(AB41>AD41,"○",IF(AB41<AD41,"●","")))) -> △ | AB41: 1 | AC41: - | AD41: 1 | AE41: =IF(OR(AF41="",AH41=""),"",IF(AF41=AH41,"△",IF(AF41>AH41,"○",IF(AF41<AH41,"●","")))) -> ○ | AF41: 4 | AG41: - | AH41: 3 | AI41: =IF(OR(AJ41="",AL41=""),"",IF(AJ41=AL41,"△",IF(AJ41>AL41,"○",IF(AJ41<AL41,"●","")))) -> ● | AJ41: 1 | AK41: - | AL41: 13 | AM41: =IF(OR(AN41="",AP41=""),"",IF(AN41=AP41,"△",IF(AN41>AP41,"○",IF(AN41<AP41,"●","")))) -> ● | AN41: 1 | AO41: - | AP41: 2 | AQ41: =IF(OR(AR41="",AT41=""),"",IF(AR41=AT41,"△",IF(AR41>AT41,"○",IF(AR41<AT41,"●","")))) -> ○ | AR41: 3 | AS41: - | AT41: 1 | AY41: =COUNTIF(C41:AX41,"○") -> 3 | AZ41: =COUNTIF(C41:AX41,"●") -> 6 | BA41: =COUNTIF(C41:AX41,"△") -> 1 | BB41: =SUM(3*AY41,0*AZ41,1*BA41) -> 10 | BC41: =SUM(P41,T41,X41,AB41,AF41,AJ41,AN41,AR41,AV41,L41,H41,D41) -> 14 | BD41: =SUM(R41,V41,Z41,AD41,AH41,AL41,AP41,AT41,AX41,N41,J41,F41) -> 36 | BE41: =BC41-BD41 -> -22 | BF41: =BB41+(BE41/100)+(BC41/100000) -> 9.78014 | BG41: =_xlfn.RANK.EQ(BF41,BF$38:BF$48,0) -> 10
A42: 29 | B42: =IF([2]組み分け!J26="","",[2]組み分け!J26) -> アシストFC | C42: =IF(OR(D42="",F42=""),"",IF(D42=F42,"△",IF(D42>F42,"○",IF(D42<F42,"●","")))) -> ● | D42: =IF(V38="","",V38) -> 0 | E42: - | F42: =IF(T38="","",T38) -> 3 | G42: =IF(OR(H42="",J42=""),"",IF(H42=J42,"△",IF(H42>J42,"○",IF(H42<J42,"●","")))) -> ● | H42: =IF(V39="","",V39) -> 0 | I42: - | J42: =IF(T39="","",T39) -> 2 | K42: =IF(OR(L42="",N42=""),"",IF(L42=N42,"△",IF(L42>N42,"○",IF(L42<N42,"●","")))) -> ● | L42: =IF(V40="","",V40) -> 0 | M42: - | N42: =IF(T40="","",T40) -> 1 | O42: =IF(OR(P42="",R42=""),"",IF(P42=R42,"△",IF(P42>R42,"○",IF(P42<R42,"●","")))) -> ● | P42: =IF(V41="","",V41) -> 0 | Q42: - | R42: =IF(T41="","",T41) -> 3 | W42: =IF(OR(X42="",Z42=""),"",IF(X42=Z42,"△",IF(X42>Z42,"○",IF(X42<Z42,"●","")))) -> ● | X42: 0 | Y42: - | Z42: 1 | AA42: =IF(OR(AB42="",AD42=""),"",IF(AB42=AD42,"△",IF(AB42>AD42,"○",IF(AB42<AD42,"●","")))) -> ● | AB42: 0 | AC42: - | AD42: 4 | AE42: =IF(OR(AF42="",AH42=""),"",IF(AF42=AH42,"△",IF(AF42>AH42,"○",IF(AF42<AH42,"●","")))) -> ● | AF42: 0 | AG42: - | AH42: 1 | AI42: =IF(OR(AJ42="",AL42=""),"",IF(AJ42=AL42,"△",IF(AJ42>AL42,"○",IF(AJ42<AL42,"●","")))) -> ● | AJ42: 0 | AK42: - | AL42: 6 | AM42: =IF(OR(AN42="",AP42=""),"",IF(AN42=AP42,"△",IF(AN42>AP42,"○",IF(AN42<AP42,"●","")))) -> ● | AN42: 1 | AO42: - | AP42: 5 | AQ42: =IF(OR(AR42="",AT42=""),"",IF(AR42=AT42,"△",IF(AR42>AT42,"○",IF(AR42<AT42,"●","")))) -> ● | AR42: 0 | AS42: - | AT42: 4 | AY42: =COUNTIF(C42:AX42,"○") -> 0 | AZ42: =COUNTIF(C42:AX42,"●") -> 10 | BA42: =COUNTIF(C42:AX42,"△") -> 0 | BB42: =SUM(3*AY42,0*AZ42,1*BA42) -> 0 | BC42: =SUM(P42,T42,X42,AB42,AF42,AJ42,AN42,AR42,AV42,L42,H42,D42) -> 1 | BD42: =SUM(R42,V42,Z42,AD42,AH42,AL42,AP42,AT42,AX42,N42,J42,F42) -> 30 | BE42: =BC42-BD42 -> -29 | BF42: =BB42+(BE42/100)+(BC42/100000) -> -0.28999 | BG42: =_xlfn.RANK.EQ(BF42,BF$38:BF$48,0) -> 11
A43: 30 | B43: =IF([2]組み分け!J27="","",[2]組み分け!J27) -> F.C.DIVINE B | C43: =IF(OR(D43="",F43=""),"",IF(D43=F43,"△",IF(D43>F43,"○",IF(D43<F43,"●","")))) -> ○ | D43: =IF(Z38="","",Z38) -> 6 | E43: - | F43: =IF(X38="","",X38) -> 1 | G43: =IF(OR(H43="",J43=""),"",IF(H43=J43,"△",IF(H43>J43,"○",IF(H43<J43,"●","")))) -> ● | H43: =IF(Z39="","",Z39) -> 0 | I43: - | J43: =IF(X39="","",X39) -> 3 | K43: =IF(OR(L43="",N43=""),"",IF(L43=N43,"△",IF(L43>N43,"○",IF(L43<N43,"●","")))) -> ● | L43: =IF(Z40="","",Z40) -> 0 | M43: - | N43: =IF(X40="","",X40) -> 4 | O43: =IF(OR(P43="",R43=""),"",IF(P43=R43,"△",IF(P43>R43,"○",IF(P43<R43,"●","")))) -> ○ | P43: =IF(Z41="","",Z41) -> 1 | Q43: - | R43: =IF(X41="","",X41) -> 0 | S43: =IF(OR(T43="",V43=""),"",IF(T43=V43,"△",IF(T43>V43,"○",IF(T43<V43,"●","")))) -> ○ | T43: =IF(Z42="","",Z42) -> 1 | U43: - | V43: =IF(X42="","",X42) -> 0 | AA43: =IF(OR(AB43="",AD43=""),"",IF(AB43=AD43,"△",IF(AB43>AD43,"○",IF(AB43<AD43,"●","")))) -> ● | AB43: 1 | AC43: - | AD43: 3 | AE43: =IF(OR(AF43="",AH43=""),"",IF(AF43=AH43,"△",IF(AF43>AH43,"○",IF(AF43<AH43,"●","")))) -> ○ | AF43: 6 | AG43: - | AH43: 0 | AI43: =IF(OR(AJ43="",AL43=""),"",IF(AJ43=AL43,"△",IF(AJ43>AL43,"○",IF(AJ43<AL43,"●","")))) -> ● | AJ43: 0 | AK43: - | AL43: 6 | AM43: =IF(OR(AN43="",AP43=""),"",IF(AN43=AP43,"△",IF(AN43>AP43,"○",IF(AN43<AP43,"●","")))) -> ● | AN43: 0 | AO43: - | AP43: 3 | AQ43: =IF(OR(AR43="",AT43=""),"",IF(AR43=AT43,"△",IF(AR43>AT43,"○",IF(AR43<AT43,"●","")))) -> ○ | AR43: 2 | AS43: - | AT43: 1 | AY43: =COUNTIF(C43:AX43,"○") -> 5 | AZ43: =COUNTIF(C43:AX43,"●") -> 5 | BA43: =COUNTIF(C43:AX43,"△") -> 0 | BB43: =SUM(3*AY43,0*AZ43,1*BA43) -> 15 | BC43: =SUM(P43,T43,X43,AB43,AF43,AJ43,AN43,AR43,AV43,L43,H43,D43) -> 17 | BD43: =SUM(R43,V43,Z43,AD43,AH43,AL43,AP43,AT43,AX43,N43,J43,F43) -> 21 | BE43: =BC43-BD43 -> -4 | BF43: =BB43+(BE43/100)+(BC43/100000) -> 14.96017 | BG43: =_xlfn.RANK.EQ(BF43,BF$38:BF$48,0) -> 5
A44: 31 | B44: =IF([2]組み分け!J28="","",[2]組み分け!J28) -> 木曽川SSS | C44: =IF(OR(D44="",F44=""),"",IF(D44=F44,"△",IF(D44>F44,"○",IF(D44<F44,"●","")))) -> ○ | D44: =IF(AD38="","",AD38) -> 2 | E44: - | F44: =IF(AB38="","",AB38) -> 0 | G44: =IF(OR(H44="",J44=""),"",IF(H44=J44,"△",IF(H44>J44,"○",IF(H44<J44,"●","")))) -> △ | H44: =IF(AD39="","",AD39) -> 0 | I44: - | J44: =IF(AB39="","",AB39) -> 0 | K44: =IF(OR(L44="",N44=""),"",IF(L44=N44,"△",IF(L44>N44,"○",IF(L44<N44,"●","")))) -> ● | L44: =IF(AD40="","",AD40) -> 0 | M44: - | N44: =IF(AB40="","",AB40) -> 4 | O44: =IF(OR(P44="",R44=""),"",IF(P44=R44,"△",IF(P44>R44,"○",IF(P44<R44,"●","")))) -> △ | P44: =IF(AD41="","",AD41) -> 1 | Q44: - | R44: =IF(AB41="","",AB41) -> 1 | S44: =IF(OR(T44="",V44=""),"",IF(T44=V44,"△",IF(T44>V44,"○",IF(T44<V44,"●","")))) -> ○ | T44: =IF(AD42="","",AD42) -> 4 | U44: - | V44: =IF(AB42="","",AB42) -> 0 | W44: =IF(OR(X44="",Z44=""),"",IF(X44=Z44,"△",IF(X44>Z44,"○",IF(X44<Z44,"●","")))) -> ○ | X44: =IF(AD43="","",AD43) -> 3 | Y44: - | Z44: =IF(AB43="","",AB43) -> 1 | AE44: =IF(OR(AF44="",AH44=""),"",IF(AF44=AH44,"△",IF(AF44>AH44,"○",IF(AF44<AH44,"●","")))) -> ● | AF44: 1 | AG44: - | AH44: 4 | AI44: =IF(OR(AJ44="",AL44=""),"",IF(AJ44=AL44,"△",IF(AJ44>AL44,"○",IF(AJ44<AL44,"●","")))) -> ● | AJ44: 0 | AK44: - | AL44: 3 | AM44: =IF(OR(AN44="",AP44=""),"",IF(AN44=AP44,"△",IF(AN44>AP44,"○",IF(AN44<AP44,"●","")))) -> △ | AN44: 2 | AO44: - | AP44: 2 | AQ44: =IF(OR(AR44="",AT44=""),"",IF(AR44=AT44,"△",IF(AR44>AT44,"○",IF(AR44<AT44,"●","")))) -> ● | AR44: 1 | AS44: - | AT44: 2 | AY44: =COUNTIF(C44:AX44,"○") -> 3 | AZ44: =COUNTIF(C44:AX44,"●") -> 4 | BA44: =COUNTIF(C44:AX44,"△") -> 3 | BB44: =SUM(3*AY44,0*AZ44,1*BA44) -> 12 | BC44: =SUM(P44,T44,X44,AB44,AF44,AJ44,AN44,AR44,AV44,L44,H44,D44) -> 14 | BD44: =SUM(R44,V44,Z44,AD44,AH44,AL44,AP44,AT44,AX44,N44,J44,F44) -> 17 | BE44: =BC44-BD44 -> -3 | BF44: =BB44+(BE44/100)+(BC44/100000) -> 11.97014 | BG44: =_xlfn.RANK.EQ(BF44,BF$38:BF$48,0) -> 6
A45: 32 | B45: =IF([2]組み分け!J29="","",[2]組み分け!J29) -> PositivoFC | C45: =IF(OR(D45="",F45=""),"",IF(D45=F45,"△",IF(D45>F45,"○",IF(D45<F45,"●","")))) -> △ | D45: =IF(AH38="","",AH38) -> 2 | E45: - | F45: =IF(AF38="","",AF38) -> 2 | G45: =IF(OR(H45="",J45=""),"",IF(H45=J45,"△",IF(H45>J45,"○",IF(H45<J45,"●","")))) -> ● | H45: =IF(AH39="","",AH39) -> 1 | I45: - | J45: =IF(AF39="","",AF39) -> 3 | K45: =IF(OR(L45="",N45=""),"",IF(L45=N45,"△",IF(L45>N45,"○",IF(L45<N45,"●","")))) -> ● | L45: =IF(AH40="","",AH40) -> 0 | M45: - | N45: =IF(AF40="","",AF40) -> 4 | O45: =IF(OR(P45="",R45=""),"",IF(P45=R45,"△",IF(P45>R45,"○",IF(P45<R45,"●","")))) -> ● | P45: =IF(AH41="","",AH41) -> 3 | Q45: - | R45: =IF(AF41="","",AF41) -> 4 | S45: =IF(OR(T45="",V45=""),"",IF(T45=V45,"△",IF(T45>V45,"○",IF(T45<V45,"●","")))) -> ○ | T45: =IF(AH42="","",AH42) -> 1 | U45: - | V45: =IF(AF42="","",AF42) -> 0 | W45: =IF(OR(X45="",Z45=""),"",IF(X45=Z45,"△",IF(X45>Z45,"○",IF(X45<Z45,"●","")))) -> ● | X45: =IF(AH43="","",AH43) -> 0 | Y45: - | Z45: =IF(AF43="","",AF43) -> 6 | AA45: =IF(OR(AB45="",AD45=""),"",IF(AB45=AD45,"△",IF(AB45>AD45,"○",IF(AB45<AD45,"●","")))) -> ○ | AB45: =IF(AH44="","",AH44) -> 4 | AC45: - | AD45: =IF(AF44="","",AF44) -> 1 | AI45: =IF(OR(AJ45="",AL45=""),"",IF(AJ45=AL45,"△",IF(AJ45>AL45,"○",IF(AJ45<AL45,"●","")))) -> ● | AJ45: 0 | AK45: - | AL45: 5 | AM45: =IF(OR(AN45="",AP45=""),"",IF(AN45=AP45,"△",IF(AN45>AP45,"○",IF(AN45<AP45,"●","")))) -> △ | AN45: 1 | AO45: - | AP45: 1 | AQ45: =IF(OR(AR45="",AT45=""),"",IF(AR45=AT45,"△",IF(AR45>AT45,"○",IF(AR45<AT45,"●","")))) -> ○ | AR45: 4 | AS45: - | AT45: 0 | AY45: =COUNTIF(C45:AX45,"○") -> 3 | AZ45: =COUNTIF(C45:AX45,"●") -> 5 | BA45: =COUNTIF(C45:AX45,"△") -> 2 | BB45: =SUM(3*AY45,0*AZ45,1*BA45) -> 11 | BC45: =SUM(P45,T45,X45,AB45,AF45,AJ45,AN45,AR45,AV45,L45,H45,D45) -> 16 | BD45: =SUM(R45,V45,Z45,AD45,AH45,AL45,AP45,AT45,AX45,N45,J45,F45) -> 26 | BE45: =BC45-BD45 -> -10 | BF45: =BB45+(BE45/100)+(BC45/100000) -> 10.90016 | BG45: =_xlfn.RANK.EQ(BF45,BF$38:BF$48,0) -> 7
A46: 33 | B46: =IF([2]組み分け!J30="","",[2]組み分け!J30) -> 丹陽FC/rabona一宮 | C46: =IF(OR(D46="",F46=""),"",IF(D46=F46,"△",IF(D46>F46,"○",IF(D46<F46,"●","")))) -> ○ | D46: =IF(AL38="","",AL38) -> 5 | E46: - | F46: =IF(AJ38="","",AJ38) -> 0 | G46: =IF(OR(H46="",J46=""),"",IF(H46=J46,"△",IF(H46>J46,"○",IF(H46<J46,"●","")))) -> ○ | H46: =IF(AL39="","",AL39) -> 2 | I46: - | J46: =IF(AJ39="","",AJ39) -> 0 | K46: =IF(OR(L46="",N46=""),"",IF(L46=N46,"△",IF(L46>N46,"○",IF(L46<N46,"●","")))) -> ● | L46: =IF(AL40="","",AL40) -> 0 | M46: - | N46: =IF(AJ40="","",AJ40) -> 3 | O46: =IF(OR(P46="",R46=""),"",IF(P46=R46,"△",IF(P46>R46,"○",IF(P46<R46,"●","")))) -> ○ | P46: =IF(AL41="","",AL41) -> 13 | Q46: - | R46: =IF(AJ41="","",AJ41) -> 1 | S46: =IF(OR(T46="",V46=""),"",IF(T46=V46,"△",IF(T46>V46,"○",IF(T46<V46,"●","")))) -> ○ | T46: =IF(AL42="","",AL42) -> 6 | U46: - | V46: =IF(AJ42="","",AJ42) -> 0 | W46: =IF(OR(X46="",Z46=""),"",IF(X46=Z46,"△",IF(X46>Z46,"○",IF(X46<Z46,"●","")))) -> ○ | X46: =IF(AL43="","",AL43) -> 6 | Y46: - | Z46: =IF(AJ43="","",AJ43) -> 0 | AA46: =IF(OR(AB46="",AD46=""),"",IF(AB46=AD46,"△",IF(AB46>AD46,"○",IF(AB46<AD46,"●","")))) -> ○ | AB46: =IF(AL44="","",AL44) -> 3 | AC46: - | AD46: =IF(AJ44="","",AJ44) -> 0 | AE46: =IF(OR(AF46="",AH46=""),"",IF(AF46=AH46,"△",IF(AF46>AH46,"○",IF(AF46<AH46,"●","")))) -> ○ | AF46: =IF(AL45="","",AL45) -> 5 | AG46: - | AH46: =IF(AJ45="","",AJ45) -> 0 | AM46: =IF(OR(AN46="",AP46=""),"",IF(AN46=AP46,"△",IF(AN46>AP46,"○",IF(AN46<AP46,"●","")))) -> ○ | AN46: 7 | AO46: - | AP46: 0 | AQ46: =IF(OR(AR46="",AT46=""),"",IF(AR46=AT46,"△",IF(AR46>AT46,"○",IF(AR46<AT46,"●","")))) -> ○ | AR46: 4 | AS46: - | AT46: 0 | AY46: =COUNTIF(C46:AX46,"○") -> 9 | AZ46: =COUNTIF(C46:AX46,"●") -> 1 | BA46: =COUNTIF(C46:AX46,"△") -> 0 | BB46: =SUM(3*AY46,0*AZ46,1*BA46) -> 27 | BC46: =SUM(P46,T46,X46,AB46,AF46,AJ46,AN46,AR46,AV46,L46,H46,D46) -> 51 | BD46: =SUM(R46,V46,Z46,AD46,AH46,AL46,AP46,AT46,AX46,N46,J46,F46) -> 4 | BE46: =BC46-BD46 -> 47 | BF46: =BB46+(BE46/100)+(BC46/100000) -> 27.47051 | BG46: =_xlfn.RANK.EQ(BF46,BF$38:BF$48,0) -> 1
A47: 34 | B47: =IF([2]組み分け!J31="","",[2]組み分け!J31) -> 愛知FC一宮 B | C47: =IF(OR(D47="",F47=""),"",IF(D47=F47,"△",IF(D47>F47,"○",IF(D47<F47,"●","")))) -> ○ | D47: =IF(AP38="","",AP38) -> 3 | E47: - | F47: =IF(AN38="","",AN38) -> 1 | G47: =IF(OR(H47="",J47=""),"",IF(H47=J47,"△",IF(H47>J47,"○",IF(H47<J47,"●","")))) -> ● | H47: =IF(AP39="","",AP39) -> 1 | I47: - | J47: =IF(AN39="","",AN39) -> 3 | K47: =IF(OR(L47="",N47=""),"",IF(L47=N47,"△",IF(L47>N47,"○",IF(L47<N47,"●","")))) -> △ | L47: =IF(AP40="","",AP40) -> 1 | M47: - | N47: =IF(AN40="","",AN40) -> 1 | O47: =IF(OR(P47="",R47=""),"",IF(P47=R47,"△",IF(P47>R47,"○",IF(P47<R47,"●","")))) -> ○ | P47: =IF(AP41="","",AP41) -> 2 | Q47: - | R47: =IF(AN41="","",AN41) -> 1 | S47: =IF(OR(T47="",V47=""),"",IF(T47=V47,"△",IF(T47>V47,"○",IF(T47<V47,"●","")))) -> ○ | T47: =IF(AP42="","",AP42) -> 5 | U47: - | V47: =IF(AN42="","",AN42) -> 1 | W47: =IF(OR(X47="",Z47=""),"",IF(X47=Z47,"△",IF(X47>Z47,"○",IF(X47<Z47,"●","")))) -> ○ | X47: =IF(AP43="","",AP43) -> 3 | Y47: - | Z47: =IF(AN43="","",AN43) -> 0 | AA47: =IF(OR(AB47="",AD47=""),"",IF(AB47=AD47,"△",IF(AB47>AD47,"○",IF(AB47<AD47,"●","")))) -> △ | AB47: =IF(AP44="","",AP44) -> 2 | AC47: - | AD47: =IF(AN44="","",AN44) -> 2 | AE47: =IF(OR(AF47="",AH47=""),"",IF(AF47=AH47,"△",IF(AF47>AH47,"○",IF(AF47<AH47,"●","")))) -> △ | AF47: =IF(AP45="","",AP45) -> 1 | AG47: - | AH47: =IF(AN45="","",AN45) -> 1 | AI47: =IF(OR(AJ47="",AL47=""),"",IF(AJ47=AL47,"△",IF(AJ47>AL47,"○",IF(AJ47<AL47,"●","")))) -> ● | AJ47: =IF(AP46="","",AP46) -> 0 | AK47: - | AL47: =IF(AN46="","",AN46) -> 7 | AQ47: =IF(OR(AR47="",AT47=""),"",IF(AR47=AT47,"△",IF(AR47>AT47,"○",IF(AR47<AT47,"●","")))) -> ○ | AR47: 1 | AS47: - | AT47: 0 | AY47: =COUNTIF(C47:AX47,"○") -> 5 | AZ47: =COUNTIF(C47:AX47,"●") -> 2 | BA47: =COUNTIF(C47:AX47,"△") -> 3 | BB47: =SUM(3*AY47,0*AZ47,1*BA47) -> 18 | BC47: =SUM(P47,T47,X47,AB47,AF47,AJ47,AN47,AR47,AV47,L47,H47,D47) -> 19 | BD47: =SUM(R47,V47,Z47,AD47,AH47,AL47,AP47,AT47,AX47,N47,J47,F47) -> 17 | BE47: =BC47-BD47 -> 2 | BF47: =BB47+(BE47/100)+(BC47/100000) -> 18.02019 | BG47: =_xlfn.RANK.EQ(BF47,BF$38:BF$48,0) -> 4
A48: 35 | B48: =IF([2]組み分け!J32="","",[2]組み分け!J32) -> AISAI FC | C48: =IF(OR(D48="",F48=""),"",IF(D48=F48,"△",IF(D48>F48,"○",IF(D48<F48,"●","")))) -> ○ | D48: =IF(AT38="","",AT38) -> 4 | E48: - | F48: =IF(AR38="","",AR38) -> 0 | G48: =IF(OR(H48="",J48=""),"",IF(H48=J48,"△",IF(H48>J48,"○",IF(H48<J48,"●","")))) -> △ | H48: =IF(AT39="","",AT39) -> 1 | I48: - | J48: =IF(AR39="","",AR39) -> 1 | K48: =IF(OR(L48="",N48=""),"",IF(L48=N48,"△",IF(L48>N48,"○",IF(L48<N48,"●","")))) -> ● | L48: =IF(AT40="","",AT40) -> 0 | M48: - | N48: =IF(AR40="","",AR40) -> 12 | O48: =IF(OR(P48="",R48=""),"",IF(P48=R48,"△",IF(P48>R48,"○",IF(P48<R48,"●","")))) -> ● | P48: =IF(AT41="","",AT41) -> 1 | Q48: - | R48: =IF(AR41="","",AR41) -> 3 | S48: =IF(OR(T48="",V48=""),"",IF(T48=V48,"△",IF(T48>V48,"○",IF(T48<V48,"●","")))) -> ○ | T48: =IF(AT42="","",AT42) -> 4 | U48: - | V48: =IF(AR42="","",AR42) -> 0 | W48: =IF(OR(X48="",Z48=""),"",IF(X48=Z48,"△",IF(X48>Z48,"○",IF(X48<Z48,"●","")))) -> ● | X48: =IF(AT43="","",AT43) -> 1 | Y48: - | Z48: =IF(AR43="","",AR43) -> 2 | AA48: =IF(OR(AB48="",AD48=""),"",IF(AB48=AD48,"△",IF(AB48>AD48,"○",IF(AB48<AD48,"●","")))) -> ○ | AB48: =IF(AT44="","",AT44) -> 2 | AC48: - | AD48: =IF(AR44="","",AR44) -> 1 | AE48: =IF(OR(AF48="",AH48=""),"",IF(AF48=AH48,"△",IF(AF48>AH48,"○",IF(AF48<AH48,"●","")))) -> ● | AF48: =IF(AT45="","",AT45) -> 0 | AG48: - | AH48: =IF(AR45="","",AR45) -> 4 | AI48: =IF(OR(AJ48="",AL48=""),"",IF(AJ48=AL48,"△",IF(AJ48>AL48,"○",IF(AJ48<AL48,"●","")))) -> ● | AJ48: =IF(AT46="","",AT46) -> 0 | AK48: - | AL48: =IF(AR46="","",AR46) -> 4 | AM48: =IF(OR(AN48="",AP48=""),"",IF(AN48=AP48,"△",IF(AN48>AP48,"○",IF(AN48<AP48,"●","")))) -> ● | AN48: =IF(AT47="","",AT47) -> 0 | AO48: - | AP48: =IF(AR47="","",AR47) -> 1 | AY48: =COUNTIF(C48:AX48,"○") -> 3 | AZ48: =COUNTIF(C48:AX48,"●") -> 6 | BA48: =COUNTIF(C48:AX48,"△") -> 1 | BB48: =SUM(3*AY48,0*AZ48,1*BA48) -> 10 | BC48: =SUM(P48,T48,X48,AB48,AF48,AJ48,AN48,AR48,AV48,L48,H48,D48) -> 13 | BD48: =SUM(R48,V48,Z48,AD48,AH48,AL48,AP48,AT48,AX48,N48,J48,F48) -> 28 | BE48: =BC48-BD48 -> -15 | BF48: =BB48+(BE48/100)+(BC48/100000) -> 9.85013 | BG48: =_xlfn.RANK.EQ(BF48,BF$38:BF$48,0) -> 9
