Workbook

Sheet 表紙
D1: 第２２回
A4: リバーサイドカップ少年サッカー大会
C15: 令和５年２月１９日（日） １５時予定（試合終了後）
B22: 大会期間 | C22: 令和６年２月１７日（土）、１８日（日）
B24: 開会式 | C24: 令和６年２月１７日（土） | G24: ８時３０分～
C25: 監督会議／審判会議は８：００から行います
B26: 閉会式 | C26: 令和６年２月１８日（日） | G26: １５時１５分～
B28: 会場 | C28: 各務原市総合運動公園内
C29: 各務野フェニックスフィールド・陸上競技場
B32: 主 催 | C32: 各務原市サッカー協会４種
B33: 主 管 | C33: 各務原市サッカー協会少年委員会
C34: 羽島市郡サッカー協会少年委員会
B36: 後 援 | C36: 中日新聞社

Sheet 大会役員
C3: 【 大 会 役 員 】
A9: 大会会長 | C9: 北角 浩一 | F9: 各務原市サッカー協会 会長
A12: 大会副会長 | C12: 石原 興爵 | F12: 各務原市スポーツ少年団 本部長
A15: 大会参与 | C15: 横山 学 | F15: 各務原市スポーツ少年団 副本部長
A18: 大会実行委員長 | C18: 林 英明 | F18: 各務原市サッカー協会 ４種委員長
A21: 大会副実行委員長 | C21: 橋本 擁二 | F21: 各務原市スポーツ少年団 サッカー部会長
C23: 戸谷 才二 | F23: 各務原市スポーツ少年団 サッカー部会代表
C25: 正村 浩一 | F25: 羽島市郡サッカー協会
A28: 事務局長 | C28: 千種 弘 | F28: 各務原市サッカー協会 理事
A31: 事務局委員 | C31: 戸谷 才二 | F31: 各務原市サッカー協会 ４種副委員長
A35: 大会役員 | C35: 各務原市･羽島市郡サッカー少年団 各代表・育成会長
A38: 競技委員長 | C38: 橋本 擁二 | F38: 鵜沼第一サッカースポーツ少年団
A40: 審判委員長 | C40: 林 竜彦 | F40: 鵜沼第一サッカースポーツ少年団
A42: 技術委員長 | C42: 坂井 英男 | F42: 那加一サッカースポーツ少年団

Sheet 大会要項 
A1: 大 会 要 項
A4: 趣旨 | B4: ： | C4: サッカーを通じて少年の健全な育成を目指し、木曽川流域の選手相互の友好と競技の
C5: 普及・技術の向上を目指す。
A6: 主催 | B6: ： | C6: 各務原市サッカー協会４種
A7: 主管 | B7: ： | C7: 各務原市サッカー協会少年委員会・羽島市郡サッカー協会少年委員会
A8: 後援 | B8: ： | C8: 各務原市・各務原市教育委員会・中日新聞社
A9: 大会期日 | B9: ： | C9: 令和６年２月１７日（土）・１８（日）の２日間
A10: 大会会場 | B10: ： | C10: 各務原市総合運動公園各務野フェニックスフィールド ２面（人工芝）
C11: 各務原市総合運動少年グランド １面（人工芝）
C12: 各務原市総合運動公園陸上競技場 2面（芝）
A14: 開会式 | B14: ： | C14: 令和６年２月１７日（土） ８：３０～
A15: 閉会式 | B15: ： | C15: 令和６年２月１８日（日） １５時１５分予定（試合終了後） | H15: フェニックスフィールド
E16: 表彰式には各順位トーナメントの４位まで参加して下さい。
A17: 参加対象 | B17: ： | C17: 小学生（Ｕ-12）で編成されたチームで、スポーツ障害保険に加入済で健康であること。
A18: 参加費用 | B18: ： | C18: 1チーム ￥10,000円－（大会初日ＡＭ8：00より本部にて受付願います）
A19: 競技規則 | B19: ： | C19: ２０２２/２０２３ 日本サッカー協会競技規則に準ずる。（8人制）
A20: 競技方法 | B20: ： | C20: 大会１日目 予選リーグ。（４チーム／８ブロック 計：３２チーム予定）
C21: 大会２日目 決勝・順位トーナメント。
A22: 試合時間 | B22: ： | C22: 予選リーグ１５分ハーフ（１５-５-１５） | F22: 勝点 勝３ 分1 負0 得失点 総得点の順。
C23: 決勝・順位トーナメント１５分ハーフ（１５-５-１５）決勝・順位トーナメントで同点の場合は、３人によるＰＫ戦。
A25: 審判 | B25: ： | C25: １人審判とする。各チームの帯同審判員及び本部審判員。
A26: 集合 | B26: ： | C26: 大会１日目 フェニックスF ８：００分から受付 ８：３０監督・審判会議 開会式は行わない
C27: 大会２日目 各チーム試合開始の１時間前に会場本部にて受付をして下さい。
C28: 全試合終了後、表彰式を行います。
A30: その他
A31: ① 試合は雨天決行としますが、運営上問題がある場合は、各チーム連絡責任者に連絡します。
A32: ② 試合中の応援は、スポーツ少年団の活動にふさわしいものであるよう願います。
A33: ③ 各団員の送迎等、交通安全には、万全の配慮を行ってください。
A34: ④ 紙屑やごみ類（特にタバコの吸殻）は、各チームで責任をもって処理し持ち帰ってください。
A35: ⑤ 審判は必ず審判服を着用のこと。審判は１人制で行います。（主審１名・予備審１名）
A36: ⑥ ラインカー・メージャーは各務原チーム持参願います。石灰は実行委員会にて用意いたします。
A37: ⑦ 試合球は大会本部にて用意いたします。
A38: ⑧大会2日間は同一メンバーでお願いします。

Sheet 開閉会式 
A1: 第２２回リバーサイドカップ少年サッカー大会スケジュール
A3: 【２月1７日（土）】
B4: 【 受付 】 | D4: ７：３０～ | F4: フェニックスフィールド 本部
B5: 【 監督会議 】 | D5: ８：００～ | F5: フェニックスフィールド 本部前
B6: 【 審判会議 】 | D6: ８：００～ | F6: フェニックスフィールド 本部前
B8: 【 開会式 】 | D8: ８：３０～ | F8: フェニックスフィールド 本部前
B10: 1．開会のことば | F10: 林 英明（各務原市サッカー協会 ４種委員長）
B11: 2．大会会長挨拶 | F11: 北角 浩一（各務原市サッカー協会 会長）
B12: 3．各務原市長挨拶 | F12: 浅野 健司（各務原市市長）
B13: 4．選手宣誓 | F13: （各務原中央）
B14: 5．競技ルールの説明・注意事項 | F14: 林 竜彦（審判部長）
B15: 6．閉式のことば | F15: 林 英明（各務原市サッカー協会 ４種委員長）
B17: 【 試合開始 】 | D17: ９：１５～
A19: 【２月１８日（日）】
B20: 各チームの試合開始1時間前までに会場本部で受け付けを行う。
B23: 【 閉会式 及び 表彰式 】 | E23: 15：15～ | F23: フェニックスF本部前にて行ないます。
B24: 表彰式には各順位トーナメントの４位まで参加して下さい。
B26: 1．開式のことば | F26: 戸谷 才二 （各務原市サッカー協会 ４種副委員長）
B27: 2．成績発表 | F27: 橋本 擁二（各務原市サッカー協会 ４種競技部長）
B28: 3．表彰式 | F28: 北角 浩一（各務原市サッカー協会 会長）
F29: 石原 興爵（各務原市スポーツ少年団 本部長）
B30: 4．総評 | F30: 北角 浩一（各務原市サッカー協会 会長）
B31: 5．閉会のことば | F31: 戸谷 才二 （各務原市サッカー協会 ４種副委員長）

Sheet 大会組合せ
S1: 2024/2/17・18
A3: 予選リーグ組合せ表
A5: Aブロック | B5: 1 | C5: （ | D5: 各務原中央 | E5: ） | R5: （ | S5: 那加一 | T5: ） | U5: 17 | V5: Eブロック
B7: 2 | C7: （ | D7: 尾崎 | E7: ） | R7: （ | S7: 加納西 | T7: ） | U7: 18
B9: 3 | C9: （ | D9: 古川西 | E9: ） | R9: （ | S9: 美濃 | T9: ） | U9: 19
B11: 4 | C11: （ | D11: 平群 | E11: ） | R11: （ | S11: 尾西 | T11: ） | U11: 20
A14: Ｂブロック | B14: 5 | C14: （ | D14: 鵜沼第一 | E14: ） | R14: （ | S14: 蘇原 | T14: ） | U14: 21 | V14: Ｆブロック
B16: 6 | C16: （ | D16: 緑陽 | E16: ） | R16: （ | S16: 正木 | T16: ） | U16: 22
B18: 7 | C18: （ | D18: 精華 | E18: ） | R18: （ | S18: 山手 | T18: ） | U18: 23
B20: 8 | C20: （ | D20: 犬山クラブ | E20: ） | R20: （ | S20: 大浜 | T20: ） | U20: 24
A23: Ｃブロック | B23: 9 | C23: （ | D23: 川島 | E23: ） | R23: （ | S23: コラッジョーゾ | T23: ） | U23: 25 | V23: Ｇブロック
B25: 10 | C25: （ | D25: 羽島 | E25: ） | R25: （ | S25: 松枝 | T25: ） | U25: 26
B27: 11 | C27: （ | D27: 加茂野 | E27: ） | R27: （ | S27: コヴィーダ | T27: ） | U27: 27
B29: 12 | C29: （ | D29: 祖父江 | E29: ） | R29: （ | S29: 稲沢 | T29: ） | U29: 28
A32: Dブロック | B32: 13 | C32: （ | D32: ドラッツェ | E32: ） | R32: （ | S32: 八木山 | T32: ） | U32: 29 | V32: Ｈブロック
B34: 14 | C34: （ | D34: 岐南 | E34: ） | R34: （ | S34: 那加２３ | T34: ） | U34: 30
B36: 15 | C36: （ | D36: FC恵那 | E36: ） | R36: （ | S36: 太田 | T36: ） | U36: 31
B38: 16 | C38: （ | D38: NagoyaSS | E38: ） | R38: （ | S38: 名古屋みなと | T38: ） | U38: 32
R40: （ | S40: 豊田AFC | T40: ） | U40: 33

Sheet リーグ星取
A1: 予選リーグ星取表 令和６年２月１７日（土）
A3: A | C3: =B4 -> 各務原中央 | D3: =B5 -> 尾崎 | E3: =B6 -> 古川西 | F3: =B7 -> 平群 | G3: 勝ち | H3: 負け | I3: 分け | J3: 勝点 | K3: 得失 | L3: 順位
B4: =大会組合せ!D5 -> 各務原中央
B5: =大会組合せ!D7 -> 尾崎
B6: =大会組合せ!D9 -> 古川西
B7: =大会組合せ!D11 -> 平群
A9: B | C9: =B10 -> 鵜沼第一 | D9: =B11 -> 緑陽 | E9: =B12 -> 精華 | F9: =B13 -> 犬山クラブ | G9: 勝ち | H9: 負け | I9: 分け | J9: 勝点 | K9: 得失 | L9: 順位
B10: =大会組合せ!D14 -> 鵜沼第一
B11: =大会組合せ!D16 -> 緑陽
B12: =大会組合せ!D18 -> 精華
B13: =大会組合せ!D20 -> 犬山クラブ
A15: C | C15: =B16 -> 川島 | D15: =B17 -> 羽島 | E15: =B18 -> 加茂野 | F15: =B19 -> 祖父江 | G15: 勝ち | H15: 負け | I15: 分け | J15: 勝点 | K15: 得失 | L15: 順位
B16: =大会組合せ!D23 -> 川島
B17: =大会組合せ!D25 -> 羽島
B18: =大会組合せ!D27 -> 加茂野
B19: =大会組合せ!D29 -> 祖父江
A21: D | C21: =B22 -> ドラッツェ | D21: =B23 -> 岐南 | E21: =B24 -> FC恵那 | F21: =B25 -> NagoyaSS | G21: 勝ち | H21: 負け | I21: 分け | J21: 勝点 | K21: 得失 | L21: 順位
B22: =大会組合せ!D32 -> ドラッツェ
B23: =大会組合せ!D34 -> 岐南
B24: =大会組合せ!D36 -> FC恵那
B25: =大会組合せ!D38 -> NagoyaSS
A27: E | C27: =B28 -> 那加一 | D27: =B29 -> 加納西 | E27: =B30 -> 美濃 | F27: =B31 -> 尾西 | G27: 勝ち | H27: 負け | I27: 分け | J27: 勝点 | K27: 得失 | L27: 順位
B28: =大会組合せ!S5 -> 那加一
B29: =大会組合せ!S7 -> 加納西
B30: =大会組合せ!S9 -> 美濃
B31: =大会組合せ!S11 -> 尾西
A33: F | C33: =B34 -> 蘇原 | D33: =B35 -> 正木 | E33: =B36 -> 山手 | F33: =B37 -> 大浜 | G33: 勝ち | H33: 負け | I33: 分け | J33: 勝点 | K33: 得失 | L33: 順位
B34: =大会組合せ!S14 -> 蘇原
B35: =大会組合せ!S16 -> 正木
B36: =大会組合せ!S18 -> 山手
B37: =大会組合せ!S20 -> 大浜
A39: G | C39: =B40 -> コラッジョーゾ | D39: =B41 -> 松枝 | E39: =B42 -> コヴィーダ | F39: =B43 -> 稲沢 | G39: 勝ち | H39: 負け | I39: 分け | J39: 勝点 | K39: 得失 | L39: 順位
B40: =大会組合せ!S23 -> コラッジョーゾ
B41: =大会組合せ!S25 -> 松枝
B42: =大会組合せ!S27 -> コヴィーダ
B43: =大会組合せ!S29 -> 稲沢
A45: H | C45: =B46 -> 八木山 | D45: =B47 -> 那加２３ | E45: =B48 -> 太田 | F45: =B49 -> 名古屋みなと | G45: =B50 -> 豊田AFC | H45: 勝ち | I45: 負け | J45: 分け | K45: 勝点 | L45: 得失 | M45: 順位
B46: =大会組合せ!S32 -> 八木山
B47: =大会組合せ!S34 -> 那加２３
B48: =大会組合せ!S36 -> 太田
...

Sheet 17日組合せ時間
B1: リバーサイドカップ 第一日目（予選リーグ） 令和５年２月１８日（土）
A2: 陸上（北面） | G2: 陸上（南面）
A3: 時間 | B3: 対戦表 | E3: 主審 | F3: 予審 | G3: 時間 | H3: 対戦表 | K3: 主審 | L3: 予審
A4: 0.38541667 | B4: =大会組合せ!D5 -> 各務原中央 | D4: =大会組合せ!D11 -> 平群 | E4: =大会組合せ!D23 -> 川島 | F4: =大会組合せ!D29 -> 祖父江 | G4: 0.38541667 | H4: =大会組合せ!D7 -> 尾崎 | J4: =大会組合せ!D9 -> 古川西 | K4: =大会組合せ!D25 -> 羽島 | L4: =大会組合せ!D27 -> 加茂野
A5: 0.41666667 | B5: =大会組合せ!D23 -> 川島 | D5: =大会組合せ!D29 -> 祖父江 | E5: =大会組合せ!D5 -> 各務原中央 | F5: =大会組合せ!D11 -> 平群 | G5: 0.41666667 | H5: =大会組合せ!D25 -> 羽島 | J5: =大会組合せ!D27 -> 加茂野 | K5: =大会組合せ!D7 -> 尾崎 | L5: =大会組合せ!D9 -> 古川西
A6: 0.44791667 | B6: =大会組合せ!D32 -> ドラッツェ | D6: =大会組合せ!D38 -> NagoyaSS | E6: =大会組合せ!S14 -> 蘇原 | F6: =大会組合せ!S20 -> 大浜 | G6: 0.44791667 | H6: =大会組合せ!D34 -> 岐南 | J6: =大会組合せ!D36 -> FC恵那 | K6: =大会組合せ!S16 -> 正木 | L6: =大会組合せ!S18 -> 山手
A7: 0.47916667 | B7: =大会組合せ!S32 -> 八木山 | D7: =大会組合せ!S40 -> 豊田AFC | E7: =大会組合せ!D32 -> ドラッツェ | F7: =大会組合せ!D38 -> NagoyaSS | G7: 0.47916667 | H7: =大会組合せ!S34 -> 那加２３ | J7: =大会組合せ!S36 -> 太田 | K7: =大会組合せ!D34 -> 岐南 | L7: =大会組合せ!D36 -> FC恵那
A8: 0.51041667 | B8: =大会組合せ!S5 -> 那加一 | D8: =大会組合せ!S9 -> 美濃 | E8: =大会組合せ!S32 -> 八木山 | F8: =大会組合せ!S40 -> 豊田AFC | G8: 0.51041667 | H8: =大会組合せ!S7 -> 加納西 | J8: =大会組合せ!S11 -> 尾西 | K8: =大会組合せ!S34 -> 那加２３ | L8: =大会組合せ!S36 -> 太田
A9: 0.54166667 | B9: =大会組合せ!S23 -> コラッジョーゾ | D9: =大会組合せ!S27 -> コヴィーダ | E9: =大会組合せ!S9 -> 美濃 | F9: =大会組合せ!S5 -> 那加一 | G9: 0.54166667 | H9: =大会組合せ!S25 -> 松枝 | J9: =大会組合せ!S29 -> 稲沢 | K9: =大会組合せ!S11 -> 尾西 | L9: =大会組合せ!S7 -> 加納西
A10: 0.57291667 | B10: =大会組合せ!S5 -> 那加一 | D10: =大会組合せ!S7 -> 加納西 | E10: =大会組合せ!S34 -> 那加２３ | F10: =大会組合せ!S34 -> 那加２３ | G10: 0.57291667 | H10: =大会組合せ!S9 -> 美濃 | J10: =大会組合せ!S11 -> 尾西 | K10: =大会組合せ!S14 -> 蘇原 | L10: =大会組合せ!S23 -> コラッジョーゾ
A11: 0.60416667 | B11: =大会組合せ!S14 -> 蘇原 | D11: =大会組合せ!S16 -> 正木 | E11: 本部 | F11: 本部 | G11: 0.60416667 | H11: =大会組合せ!S18 -> 山手 | J11: =大会組合せ!S20 -> 大浜 | K11: 本部 | L11: 本部
A12: 0.63541667 | G12: 0.63541667
A15: フェニックス西面 | G15: フェニックス東面
A16: 時間 | B16: 対戦表 | E16: 主審 | F16: 予審 | G16: 時間 | H16: 対戦表 | K16: 主審 | L16: 予審
A17: 0.38541667 | B17: =大会組合せ!D14 -> 鵜沼第一 | D17: =大会組合せ!D20 -> 犬山クラブ | E17: =大会組合せ!S23 -> コラッジョーゾ | F17: =大会組合せ!S29 -> 稲沢 | G17: 0.38541667 | H17: =大会組合せ!D16 -> 緑陽 | J17: =大会組合せ!D18 -> 精華 | K17: =大会組合せ!S25 -> 松枝 | L17: =大会組合せ!S27 -> コヴィーダ
A18: 0.41666667 | B18: =大会組合せ!S34 -> 那加２３ | D18: =大会組合せ!S40 -> 豊田AFC | E18: =大会組合せ!D14 -> 鵜沼第一 | F18: =大会組合せ!D20 -> 犬山クラブ | G18: 0.41666667 | H18: =大会組合せ!S36 -> 太田 | J18: =大会組合せ!S38 -> 名古屋みなと | K18: =大会組合せ!D16 -> 緑陽 | L18: =大会組合せ!D18 -> 精華
A19: 0.44791667 | B19: =大会組合せ!S5 -> 那加一 | D19: =大会組合せ!S11 -> 尾西 | E19: =大会組合せ!S32 -> 八木山 | F19: =大会組合せ!S40 -> 豊田AFC | G19: 0.44791667 | H19: =大会組合せ!S7 -> 加納西 | J19: =大会組合せ!S9 -> 美濃 | K19: =大会組合せ!S36 -> 太田 | L19: =大会組合せ!S38 -> 名古屋みなと
A20: 0.47916667 | B20: =大会組合せ!S14 -> 蘇原 | D20: =大会組合せ!S18 -> 山手 | E20: =大会組合せ!S5 -> 那加一 | F20: =大会組合せ!S11 -> 尾西 | G20: 0.47916667 | H20: =大会組合せ!S16 -> 正木 | J20: =大会組合せ!S20 -> 大浜 | K20: =大会組合せ!S9 -> 美濃 | L20: =大会組合せ!S7 -> 加納西
A21: 0.51041667 | B21: =大会組合せ!D32 -> ドラッツェ | D21: =大会組合せ!D36 -> FC恵那 | E21: =大会組合せ!S18 -> 山手 | F21: =大会組合せ!S14 -> 蘇原 | G21: 0.51041667 | H21: =大会組合せ!D34 -> 岐南 | J21: =大会組合せ!D38 -> NagoyaSS | K21: =大会組合せ!S20 -> 大浜 | L21: =大会組合せ!S16 -> 正木
A22: 0.54166667 | B22: =大会組合せ!S32 -> 八木山 | D22: =大会組合せ!S38 -> 名古屋みなと | E22: =大会組合せ!D36 -> FC恵那 | F22: =大会組合せ!D32 -> ドラッツェ | G22: 0.54166667 | H22: =大会組合せ!S36 -> 太田 | J22: =大会組合せ!S40 -> 豊田AFC | K22: =大会組合せ!D38 -> NagoyaSS | L22: =大会組合せ!D34 -> 岐南
A23: 0.57291667 | B23: =大会組合せ!D32 -> ドラッツェ | D23: =大会組合せ!D34 -> 岐南 | E23: =大会組合せ!S38 -> 名古屋みなと | F23: =大会組合せ!S32 -> 八木山 | G23: 0.57291667 | H23: =大会組合せ!D36 -> FC恵那 | J23: =大会組合せ!D38 -> NagoyaSS | K23: =大会組合せ!S40 -> 豊田AFC | L23: =大会組合せ!S36 -> 太田
A24: 0.60416667 | B24: =大会組合せ!S32 -> 八木山 | D24: =大会組合せ!S36 -> 太田 | E24: =大会組合せ!D32 -> ドラッツェ | F24: =大会組合せ!D34 -> 岐南 | G24: 0.60416667 | H24: =大会組合せ!S34 -> 那加２３ | J24: =大会組合せ!S38 -> 名古屋みなと | K24: =大会組合せ!D36 -> FC恵那 | L24: =大会組合せ!D38 -> NagoyaSS
A25: 0.64583333 | B25: =大会組合せ!S32 -> 八木山 | D25: =大会組合せ!S34 -> 那加２３ | E25: =大会組合せ!S14 -> 蘇原 | F25: =大会組合せ!S16 -> 正木 | G25: 0.64583333 | H25: =大会組合せ!S38 -> 名古屋みなと | J25: =大会組合せ!S40 -> 豊田AFC | K25: =大会組合せ!S18 -> 山手 | L25: =大会組合せ!S20 -> 大浜
A28: フェニックス少年面
A29: 時間 | B29: 対戦表 | E29: 主審 | F29: 予審
A30: 0.38541667 | B30: =大会組合せ!S14 -> 蘇原 | D30: =大会組合せ!S20 -> 大浜 | E30: =大会組合せ!S5 -> 那加一 | F30: =大会組合せ!S11 -> 尾西
A31: 0.41666667 | B31: =大会組合せ!S16 -> 正木 | D31: =大会組合せ!S18 -> 山手 | E31: =大会組合せ!S7 -> 加納西 | F31: =大会組合せ!S9 -> 美濃
A32: 0.44791667 | B32: =大会組合せ!S23 -> コラッジョーゾ | D32: =大会組合せ!S29 -> 稲沢 | E32: =大会組合せ!S27 -> コヴィーダ | F32: =大会組合せ!S25 -> 松枝
A33: 0.47916667 | B33: =大会組合せ!S25 -> 松枝 | D33: =大会組合せ!S27 -> コヴィーダ | E33: =大会組合せ!S29 -> 稲沢 | F33: =大会組合せ!S23 -> コラッジョーゾ
A34: 0.51041667
A35: 0.54166667
A36: 0.57291667
A37: 0.60416667 | B37: =大会組合せ!S23 -> コラッジョーゾ | D37: =大会組合せ!S25 -> 松枝 | E37: =大会組合せ!S27 -> コヴィーダ | F37: =大会組合せ!S29 -> 稲沢
A38: 0.63541667 | B38: =大会組合せ!S27 -> コヴィーダ | D38: =大会組合せ!S29 -> 稲沢 | E38: =大会組合せ!S23 -> コラッジョーゾ | F38: =大会組合せ!S25 -> 松枝
A40: 川島多目的 西面 | G40: 川島多目的 東面
A41: 時間 | B41: 対戦表 | E41: 主審 | F41: 予審 | G41: 時間 | H41: 対戦表 | K41: 主審 | L41: 予審
A42: 0.38541667 | G42: 0.38541667
A43: 0.41666667 | G43: 0.41666667
A44: 0.44791667 | G44: 0.44791667
A45: 0.47916667 | B45: =大会組合せ!D5 -> 各務原中央 | D45: =大会組合せ!D9 -> 古川西 | E45: =大会組合せ!D23 -> 川島 | F45: =大会組合せ!D25 -> 羽島 | G45: 0.47916667 | H45: =大会組合せ!D7 -> 尾崎 | J45: =大会組合せ!D11 -> 平群 | K45: =大会組合せ!D27 -> 加茂野 | L45: =大会組合せ!D29 -> 祖父江
...

Sheet 17日チーム別スケジュール
C2: 9:15 | D2: 10:00 | E2: 10:45 | F2: 11:30 | G2: 12:15 | H2: 13:00 | I2: 13:45 | J2: 14:30 | K2: 15:15
A3: A | B3: 各務原中央 | C3: 陸上（北） | D3: 審：陸上（北） | F3: 川島（西） | G3: 審：川島（西） | I3: 川島（西） | J3: 審：川島（西）
B4: 尾崎 | C4: 陸上（南） | D4: 審：陸上（南） | F4: 川島（東） | G4: 審：川島（東） | I4: 川島（西） | J4: 審：川島（西）
B5: 古川西 | C5: 陸上（南） | D5: 審：陸上（南） | F5: 川島（西） | G5: 審：川島（西） | I5: 川島（東） | J5: 審：川島（東）
B6: 平群 | C6: 陸上（北） | D6: 審：陸上（北） | F6: 川島（東） | G6: 審：川島（東） | I6: 川島（東） | J6: 審：川島（東）
C8: 9:15 | D8: 10:00 | E8: 10:45 | F8: 11:30 | G8: 12:15 | H8: 13:00 | I8: 13:45 | J8: 14:30 | K8: 15:15
A9: B | B9: 鵜沼第一 | C9: フェニックス（西） | D9: 審：フェニックス（西） | G9: 川島（西） | H9: 審：川島（西） | J9: 川島（西） | K9: 審：川島（西）
B10: 緑陽 | C10: フェニックス（東） | D10: 審：フェニックス（東） | G10: 川島（東） | H10: 審：川島（東） | J10: 川島（西） | K10: 審：川島（西）
B11: 精華 | C11: フェニックス（東） | D11: 審：フェニックス（東） | G11: 川島（西） | H11: 審：川島（西） | J11: 川島（東） | K11: 審：川島（東）
B12: 犬山クラブ | C12: フェニックス（西） | D12: 審：フェニックス（西） | G12: 川島（東） | H12: 審：川島（東） | J12: 川島（東） | K12: 審：川島（東）
C14: 9:15 | D14: 10:00 | E14: 10:45 | F14: 11:30 | G14: 12:15 | H14: 13:00 | I14: 13:45 | J14: 14:30 | K14: 15:15
A15: C | B15: 川島 | C15: 審：陸上（北） | D15: 陸上（北） | F15: 審：川島（西） | H15: 川島（西） | I15: 審：川島（西） | K15: 川島（西）
B16: 羽島 | C16: 審：陸上（南） | D16: 陸上（南） | F16: 審：川島（西） | H16: 川島（東） | I16: 審：川島（東） | K16: 川島（西）
B17: 加茂野 | C17: 審：陸上（南） | D17: 陸上（南） | F17: 審：川島（東） | H17: 川島（西） | I17: 審：川島（西） | K17: 川島（東）
B18: 祖父江 | C18: 審：陸上（北） | D18: 陸上（北） | F18: 審：川島（東） | H18: 川島（東） | I18: 審：川島（東） | K18: 川島（東）
C20: 9:15 | D20: 10:00 | E20: 10:45 | F20: 11:30 | G20: 12:15 | H20: 13:00 | I20: 13:45 | J20: 14:30 | K20: 15:15
A21: D | B21: ドラッツェ | E21: 陸上（北） | F21: 審：陸上（北） | G21: フェニックス（西） | H21: 審：フェニックス（西） | I21: フェニックス（西） | J21: 審：フェニックス（西）
B22: 岐南 | E22: 陸上（南） | F22: 審：陸上（南） | G22: フェニックス（東） | H22: 審：フェニックス（東） | I22: フェニックス（西） | J22: 審：フェニックス（西）
B23: FC恵那 | E23: 陸上（南） | F23: 審：陸上（南） | G23: フェニックス（西） | H23: 審：フェニックス（西） | I23: フェニックス（東） | J23: 審：フェニックス（東）
B24: NagoyaSS | E24: 陸上（北） | F24: 審：陸上（北） | G24: フェニックス（東） | H24: 審：フェニックス（東） | I24: フェニックス（東） | J24: 審：フェニックス（東）
C26: 9:15 | D26: 10:00 | E26: 10:45 | F26: 11:30 | G26: 12:15 | H26: 13:00 | I26: 13:45 | J26: 14:30 | K26: 15:15
A27: E | B27: 那加一 | C27: 審：フェニックス（少年） | E27: フェニックス（西） | F27: 審：フェニックス（西） | G27: 陸上（北） | H27: 審：陸上（北） | I27: 陸上（北）
B28: 加納西 | D28: 審：フェニックス（少年） | E28: フェニックス（東） | F28: 審：フェニックス（東） | G28: 陸上（南） | H28: 審：陸上（南） | I28: 陸上（北）
B29: 美濃 | D29: 審：フェニックス（少年） | E29: フェニックス（東） | F29: 審：フェニックス（東） | G29: 陸上（北） | H29: 審：陸上（北） | I29: 陸上（南）
B30: 尾西 | C30: 審：フェニックス（少年） | E30: フェニックス（西） | F30: 審：フェニックス（西） | G30: 陸上（南） | H30: 審：陸上（南） | I30: 陸上（南）
C32: 9:15 | D32: 10:00 | E32: 10:45 | F32: 11:30 | G32: 12:15 | H32: 13:00 | I32: 13:45 | J32: 14:30 | K32: 15:15
A33: F | B33: 蘇原 | C33: フェニックス（少年） | E33: 審：陸上（北） | F33: フェニックス（西） | G33: 審：フェニックス（西） | I33: 審：陸上（南） | J33: 陸上（北） | K33: 審：フェニックス（西）
B34: 正木 | D34: フェニックス（少年） | E34: 審：陸上（南） | F34: フェニックス（東） | G34: 審：フェニックス（東） | J34: 陸上（北） | K34: 審：フェニックス（西）
B35: 山手 | D35: フェニックス（少年） | E35: 審：陸上（南） | F35: フェニックス（西） | G35: 審：フェニックス（西） | J35: 陸上（南） | K35: 審：フェニックス（東）
B36: 大浜 | C36: フェニックス（少年） | E36: 審：陸上（北） | F36: フェニックス（東） | G36: 審：フェニックス（東） | J36: 陸上（南） | K36: 審：フェニックス（東）
C38: 9:15 | D38: 10:00 | E38: 10:45 | F38: 11:30 | G38: 12:15 | H38: 13:00 | I38: 13:45 | J38: 14:30 | K38: 15:15
A39: G | B39: コラッジョーゾ | C39: 審：フェニックス（西） | E39: フェニックス（少年） | F39: 審：フェニックス（少年） | H39: 陸上（北） | I39: 審：陸上（南） | J39: フェニックス（少年） | K39: 審：フェニックス（少年）
B40: 松枝 | C40: 審：フェニックス（東） | E40: 審：フェニックス（少年） | F40: フェニックス（少年） | H40: 陸上（南） | J40: フェニックス（少年） | K40: 審：フェニックス（少年）
B41: コヴィーダ | C41: 審：フェニックス（東） | E41: 審：フェニックス（少年） | F41: フェニックス（少年） | H41: 陸上（北） | J41: 審：フェニックス（少年） | K41: フェニックス（少年）
B42: 稲沢 | C42: 審：フェニックス（西） | E42: フェニックス（少年） | F42: 審：フェニックス（少年） | H42: 陸上（南） | J42: 審：フェニックス（少年） | K42: フェニックス（少年）
C44: 9:15 | D44: 10:00 | E44: 10:45 | F44: 11:30 | G44: 12:15 | H44: 13:00 | I44: 13:45 | J44: 14:30 | K44: 15:15
A45: H | B45: 八木山 | E45: 審：フェニックス（西） | F45: 陸上（北） | G45: 審：陸上（北） | H45: フェニックス（西） | I45: 審：フェニックス（西） | J45: フェニックス（西） | K45: フェニックス（西）
B46: 那加２３ | D46: フェニックス（西） | F46: 陸上（南） | G46: 審：陸上（南） | I46: 審：陸上（北）※２名 | J46: フェニックス（東） | K46: フェニックス（西）
B47: 太田 | D47: フェニックス（東） | E47: 審：フェニックス（東） | F47: 陸上（南） | G47: 審：陸上（南） | H47: フェニックス（東） | I47: 審：フェニックス（東） | J47: フェニックス（西）
B48: 名古屋みなと | D48: フェニックス（東） | E48: 審：フェニックス（東） | H48: フェニックス（西） | I48: 審：フェニックス（西） | J48: フェニックス（東） | K48: フェニックス（東）
...

Sheet 順位トーナメント
E1: 第２２回 リバーサイドカップ 令和６年２月１８日（日）
E2: １位決勝トーナメント
L3: 優勝： | AL3: ① | AM3: ①H１位
AL4: ② | AM4: ②
AL5: ③ | AM5: ③
Q6: 12 | AL6: ④ | AM6: ④
Q7: 11 | AL7: ⑤ | AM7: ⑤
I8: 6 | Y8: 7 | AL8: ⑥ | AM8: ⑥
AL9: ⑦ | AM9: ⑦
E10: 2 | M10: 3 | U10: 4 | AF10: 5 | AL10: ⑧ | AM10: ⑧H２位
AL11: ⑨ | AM11: ⑨
AC12: 1
B14: =AM3 -> ①H１位 | F14: =AM4 -> ② | J14: =AM5 -> ③ | N14: =AM6 -> ④ | R14: =AM7 -> ⑤ | V14: =AM8 -> ⑥ | Z14: =AM9 -> ⑦ | AD14: =AM10 -> ⑧H２位 | AH14: =AM11 -> ⑨
I17: 8 | Y17: 9
T18: 10
E20: ２位決勝トーナメント
L21: 優勝：
AL22: ⑩ | AM22: ⑩
AL23: ⑪ | AM23: ⑪
Q24: 30 | AL24: ⑫ | AM24: ⑫
Q25: 29 | AL25: ⑬ | AM25: ⑬
I26: 25 | Y26: 26 | AL26: ⑭ | AM26: ⑭
AL27: ⑮ | AM27: ⑮
E28: 21 | M28: 22 | U28: 23 | AC28: 24 | AL28: ⑯ | AM28: ⑯
AL29: ⑰ | AM29: ⑰
B30: =AM22 -> ⑩ | F30: =AM23 -> ⑪ | J30: =AM24 -> ⑫ | N30: =AM25 -> ⑬ | R30: =AM26 -> ⑭ | V30: =AM27 -> ⑮ | Z30: =AM28 -> ⑯ | AD30: =AM29 -> ⑰
I33: 27 | Y33: 28
E35: ３位決勝トーナメント
L36: 優勝：
AL38: ⑱ | AM38: ⑱
Q39: 40 | AL39: ⑲ | AM39: ⑲
Q40: 39 | AL40: ⑳ | AM40: ⑳
I41: 35 | Y41: 36 | AL41: ㉑ | AM41: ㉑
AL42: ㉒ | AM42: ㉒
E43: 31 | M43: 32 | U43: 33 | AC43: 34 | AL43: ㉓ | AM43: ㉓
AL44: ㉔ | AM44: ㉔
B45: =AM38 -> ⑱ | F45: =AM39 -> ⑲ | J45: =AM40 -> ⑳ | N45: =AM41 -> ㉑ | R45: =AM42 -> ㉒ | V45: =AM43 -> ㉓ | Z45: =AM44 -> ㉔ | AD45: =AM45 -> ㉕ | AL45: ㉕ | AM45: ㉕
I48: 37 | Y48: 38
E50: ４位決勝トーナメント
L51: 優勝：
...

Sheet 組合せ時間１8日
C1: リバーサイドカップ 第一日目（予選リーグ） 令和５年２月１８日（土）
A2: 陸上（北面） | H2: 陸上（南面）
A3: 時間 | B3: 番号 | C3: 対戦表 | F3: 主審 | G3: 予審 | H3: 時間 | I3: 番号 | J3: 対戦表 | M3: 主審 | N3: 予審 | S3: 主審 | T3: 予備審
A4: 0.35416667 | B4: 21 | F4: ① | G4: ② | H4: 0.35416667 | I4: 22 | M4: ③ | N4: ④ | R4: ① | S4: 〇
A5: 0.38541667 | B5: 2 | F5: ⑩ | G5: ⑪ | H5: 0.38541667 | I5: 3 | M5: ⑫ | N5: ⑬ | R5: ② | T5: 〇
A6: 0.41666667 | B6: 25 | F6: 審判部 | G6: 審判部 | H6: 0.41666667 | I6: 26 | M6: 審判部 | N6: 審判部 | R6: ③ | S6: 〇
A7: 0.44791667 | B7: 27 | F7: 8 | G7: 8 | H7: 0.44791667 | I7: 28 | M7: ９ | N7: 9 | R7: ④ | T7: 〇
A8: 0.47916667 | H8: 0.47916667 | R8: ⑤ | S8: 〇
R9: ⑥ | T9: 〇
A10: 0.54166667 | B10: 45 | F10: 審判部 | G10: 審判部 | H10: 0.54166667 | I10: 46 | M10: 審判部 | N10: 審判部 | R10: ⑦
A11: 0.57291667 | H11: 0.57291667 | R11: ⑧
A12: 0.59375 | H12: 0.59375 | R12: ⑨ | T12: 〇
R13: ⑩ | S13: 〇
R14: ⑪ | T14: 〇
R15: ⑫ | S15: 〇
R16: ⑬ | T16: 〇
R17: ⑭ | S17: 〇
A18: フェニックス西面 | H18: フェニックス東面 | R18: ⑮ | T18: 〇
A19: 時間 | B19: 番号 | C19: 対戦表 | F19: 主審 | G19: 予審 | H19: 時間 | I19: 番号 | J19: 対戦表 | M19: 主審 | N19: 予審 | R19: ⑯ | S19: 〇
A20: 0.35416667 | B20: 23 | F20: ⑤ | G20: ⑥ | H20: 0.35416667 | I20: 24 | M20: 審判部 | N20: ⑨ | R20: ⑰ | T20: 〇
A21: 0.38541667 | B21: 4 | F21: ⑭ | G21: ⑮ | H21: 0.38541667 | I21: 5 | M21: ⑯ | N21: ⑰ | R21: ⑱ | S21: 〇
A22: 0.41666667 | B22: 8 | F22: 27 | G22: 27 | H22: 0.41666667 | I22: 9 | M22: 28 | N22: 28 | R22: ⑲ | T22: 〇
A23: 0.44791667 | B23: 6 | F23: 審判部 | G23: 審判部 | H23: 0.44791667 | I23: 7 | M23: 審判部 | N23: 審判部 | R23: ⑳ | S23: 〇
A24: 0.47916667 | B24: 35 | F24: 審判部 | G24: 審判部 | H24: 0.47916667 | I24: 36 | M24: 審判部 | N24: 審判部 | R24: ㉑ | T24: 〇
R25: ㉒ | S25: 〇
A26: 0.54166667 | B26: 11 | F26: 審判部 | G26: 審判部 | H26: 0.54166667 | I26: 29 | M26: 審判部 | N26: 審判部 | R26: ㉓ | T26: 〇
A27: 0.57291667 | B27: 12 | F27: 審判部 | G27: 審判部 | H27: 0.57291667 | I27: 30 | M27: 審判部 | N27: 審判部 | R27: ㉔ | S27: 〇
A28: 0.59375 | B28: 40 | F28: 審判部 | G28: 審判部 | H28: 0.59375 | I28: 50 | M28: 審判部 | N28: 審判部 | R28: ㉕ | T28: 〇
R29: ㉖ | S29: 〇
R30: ㉗ | T30: 〇
R31: ㉘ | S31: 〇
R32: ㉙ | T32: 〇
R33: ㉚ | S33: 〇
A34: フェニックス少年面 | R34: ㉛ | T34: 〇
A35: 時間 | B35: 番号 | C35: 対戦表 | F35: 主審 | G35: 予審 | R35: ㉜ | S35: 〇
A36: 0.35416667 | B36: 1 | F36: 審判部 | G36: 審判部 | R36: ㉝ | T36: 〇
A37: 0.38541667
A38: 0.41666667
A39: 0.44791667
A40: 0.47916667 | B40: 10 | F40: １勝
...

Sheet フェニックス注意事項
R1: 【各務原市総合運動公園（各務野フェニックスフィールド）】
I6: マ
I7: イ
H8: バ | I8: ク
H9: ス | I9: ロ

Sheet 川島多目的
G34: 川島多目的グランド
G35: https://www.city.kakamigahara.lg.jp/shisei/shisetsu/1005665/1005674.html
