Workbook

Sheet 参加チーム
A1: AIFA第3回津留建設工業リーグ2024西尾張地区リーグＵ－10
A3: 参加チーム一覧
F5: 参加チーム 30
A7: Ｎｏ． | B7: 一宮・尾北ブロック | E7: Ｎｏ． | F7: 海部・稲沢ブロック | G7: 抽選番号
A8: 1 | B8: TRY愛知 | C8: 1 | E8: 21 | F8: 津島ＡＦＣ | G8: 12
A9: 2 | B9: クレバーフット | C9: 11 | E9: 22 | F9: ＳＡＫＵＲＡ ＦＣ | G9: 23
A10: 3 | B10: 尾西FC A | C10: 21 | E10: 23 | F10: PositivoFC | G10: 25
A11: 4 | B11: 愛知FC一宮 A | C11: 22 | E11: 24 | F11: アクアJFC愛西 | G11: 26
A12: 5 | B12: 犬山クラブ | C12: 2 | E12: 25 | F12: 弥富JSS | G12: 7
A13: 6 | B13: ＦＣ ｇｏｌａｚｏ ｇｏｌ一宮 | C13: 3 | E13: 26 | F13: NPFC | G13: 27
A14: 7 | B14: 岩倉ＦＣフォルテ | C14: 13 | E14: 27 | F14: Livent | G14: 28
A15: 8 | B15: Ｆ．Ｃ．ＤＩＶＩＮＥ Ａ | C15: 24 | E15: 28 | F15: エルニーニョ美和 | G15: 18
A16: 9 | B16: 尾張ＦＣ Ａ | C16: 14 | E16: 29 | F16: BRO FC | G16: 8
A17: 10 | B17: 尾張ＦＣ Ｂ | C17: 4
A18: 11 | B18: 尾西ＳＳ | C18: 5
A19: 12 | B19: ＦＣ ＫＯＮＡＮ | C19: 15
A20: 13 | B20: Partigiano FC | C20: 16
A21: 14 | B21: 一宮FC Ａ | C21: 6
A22: 15 | B22: Ｆ．Ｃ．ＤＩＶＩＮＥ Ｂ | C22: 17
A23: 16 | B23: 愛知FC一宮 Ｂ | C23: 9
A24: 17 | B24: 尾西FC Ｂ | C24: 19
A25: 18 | B25: アシストＦＣ | C25: 29
A26: 新規参加チーム
A27: 19 | B27: 一宮FC Ｂ | C27: 30 | E27: 30 | F27: ドルフィンFC | G27: 10
A28: 20 | B28: 一宮FC C | C28: 20

Sheet 組み分け
A1: AIFA第３回津留建設工業リーグ2024西尾張リーグU-10
A5: 【Ａブロック】 | H5: 【Ｂブロック】 | O5: 【Cブロック】
A6: 1 | B6: TRY愛知 | H6: 11 | I6: クレバーフット | O6: 21 | P6: 尾西FC A
A7: 2 | B7: 犬山クラブ | H7: 12 | I7: 津島ＡＦＣ | O7: 22 | P7: 愛知FC一宮 A
A8: 3 | B8: ＦＣ ｇｏｌａｚｏ ｇｏｌ一宮 | H8: 13 | I8: 岩倉ＦＣフォルテ | O8: 23 | P8: SAKURA FC
A9: 4 | B9: 尾張ＦＣ Ｂ | H9: 14 | I9: 尾張ＦＣ Ａ | O9: 24 | P9: F.C.DIVINE A
A10: 5 | B10: 尾西ＳＳ | H10: 15 | I10: ＦＣ ＫＯＮＡＮ | O10: 25 | P10: PositivoFC
A11: 6 | B11: 一宮ＦＣ Ａ | H11: 16 | I11: Partigiano FC | O11: 26 | P11: アクアJFC愛西
A12: 7 | B12: 弥富ＪＳＳ | H12: 17 | I12: F.C.DIVINE B | O12: 27 | P12: NPFC
A13: 8 | B13: ＢＲＯ ＦＣ | H13: 18 | I13: エルニーニョ美和 | O13: 28 | P13: Livent
A14: 9 | B14: 愛知ＦＣ一宮 Ｂ | H14: 19 | I14: 尾西FC B | O14: 29 | P14: アシストFC
A15: 10 | B15: ドルフィンＦＣ | H15: 20 | I15: 一宮ＦＣ Ｃ | O15: 30 | P15: 一宮ＦＣ Ｂ
A17: ブロック委員 | H17: ブロック委員 | O17: ブロック委員
A18: 【 尾張FC 】 | H18: 【 DIVINE 】 | O18: 【 尾西FC 】
A20: ≪リーグ戦開催推奨日≫
B21: 45543 | H21: 45296
B22: 45550 | H22: 45304
B23: 45579 | H23: 45324
B24: 45612 | H24: 45330
B25: 45648 | H25: 45344

Sheet 試合日程
A1: ＡＩＦＡ 第3回津留建設工業リーグ2024 西尾張地区リーグＵ－10 日程表
A3: 試合日 | E3: 会 場 名 | J3: Kickoff | L3: 対 戦 カ ー ド | W3: 主審(チーム名) | AA3: 警告者 | AD3: 退場者 | AG3: 会場提供
A4: 例）4月2日(土) | E4: 一宮県営サッカー場 | J4: 0.41666667 | L4: 尾西FC | P4: 0 | Q4: VS | R4: 0 | S4: NPFC | W4: 愛知FC一宮 | AA4: NP:10犬飼高志 | AG4: 愛知FC一宮
A5: ９月８日（日） | E5: 浄化センターG | J5: 0.5625 | L5: ドルフィン | P5: 1 | Q5: VS | R5: 3 | S5: 弥富JSS | W5: 尾西SS | AG5: ドルフィン
J6: 0.59722222 | L6: 尾西SS | P6: 0 | Q6: VS | R6: 1 | S6: 弥富JSS | W6: ドルフィン
J7: 0.63194444 | L7: ドルフィン | P7: 1 | Q7: VS | R7: 6 | S7: 尾西SS | W7: 弥富JSS
A8: ９月１５日（日） | E8: 河北グラウンド | J8: 0.52083333 | L8: 尾張FCB | Q8: VS | S8: BRO FC | W8: 犬山クラブ | AG8: 尾張FC
J9: 0.55555556 | L9: 犬山クラブ | Q9: VS | S9: BRO FC | W9: 尾張FC | AL9: 雨天中止
J10: 0.59027778 | L10: 尾張FCB | Q10: VS | S10: 犬山クラブ | W10: BRO FC
A11: ９月16日（祝） | E11: いちい信金G | J11: 0.375 | L11: 愛知FC一宮B | P11: 2 | Q11: VS | R11: 1 | S11: FC golazo gol 一宮 | W11: TRY 愛知 | AG11: 愛知FC一宮 | AL11: 9月7日から変更しました。
J12: 0.40972222 | L12: TRY 愛知 | P12: 8 | Q12: VS | R12: 1 | S12: FC golazo gol 一宮 | W12: 愛知FC一宮
J13: 0.44444444 | L13: 愛知FC一宮B | P13: 0 | Q13: VS | R13: 12 | S13: TRY 愛知 | W13: FC golazo gol 一宮
A14: ９月２９日（日） | E14: 八穂グラウンド | J14: 0.375 | L14: 弥富JSS | P14: 5 | Q14: VS | R14: 0 | S14: BRO FC | W14: TRY 愛知 | AG14: 弥富JSS
J15: 0.40972222 | L15: TRY 愛知 | P15: 18 | Q15: VS | R15: 0 | S15: BRO FC | W15: 弥富JSS
J16: 0.44444444 | L16: TRY 愛知 | P16: 16 | Q16: VS | R16: 0 | S16: 弥富JSS | W16: BRO FC
A17: 10月１４日（祝） | E17: 八穂グラウンド | J17: 0.39583333 | L17: 弥富JSS | P17: 0 | Q17: VS | R17: 1 | S17: FC golazo gol 一宮 | W17: BRO FC | AG17: 弥富JSS
J18: 0.43055556 | L18: BRO FC | P18: 0 | Q18: VS | R18: 10 | S18: FC golazo gol 一宮 | W18: 弥富JSS
J19: 0.45833333 | L19: 弥富JSS | Q19: VS | S19: BRO FC | W19: 相互 | AK19: フレンドリーマッチ
A20: 10月１４日（祝） | E20: いちい信金G | J20: 0.5625 | L20: 愛知FC一宮B | P20: 2 | Q20: VS | R20: 1 | S20: ドルフィン | W20: 尾張FC | AG20: 愛知FC一宮
J21: 0.59722222 | L21: 尾張FCB | P21: 1 | Q21: VS | R21: 0 | S21: ドルフィン | W21: 愛知FC一宮
J22: 0.625 | L22: 愛知FC一宮B | P22: 6 | Q22: VS | R22: 1 | S22: 尾張FCB | W22: ドルフィン
A23: １０月２０日（日） | E23: 八穂グラウンド | J23: 0.39583333 | L23: 弥富JSS | P23: 1 | Q23: VS | R23: 3 | S23: 一宮FC A | W23: 犬山クラブ | AG23: 弥富JSS
J24: 0.43055556 | L24: 犬山クラブ | P24: 4 | Q24: VS | R24: 0 | S24: 一宮FC A | W24: 弥富JSS
J25: 0.45833333 | L25: 弥富JSS | P25: 0 | Q25: VS | R25: 6 | S25: 犬山クラブ | W25: 一宮FC
A26: １０月２７日（日） | E26: 尾西運動場 | J26: 0.40277778 | L26: 尾西SS | Q26: VS | S26: 一宮FC A | W26: TRY 愛知 | AG26: 尾西SS
J27: 0.4375 | L27: TRY 愛知 | Q27: VS | S27: 一宮FC A | W27: 尾西SS | AL27: 中止
J28: 0.47222222 | L28: 尾西SS | Q28: VS | S28: TRY 愛知 | W28: TRY 愛知
A29: １１月２日（土） | E29: 八穂G | J29: 0.375 | L29: 弥富JSS | P29: 1 | R29: 0 | S29: 尾張FCB | AG29: 弥富JSS
A32: １１月１０日（日） | E32: 浄化センターG | J32: 0.5625 | L32: ドルフィン | P32: 0 | Q32: VS | R32: 5 | S32: TRY 愛知 | W32: 一宮FC | AG32: ドルフィン
J33: 0.59722222 | L33: 一宮FCA | P33: 0 | Q33: VS | R33: 6 | S33: TRY 愛知 | W33: ドルフィン
J34: 0.63194444 | L34: 一宮FCA | P34: 3 | Q34: VS | R34: 1 | S34: ドルフィン | W34: TRY 愛知
A35: １１月１６日（土） | E35: 県営サッカー場 | J35: 0.39583333 | L35: 一宮FCA | P35: 1 | Q35: VS | R35: 0 | S35: 尾張FCB | W35: 尾西SS | AG35: 一宮FC
J36: 0.43055556 | L36: 尾西SS | P36: 5 | Q36: VS | R36: 0 | S36: 尾張FCB | W36: 一宮FC
J37: 0.46527778 | L37: 一宮FCA | P37: 0 | Q37: VS | R37: 1 | S37: 尾西SS | W37: 尾張FC
A38: １１月１７日（日） | E38: 八穂グラウンド | J38: 0.375 | L38: 弥富JSS | P38: 1 | Q38: VS | R38: 1 | S38: 愛知FC一宮B | W38: 犬山クラブ | AG38: 弥富JSS
J39: 0.40972222 | L39: 犬山クラブ | P39: 2 | Q39: VS | R39: 0 | S39: 愛知FC一宮B | W39: 弥富JSS
J40: 0.44444444 | L40: 弥富JSS | Q40: VS | S40: 犬山クラブ | W40: 相互
A41: １１月３０日（土） | E41: 尾西河川敷B | J41: 0.39583333 | L41: TRY 愛知 | P41: 4 | Q41: VS | R41: 0 | S41: 犬山クラブ | W41: 尾西SS | AG41: TRY 愛知
J42: 0.43055556 | L42: 尾西SS | P42: 1 | Q42: VS | R42: 1 | S42: 犬山クラブ | W42: TRY 愛知
J43: 0.46527778 | L43: TRY 愛知 | P43: 5 | Q43: VS | R43: 0 | S43: 尾西SS | W43: 犬山クラブ
...

Sheet スケジュール
A1: ＡＩＦＡ 第3回津留建設工業リーグ2024 西尾張地区リーグＵ－10
B4: 【Aブロック】
A5: Aブロック | D5: =IF(A7="","",A7) -> 1 | H5: =IF(A10="","",A10) -> 2 | L5: =IF(A13="","",A13) -> 3 | P5: =IF(A16="","",A16) -> 4 | T5: =IF(A19="","",A19) -> 5 | X5: =IF(A22="","",A22) -> 6 | AB5: =IF(A25="","",A25) -> 7 | AF5: =IF(A28="","",A28) -> 8 | AJ5: =IF(A31="","",A31) -> 9 | AN5: =IF(A34="","",A34) -> 10 | AR5: =IF(A37="","",A37) | AV5: =IF(A40="","",A40) | AZ5: =IF(A43="","",A43) | BD5: =IF(A46="","",A46) | BH5: =IF(A49="","",A49) | BK5: 勝 | BL5: 負 | BM5: 分 | BN5: 勝点 | BO5: 得点 | BP5: 失点 | BQ5: 得失 | BR5: 順位
C6: =IF(B7="","",B7) -> TRY愛知 | G6: =IF(B10="","",B10) -> 犬山クラブ | K6: =IF(B13="","",B13) -> ＦＣ ｇｏｌａｚｏ ｇｏｌ一宮 | O6: =IF(B16="","",B16) -> 尾張ＦＣ Ｂ | S6: =IF(B19="","",B19) -> 尾西ＳＳ | W6: =IF(B22="","",B22) -> 一宮ＦＣ Ａ | AA6: =IF(B25="","",B25) -> 弥富ＪＳＳ | AE6: =IF(B28="","",B28) -> ＢＲＯ ＦＣ | AI6: =IF(B31="","",B31) -> 愛知ＦＣ一宮 Ｂ | AM6: =IF(B34="","",B34) -> ドルフィンＦＣ | AQ6: =IF(B37="","",B37) | AU6: =IF(B40="","",B40) | AY6: =IF(B43="","",B43) | BC6: =IF(B46="","",B46) | BG6: =IF(B49="","",B49)
A7: 1 | B7: =IF(組み分け!B6="","",組み分け!B6) -> TRY愛知 | G7: 45626 | K7: 45551 | O7: 45317 | S7: 45626 | W7: 45606 | AA7: 45564 | AE7: 45564 | AI7: 45551 | AM7: 45606
G8: 尾西河川敷 | K8: いちい信金G | O8: 秋田グラウンド | S8: 尾西河川敷 | W8: 浄化センターG | AA8: 八穂G | AE8: 八穂G | AI8: いちい信金G | AM8: 浄化センターG
A10: 2 | B10: =IF(組み分け!B7="","",組み分け!B7) -> 犬山クラブ | C10: 45626 | K10: 45648 | O10: 45648 | S10: 45626 | W10: 45585 | AA10: 45585 | AE10: 45304 | AI10: 45613 | AM10: 45304
C11: 尾西河川敷 | K11: 羽黒グラウンド | O11: 羽黒グラウンド | S11: 尾西河川敷 | W11: 八穂G | AA11: 八穂G | AE11: 羽黒グラウンド | AI11: 八穂G | AM11: 羽黒グラウンド
A13: 3 | B13: =IF(組み分け!B8="","",組み分け!B8) -> ＦＣ ｇｏｌａｚｏ ｇｏｌ一宮 | C13: 45551 | G13: 45648 | O13: 45626 | W13: 45309 | AA13: 45579 | AE13: 45579 | AI13: 45551 | AM13: 45640
C14: いちい信金G | G14: 羽黒グラウンド | O14: 河北グラウンド | W14: いちい信金G | AA14: 八穂G | AE14: 八穂G | AI14: いちい信金G | AM14: 浄化センター
A16: 4 | B16: =IF(組み分け!B9="","",組み分け!B9) -> 尾張ＦＣ Ｂ | C16: 45317 | G16: 45648 | K16: 45626 | S16: 45612 | W16: 45612 | AA16: 45598 | AE16: 45626 | AI16: 45579 | AM16: １０月１４ひ
C17: 秋田グラウンド | G17: 羽黒グラウンド | K17: 河北グラウンド | S17: 県営サッカー場 | W17: 県営サッカー場 | AA17: 八穂G | AE17: 河北グラウンド | AI17: いちい信金G | AM17: いちい信金G
A19: 5 | B19: =IF(組み分け!B10="","",組み分け!B10) -> 尾西ＳＳ | C19: 45626 | G19: 45626 | O19: 45612 | W19: 45612 | AA19: 45550 | AE19: 45304 | AI19: 45633 | AM19: 45550
C20: 尾西河川敷 | G20: 尾西河川敷 | O20: 県営サッカー場 | W20: 県営サッカー場 | AA20: 浄化センターG | AE20: 羽黒グラウンド | AI20: いちい信金G | AM20: 浄化センターG
A22: 6 | B22: =IF(組み分け!B11="","",組み分け!B11) -> 一宮ＦＣ Ａ | C22: 45606 | G22: 45585 | K22: 45309 | O22: 45612 | S22: 45612 | AA22: 45585 | AE22: 45317 | AI22: 45309 | AM22: 45606
C23: 浄化センターG | G23: 八穂G | K23: いちい信金G | O23: 県営サッカー場 | S23: 県営サッカー場 | AA23: 八穂G | AE23: 秋田グラウンド | AI23: いちい信金G | AM23: 浄化センターG
A25: 7 | B25: =IF(組み分け!B12="","",組み分け!B12) -> 弥富ＪＳＳ | C25: 45564 | G25: 45585 | K25: 45579 | O25: 45598 | S25: 45550 | W25: 45585 | AE25: 45564 | AI25: 45613 | AM25: 45550
C26: 八穂G | G26: 八穂G | K26: 八穂G | O26: 八穂G | S26: 浄化センターG | W26: 八穂G | AE26: 八穂G | AI26: 八穂G | AM26: 浄化センターG
A28: 8 | B28: =IF(組み分け!B13="","",組み分け!B13) -> ＢＲＯ ＦＣ | C28: 45564 | G28: 45304 | K28: 45579 | O28: 45626 | S28: 45304 | W28: 45317 | AA28: 45564 | AI28: 45633 | AM28: 45640
C29: 八穂G | G29: 羽黒グラウンド | K29: 八穂G | O29: 河北グラウンド | S29: 羽黒グラウンド | W29: 秋田グラウンド | AA29: 八穂G | AI29: いちい信金G | AM29: 浄化センター
A31: 9 | B31: =IF(組み分け!B14="","",組み分け!B14) -> 愛知ＦＣ一宮 Ｂ | C31: 45551 | G31: 45613 | K31: 45551 | O31: 45579 | S31: 45633 | W31: 45309 | AA31: 45613 | AE31: 45633 | AM31: 45579
C32: いちい信金G | G32: 八穂G | K32: いちい信金G | O32: いちい信金G | S32: いちい信金G | W32: いちい信金G | AA32: 八穂G | AE32: いちい信金G | AM32: いちい信金G
A34: 10 | B34: =IF(組み分け!B15="","",組み分け!B15) -> ドルフィンＦＣ | C34: 45606 | G34: 45304 | K34: 45640 | O34: 45579 | S34: 45550 | W34: 45606 | AA34: 45550 | AE34: 45640 | AI34: 45579
C35: 浄化センターG | G35: 羽黒グラウンド | K35: 浄化センター | O35: いちい信金G | S35: 浄化センターG | W35: 浄化センターG | AA35: 浄化センターG | AE35: 浄化センター | AI35: いちい信金G
B37: =IF(組み分け!B16="","",組み分け!B16)
B40: =IF(組み分け!B16="","",組み分け!B16)
B43: =IF(組み分け!B17="","",組み分け!B17)
B46: =IF(組み分け!B18="","",組み分け!B18)
B49: =IF(組み分け!B19="","",組み分け!B19) | C49: =IF(AU7="","",AU7) | G49: =IF(AU10="","",AU10) | K49: =IF(AU13="","",AU13) | O49: =IF(AU16="","",AU16) | S49: =IF(AU19="","",AU19) | W49: =IF(AU22="","",AU22) | AA49: =IF(AU25="","",AU25) | AE49: =IF(AU28="","",AU28) | AI49: =IF(AU31="","",AU31) | AM49: =IF(AU34="","",AU34) | AQ49: =IF(AU37="","",AU37)
C50: =IF(AU8="","",AU8) | G50: =IF(AU11="","",AU11) | K50: =IF(AU14="","",AU14) | O50: =IF(AU17="","",AU17) | S50: =IF(AU20="","",AU20) | W50: =IF(AU23="","",AU23) | AA50: =IF(AU26="","",AU26) | AE50: =IF(AU29="","",AU29) | AI50: =IF(AU32="","",AU32) | AM50: =IF(AU35="","",AU35) | AQ50: =IF(AU38="","",AU38)
C51: =IF(OR(D51="",F51=""),"",IF(D51=F51,"△",IF(D51>F51,"○",IF(D51<F51,"●","")))) | D51: =IF(BJ9="","",BJ9) | AT51: =IF(AV39="","",AV39)
A53: ＡＩＦＡ 第3回津留建設工業リーグ2024 西尾張地区リーグＵ－10
B56: 【Bブロック】
A57: Bブロック | D57: =IF(A59="","",A59) -> 11 | H57: =IF(A62="","",A62) -> 12 | L57: =IF(A65="","",A65) -> 13 | P57: =IF(A68="","",A68) -> 14 | T57: =IF(A71="","",A71) -> 15 | X57: =IF(A74="","",A74) -> 16 | AB57: =IF(A77="","",A77) -> 17 | AF57: =IF(A80="","",A80) -> 18 | AJ57: =IF(A83="","",A83) -> 19 | AN57: =IF(A86="","",A86) -> 20 | AR57: =IF(A89="","",A89) | AV57: =IF(A92="","",A92) | AZ57: =IF(A95="","",A95) | BD57: =IF(A98="","",A98) | BH57: =IF(A101="","",A101) | BK57: 勝 | BL57: 負 | BM57: 分 | BN57: 勝点 | BO57: 得点 | BP57: 失点 | BQ57: 得失 | BR57: 順位
C58: =IF(B59="","",B59) -> クレバーフット | G58: =IF(B62="","",B62) -> 津島ＡＦＣ | K58: =IF(B65="","",B65) -> 岩倉ＦＣフォルテ | O58: =IF(B68="","",B68) -> 尾張ＦＣ Ａ | S58: =IF(B71="","",B71) -> ＦＣ ＫＯＮＡＮ | W58: =IF(B74="","",B74) -> Partigiano FC | AA58: =IF(B77="","",B77) -> F.C.DIVINE B | AE58: =IF(B80="","",B80) -> エルニーニョ美和 | AI58: =IF(B83="","",B83) -> 尾西FC B | AM58: =IF(B86="","",B86) -> 一宮ＦＣ Ｃ | AQ58: =IF(B89="","",B89) | AU58: =IF(B92="","",B92) | AY58: =IF(B95="","",B95) | BC58: =IF(B98="","",B98) | BG58: =IF(B101="","",B101)
A59: 11 | B59: =IF(組み分け!I6="","",組み分け!I6) -> クレバーフット
A62: 12 | B62: =IF(組み分け!I7="","",組み分け!I7) -> 津島ＡＦＣ
A65: 13 | B65: =IF(組み分け!I8="","",組み分け!I8) -> 岩倉ＦＣフォルテ
A68: 14 | B68: =IF(組み分け!I9="","",組み分け!I9) -> 尾張ＦＣ Ａ
A71: 15 | B71: =IF(組み分け!I10="","",組み分け!I10) -> ＦＣ ＫＯＮＡＮ
...

Sheet 結果
A1: ＡＩＦＡ 第3回津留建設工業リーグ2024 西尾張地区リーグＵ－10
B4: 【Aブロック】
A5: Aブロック | D5: =IF(A7="","",A7) -> 1 | H5: =IF(A8="","",A8) -> 2 | L5: =IF(A9="","",A9) -> 3 | P5: =IF(A10="","",A10) -> 4 | T5: =IF(A11="","",A11) -> 5 | X5: =IF(A12="","",A12) -> 6 | AB5: =IF(A13="","",A13) -> 7 | AF5: =IF(A14="","",A14) -> 8 | AJ5: =IF(A15="","",A15) -> 9 | AN5: =IF(A16="","",A16) -> 10 | AR5: =IF(A17="","",A17) | AU5: 勝 | AV5: 負 | AW5: 分 | AX5: 勝点 | AY5: 得点 | AZ5: 失点 | BA5: 得失 | BB5: 集計 | BC5: 順位
C6: =IF(B7="","",B7) -> TRY愛知 | G6: =IF(B8="","",B8) -> 犬山クラブ | K6: =IF(B9="","",B9) -> ＦＣ ｇｏｌａｚｏ ｇｏｌ一宮 | O6: =IF(B10="","",B10) -> 尾張ＦＣ Ｂ | S6: =IF(B11="","",B11) -> 尾西ＳＳ | W6: =IF(B12="","",B12) -> 一宮ＦＣ Ａ | AA6: =IF(B13="","",B13) -> 弥富ＪＳＳ | AE6: =IF(B14="","",B14) -> ＢＲＯ ＦＣ | AI6: =IF(B15="","",B15) -> 愛知ＦＣ一宮 Ｂ | AM6: =IF(B16="","",B16) -> ドルフィンＦＣ | AQ6: =IF(B17="","",B17)
A7: 1 | B7: =IF(組み分け!B6="","",組み分け!B6) -> TRY愛知 | G7: =IF(OR(H7="",J7=""),"",IF(H7=J7,"△",IF(H7>J7,"○",IF(H7<J7,"●","")))) -> ○ | H7: 5 | I7: - | J7: 0 | K7: =IF(OR(L7="",N7=""),"",IF(L7=N7,"△",IF(L7>N7,"○",IF(L7<N7,"●","")))) -> ○ | L7: 8 | M7: - | N7: 1 | O7: =IF(OR(P7="",R7=""),"",IF(P7=R7,"△",IF(P7>R7,"○",IF(P7<R7,"●","")))) | Q7: - | S7: =IF(OR(T7="",V7=""),"",IF(T7=V7,"△",IF(T7>V7,"○",IF(T7<V7,"●","")))) -> ○ | T7: 4 | U7: - | V7: 0 | W7: =IF(OR(X7="",Z7=""),"",IF(X7=Z7,"△",IF(X7>Z7,"○",IF(X7<Z7,"●","")))) -> ○ | X7: 6 | Y7: - | Z7: 0 | AA7: =IF(OR(AB7="",AD7=""),"",IF(AB7=AD7,"△",IF(AB7>AD7,"○",IF(AB7<AD7,"●","")))) -> ○ | AB7: 16 | AC7: - | AD7: 0 | AE7: =IF(OR(AF7="",AH7=""),"",IF(AF7=AH7,"△",IF(AF7>AH7,"○",IF(AF7<AH7,"●","")))) -> ○ | AF7: 18 | AG7: - | AH7: 0 | AI7: =IF(OR(AJ7="",AL7=""),"",IF(AJ7=AL7,"△",IF(AJ7>AL7,"○",IF(AJ7<AL7,"●","")))) -> ○ | AJ7: 12 | AK7: - | AL7: 0 | AM7: =IF(OR(AN7="",AP7=""),"",IF(AN7=AP7,"△",IF(AN7>AP7,"○",IF(AN7<AP7,"●","")))) -> ○ | AN7: 5 | AO7: - | AP7: 0 | AQ7: =IF(OR(AR7="",AT7=""),"",IF(AR7=AT7,"△",IF(AR7>AT7,"○",IF(AR7<AT7,"●","")))) | AS7: - | AU7: =COUNTIF(C7:AT7,"○") -> 8 | AV7: =COUNTIF(C7:AT7,"●") -> 0 | AW7: =COUNTIF(C7:AT7,"△") -> 0 | AX7: =SUM(3*AU7,0*AV7,1*AW7) -> 24 | AY7: =SUM(AB7,AF7,AJ7,AN7,AR7,X7,T7,P7,L7,H7,D7) -> 74 | AZ7: =SUM(AD7,AH7,AL7,AP7,AT7,Z7,V7,R7,N7,J7,F7) -> 1 | BA7: =AY7-AZ7 -> 73 | BB7: =AX7+(BA7/100)+(AY7/100000) -> 24.73074 | BC7: =_xlfn.RANK.EQ(BB7,BB$7:BB$16,0) -> 1
A8: 2 | B8: =IF(組み分け!B7="","",組み分け!B7) -> 犬山クラブ | C8: =IF(OR(D8="",F8=""),"",IF(D8=F8,"△",IF(D8>F8,"○",IF(D8<F8,"●","")))) -> ● | D8: =IF(J7="","",J7) -> 0 | E8: - | F8: =IF(H7="","",H7) -> 5 | K8: =IF(OR(L8="",N8=""),"",IF(L8=N8,"△",IF(L8>N8,"○",IF(L8<N8,"●","")))) -> ○ | L8: 4 | M8: - | N8: 0 | O8: =IF(OR(P8="",R8=""),"",IF(P8=R8,"△",IF(P8>R8,"○",IF(P8<R8,"●","")))) -> △ | P8: 0 | Q8: - | R8: 0 | S8: =IF(OR(T8="",V8=""),"",IF(T8=V8,"△",IF(T8>V8,"○",IF(T8<V8,"●","")))) -> △ | T8: 1 | U8: - | V8: 1 | W8: =IF(OR(X8="",Z8=""),"",IF(X8=Z8,"△",IF(X8>Z8,"○",IF(X8<Z8,"●","")))) -> ○ | X8: 4 | Y8: - | Z8: 0 | AA8: =IF(OR(AB8="",AD8=""),"",IF(AB8=AD8,"△",IF(AB8>AD8,"○",IF(AB8<AD8,"●","")))) -> ○ | AB8: 6 | AC8: - | AD8: 0 | AE8: =IF(OR(AF8="",AH8=""),"",IF(AF8=AH8,"△",IF(AF8>AH8,"○",IF(AF8<AH8,"●","")))) | AG8: - | AI8: =IF(OR(AJ8="",AL8=""),"",IF(AJ8=AL8,"△",IF(AJ8>AL8,"○",IF(AJ8<AL8,"●","")))) -> ○ | AJ8: 2 | AK8: - | AL8: 0 | AM8: =IF(OR(AN8="",AP8=""),"",IF(AN8=AP8,"△",IF(AN8>AP8,"○",IF(AN8<AP8,"●","")))) | AO8: - | AQ8: =IF(OR(AR8="",AT8=""),"",IF(AR8=AT8,"△",IF(AR8>AT8,"○",IF(AR8<AT8,"●","")))) | AS8: - | AU8: =COUNTIF(C8:AT8,"○") -> 4 | AV8: =COUNTIF(C8:AT8,"●") -> 1 | AW8: =COUNTIF(C8:AT8,"△") -> 2 | AX8: =SUM(3*AU8,0*AV8,1*AW8) -> 14 | AY8: =SUM(AB8,AF8,AJ8,AN8,AR8,X8,T8,P8,L8,H8,D8) -> 17 | AZ8: =SUM(AD8,AH8,AL8,AP8,AT8,Z8,V8,R8,N8,J8,F8) -> 6 | BA8: =AY8-AZ8 -> 11 | BB8: =AX8+(BA8/100)+(AY8/100000) -> 14.11017 | BC8: =_xlfn.RANK.EQ(BB8,BB$7:BB$16,0) -> 3
A9: 3 | B9: =IF(組み分け!B8="","",組み分け!B8) -> ＦＣ ｇｏｌａｚｏ ｇｏｌ一宮 | C9: =IF(OR(D9="",F9=""),"",IF(D9=F9,"△",IF(D9>F9,"○",IF(D9<F9,"●","")))) -> ● | D9: =IF(N7="","",N7) -> 1 | E9: - | F9: =IF(L7="","",L7) -> 8 | G9: =IF(OR(H9="",J9=""),"",IF(H9=J9,"△",IF(H9>J9,"○",IF(H9<J9,"●","")))) -> ● | H9: =IF(N8="","",N8) -> 0 | I9: - | J9: =IF(L8="","",L8) -> 4 | O9: =IF(OR(P9="",R9=""),"",IF(P9=R9,"△",IF(P9>R9,"○",IF(P9<R9,"●","")))) -> ○ | P9: 1 | Q9: - | R9: 0 | S9: =IF(OR(T9="",V9=""),"",IF(T9=V9,"△",IF(T9>V9,"○",IF(T9<V9,"●","")))) | U9: - | W9: =IF(OR(X9="",Z9=""),"",IF(X9=Z9,"△",IF(X9>Z9,"○",IF(X9<Z9,"●","")))) | Y9: - | AA9: =IF(OR(AB9="",AD9=""),"",IF(AB9=AD9,"△",IF(AB9>AD9,"○",IF(AB9<AD9,"●","")))) -> ○ | AB9: 1 | AC9: - | AD9: 0 | AE9: =IF(OR(AF9="",AH9=""),"",IF(AF9=AH9,"△",IF(AF9>AH9,"○",IF(AF9<AH9,"●","")))) -> ○ | AF9: 10 | AG9: - | AH9: 0 | AI9: =IF(OR(AJ9="",AL9=""),"",IF(AJ9=AL9,"△",IF(AJ9>AL9,"○",IF(AJ9<AL9,"●","")))) -> ● | AJ9: 1 | AK9: - | AL9: 2 | AM9: =IF(OR(AN9="",AP9=""),"",IF(AN9=AP9,"△",IF(AN9>AP9,"○",IF(AN9<AP9,"●","")))) -> △ | AN9: 2 | AO9: - | AP9: 2 | AQ9: =IF(OR(AR9="",AT9=""),"",IF(AR9=AT9,"△",IF(AR9>AT9,"○",IF(AR9<AT9,"●","")))) | AS9: - | AU9: =COUNTIF(C9:AT9,"○") -> 3 | AV9: =COUNTIF(C9:AT9,"●") -> 3 | AW9: =COUNTIF(C9:AT9,"△") -> 1 | AX9: =SUM(3*AU9,0*AV9,1*AW9) -> 10 | AY9: =SUM(AB9,AF9,AJ9,AN9,AR9,X9,T9,P9,L9,H9,D9) -> 16 | AZ9: =SUM(AD9,AH9,AL9,AP9,AT9,Z9,V9,R9,N9,J9,F9) -> 16 | BA9: =AY9-AZ9 -> 0 | BB9: =AX9+(BA9/100)+(AY9/100000) -> 10.00016 | BC9: =_xlfn.RANK.EQ(BB9,BB$7:BB$16,0) -> 6
A10: 4 | B10: =IF(組み分け!B9="","",組み分け!B9) -> 尾張ＦＣ Ｂ | C10: =IF(OR(D10="",F10=""),"",IF(D10=F10,"△",IF(D10>F10,"○",IF(D10<F10,"●","")))) | D10: =IF(R7="","",R7) | E10: - | F10: =IF(P7="","",P7) | G10: =IF(OR(H10="",J10=""),"",IF(H10=J10,"△",IF(H10>J10,"○",IF(H10<J10,"●","")))) -> △ | H10: =IF(R8="","",R8) -> 0 | I10: - | J10: =IF(P8="","",P8) -> 0 | K10: =IF(OR(L10="",N10=""),"",IF(L10=N10,"△",IF(L10>N10,"○",IF(L10<N10,"●","")))) -> ● | L10: =IF(R9="","",R9) -> 0 | M10: - | N10: =IF(P9="","",P9) -> 1 | S10: =IF(OR(T10="",V10=""),"",IF(T10=V10,"△",IF(T10>V10,"○",IF(T10<V10,"●","")))) -> ● | T10: 0 | U10: - | V10: 5 | W10: =IF(OR(X10="",Z10=""),"",IF(X10=Z10,"△",IF(X10>Z10,"○",IF(X10<Z10,"●","")))) -> ● | X10: 0 | Y10: - | Z10: 1 | AA10: =IF(OR(AB10="",AD10=""),"",IF(AB10=AD10,"△",IF(AB10>AD10,"○",IF(AB10<AD10,"●","")))) -> ● | AB10: 0 | AC10: - | AD10: 1 | AE10: =IF(OR(AF10="",AH10=""),"",IF(AF10=AH10,"△",IF(AF10>AH10,"○",IF(AF10<AH10,"●","")))) -> ○ | AF10: 4 | AG10: - | AH10: 0 | AI10: =IF(OR(AJ10="",AL10=""),"",IF(AJ10=AL10,"△",IF(AJ10>AL10,"○",IF(AJ10<AL10,"●","")))) -> ● | AJ10: 1 | AK10: - | AL10: 6 | AM10: =IF(OR(AN10="",AP10=""),"",IF(AN10=AP10,"△",IF(AN10>AP10,"○",IF(AN10<AP10,"●","")))) -> ○ | AN10: 1 | AO10: - | AP10: 0 | AQ10: =IF(OR(AR10="",AT10=""),"",IF(AR10=AT10,"△",IF(AR10>AT10,"○",IF(AR10<AT10,"●","")))) | AS10: - | AU10: =COUNTIF(C10:AT10,"○") -> 2 | AV10: =COUNTIF(C10:AT10,"●") -> 5 | AW10: =COUNTIF(C10:AT10,"△") -> 1 | AX10: =SUM(3*AU10,0*AV10,1*AW10) -> 7 | AY10: =SUM(AB10,AF10,AJ10,AN10,AR10,X10,T10,P10,L10,H10,D10) -> 6 | AZ10: =SUM(AD10,AH10,AL10,AP10,AT10,Z10,V10,R10,N10,J10,F10) -> 14 | BA10: =AY10-AZ10 -> -8 | BB10: =AX10+(BA10/100)+(AY10/100000) -> 6.92006 | BC10: =_xlfn.RANK.EQ(BB10,BB$7:BB$16,0) -> 8
A11: 5 | B11: =IF(組み分け!B10="","",組み分け!B10) -> 尾西ＳＳ | C11: =IF(OR(D11="",F11=""),"",IF(D11=F11,"△",IF(D11>F11,"○",IF(D11<F11,"●","")))) -> ● | D11: =IF(V7="","",V7) -> 0 | E11: - | F11: =IF(T7="","",T7) -> 4 | G11: =IF(OR(H11="",J11=""),"",IF(H11=J11,"△",IF(H11>J11,"○",IF(H11<J11,"●","")))) -> △ | H11: =IF(V8="","",V8) -> 1 | I11: - | J11: =IF(T8="","",T8) -> 1 | K11: =IF(OR(L11="",N11=""),"",IF(L11=N11,"△",IF(L11>N11,"○",IF(L11<N11,"●","")))) | L11: =IF(V9="","",V9) | M11: - | N11: =IF(T9="","",T9) | O11: =IF(OR(P11="",R11=""),"",IF(P11=R11,"△",IF(P11>R11,"○",IF(P11<R11,"●","")))) -> ○ | P11: =IF(V10="","",V10) -> 5 | Q11: - | R11: =IF(T10="","",T10) -> 0 | W11: =IF(OR(X11="",Z11=""),"",IF(X11=Z11,"△",IF(X11>Z11,"○",IF(X11<Z11,"●","")))) -> ○ | X11: 1 | Y11: - | Z11: 0 | AA11: =IF(OR(AB11="",AD11=""),"",IF(AB11=AD11,"△",IF(AB11>AD11,"○",IF(AB11<AD11,"●","")))) -> ● | AB11: 0 | AC11: - | AD11: 1 | AE11: =IF(OR(AF11="",AH11=""),"",IF(AF11=AH11,"△",IF(AF11>AH11,"○",IF(AF11<AH11,"●","")))) -> ○ | AF11: 13 | AG11: - | AH11: 0 | AI11: =IF(OR(AJ11="",AL11=""),"",IF(AJ11=AL11,"△",IF(AJ11>AL11,"○",IF(AJ11<AL11,"●","")))) -> ● | AJ11: 1 | AK11: - | AL11: 2 | AM11: =IF(OR(AN11="",AP11=""),"",IF(AN11=AP11,"△",IF(AN11>AP11,"○",IF(AN11<AP11,"●","")))) -> ○ | AN11: 6 | AO11: - | AP11: 1 | AQ11: =IF(OR(AR11="",AT11=""),"",IF(AR11=AT11,"△",IF(AR11>AT11,"○",IF(AR11<AT11,"●","")))) | AS11: - | AU11: =COUNTIF(C11:AT11,"○") -> 4 | AV11: =COUNTIF(C11:AT11,"●") -> 3 | AW11: =COUNTIF(C11:AT11,"△") -> 1 | AX11: =SUM(3*AU11,0*AV11,1*AW11) -> 13 | AY11: =SUM(AB11,AF11,AJ11,AN11,AR11,X11,T11,P11,L11,H11,D11) -> 27 | AZ11: =SUM(AD11,AH11,AL11,AP11,AT11,Z11,V11,R11,N11,J11,F11) -> 9 | BA11: =AY11-AZ11 -> 18 | BB11: =AX11+(BA11/100)+(AY11/100000) -> 13.18027 | BC11: =_xlfn.RANK.EQ(BB11,BB$7:BB$16,0) -> 4
A12: 6 | B12: =IF(組み分け!B11="","",組み分け!B11) -> 一宮ＦＣ Ａ | C12: =IF(OR(D12="",F12=""),"",IF(D12=F12,"△",IF(D12>F12,"○",IF(D12<F12,"●","")))) -> ● | D12: =IF(Z7="","",Z7) -> 0 | E12: - | F12: =IF(X7="","",X7) -> 6 | G12: =IF(OR(H12="",J12=""),"",IF(H12=J12,"△",IF(H12>J12,"○",IF(H12<J12,"●","")))) -> ● | H12: =IF(Z8="","",Z8) -> 0 | I12: - | J12: =IF(X8="","",X8) -> 4 | K12: =IF(OR(L12="",N12=""),"",IF(L12=N12,"△",IF(L12>N12,"○",IF(L12<N12,"●","")))) | L12: =IF(Z9="","",Z9) | M12: - | N12: =IF(X9="","",X9) | O12: =IF(OR(P12="",R12=""),"",IF(P12=R12,"△",IF(P12>R12,"○",IF(P12<R12,"●","")))) -> ○ | P12: =IF(Z10="","",Z10) -> 1 | Q12: - | R12: =IF(X10="","",X10) -> 0 | S12: =IF(OR(T12="",V12=""),"",IF(T12=V12,"△",IF(T12>V12,"○",IF(T12<V12,"●","")))) -> ● | T12: =IF(Z11="","",Z11) -> 0 | U12: - | V12: =IF(X11="","",X11) -> 1 | AA12: =IF(OR(AB12="",AD12=""),"",IF(AB12=AD12,"△",IF(AB12>AD12,"○",IF(AB12<AD12,"●","")))) -> ○ | AB12: 3 | AC12: - | AD12: 1 | AE12: =IF(OR(AF12="",AH12=""),"",IF(AF12=AH12,"△",IF(AF12>AH12,"○",IF(AF12<AH12,"●","")))) | AG12: - | AI12: =IF(OR(AJ12="",AL12=""),"",IF(AJ12=AL12,"△",IF(AJ12>AL12,"○",IF(AJ12<AL12,"●","")))) | AK12: - | AM12: =IF(OR(AN12="",AP12=""),"",IF(AN12=AP12,"△",IF(AN12>AP12,"○",IF(AN12<AP12,"●","")))) -> ○ | AN12: 3 | AO12: - | AP12: 1 | AQ12: =IF(OR(AR12="",AT12=""),"",IF(AR12=AT12,"△",IF(AR12>AT12,"○",IF(AR12<AT12,"●","")))) | AS12: - | AU12: =COUNTIF(C12:AT12,"○") -> 3 | AV12: =COUNTIF(C12:AT12,"●") -> 3 | AW12: =COUNTIF(C12:AT12,"△") -> 0 | AX12: =SUM(3*AU12,0*AV12,1*AW12) -> 9 | AY12: =SUM(AB12,AF12,AJ12,AN12,AR12,X12,T12,P12,L12,H12,D12) -> 7 | AZ12: =SUM(AD12,AH12,AL12,AP12,AT12,Z12,V12,R12,N12,J12,F12) -> 13 | BA12: =AY12-AZ12 -> -6 | BB12: =AX12+(BA12/100)+(AY12/100000) -> 8.94007 | BC12: =_xlfn.RANK.EQ(BB12,BB$7:BB$16,0) -> 7
A13: 7 | B13: =IF(組み分け!B12="","",組み分け!B12) -> 弥富ＪＳＳ | C13: =IF(OR(D13="",F13=""),"",IF(D13=F13,"△",IF(D13>F13,"○",IF(D13<F13,"●","")))) -> ● | D13: =IF(AD7="","",AD7) -> 0 | E13: - | F13: =IF(AB7="","",AB7) -> 16 | G13: =IF(OR(H13="",J13=""),"",IF(H13=J13,"△",IF(H13>J13,"○",IF(H13<J13,"●","")))) -> ● | H13: =IF(AD8="","",AD8) -> 0 | I13: - | J13: =IF(AB8="","",AB8) -> 6 | K13: =IF(OR(L13="",N13=""),"",IF(L13=N13,"△",IF(L13>N13,"○",IF(L13<N13,"●","")))) -> ● | L13: =IF(AD9="","",AD9) -> 0 | M13: - | N13: =IF(AB9="","",AB9) -> 1 | O13: =IF(OR(P13="",R13=""),"",IF(P13=R13,"△",IF(P13>R13,"○",IF(P13<R13,"●","")))) -> ○ | P13: =IF(AD10="","",AD10) -> 1 | Q13: - | R13: =IF(AB10="","",AB10) -> 0 | S13: =IF(OR(T13="",V13=""),"",IF(T13=V13,"△",IF(T13>V13,"○",IF(T13<V13,"●","")))) -> ○ | T13: =IF(AD11="","",AD11) -> 1 | U13: - | V13: =IF(AB11="","",AB11) -> 0 | W13: =IF(OR(X13="",Z13=""),"",IF(X13=Z13,"△",IF(X13>Z13,"○",IF(X13<Z13,"●","")))) -> ● | X13: =IF(AD12="","",AD12) -> 1 | Y13: - | Z13: =IF(AB12="","",AB12) -> 3 | AE13: =IF(OR(AF13="",AH13=""),"",IF(AF13=AH13,"△",IF(AF13>AH13,"○",IF(AF13<AH13,"●","")))) -> ○ | AF13: 5 | AG13: - | AH13: 0 | AI13: =IF(OR(AJ13="",AL13=""),"",IF(AJ13=AL13,"△",IF(AJ13>AL13,"○",IF(AJ13<AL13,"●","")))) -> △ | AJ13: 1 | AK13: - | AL13: 1 | AM13: =IF(OR(AN13="",AP13=""),"",IF(AN13=AP13,"△",IF(AN13>AP13,"○",IF(AN13<AP13,"●","")))) -> ○ | AN13: 3 | AO13: - | AP13: 1 | AQ13: =IF(OR(AR13="",AT13=""),"",IF(AR13=AT13,"△",IF(AR13>AT13,"○",IF(AR13<AT13,"●","")))) | AS13: - | AU13: =COUNTIF(C13:AT13,"○") -> 4 | AV13: =COUNTIF(C13:AT13,"●") -> 4 | AW13: =COUNTIF(C13:AT13,"△") -> 1 | AX13: =SUM(3*AU13,0*AV13,1*AW13) -> 13 | AY13: =SUM(AB13,AF13,AJ13,AN13,AR13,X13,T13,P13,L13,H13,D13) -> 12 | AZ13: =SUM(AD13,AH13,AL13,AP13,AT13,Z13,V13,R13,N13,J13,F13) -> 28 | BA13: =AY13-AZ13 -> -16 | BB13: =AX13+(BA13/100)+(AY13/100000) -> 12.84012 | BC13: =_xlfn.RANK.EQ(BB13,BB$7:BB$16,0) -> 5
A14: 8 | B14: =IF(組み分け!B13="","",組み分け!B13) -> ＢＲＯ ＦＣ | C14: =IF(OR(D14="",F14=""),"",IF(D14=F14,"△",IF(D14>F14,"○",IF(D14<F14,"●","")))) -> ● | D14: =IF(AH7="","",AH7) -> 0 | E14: - | F14: =IF(AF7="","",AF7) -> 18 | G14: =IF(OR(H14="",J14=""),"",IF(H14=J14,"△",IF(H14>J14,"○",IF(H14<J14,"●","")))) | H14: =IF(AH8="","",AH8) | I14: - | J14: =IF(AF8="","",AF8) | K14: =IF(OR(L14="",N14=""),"",IF(L14=N14,"△",IF(L14>N14,"○",IF(L14<N14,"●","")))) -> ● | L14: =IF(AH9="","",AH9) -> 0 | M14: - | N14: =IF(AF9="","",AF9) -> 10 | O14: =IF(OR(P14="",R14=""),"",IF(P14=R14,"△",IF(P14>R14,"○",IF(P14<R14,"●","")))) -> ● | P14: =IF(AH10="","",AH10) -> 0 | Q14: - | R14: =IF(AF10="","",AF10) -> 4 | S14: =IF(OR(T14="",V14=""),"",IF(T14=V14,"△",IF(T14>V14,"○",IF(T14<V14,"●","")))) -> ● | T14: =IF(AH11="","",AH11) -> 0 | U14: - | V14: =IF(AF11="","",AF11) -> 13 | W14: =IF(OR(X14="",Z14=""),"",IF(X14=Z14,"△",IF(X14>Z14,"○",IF(X14<Z14,"●","")))) | X14: =IF(AH12="","",AH12) | Y14: - | Z14: =IF(AF12="","",AF12) | AA14: =IF(OR(AB14="",AD14=""),"",IF(AB14=AD14,"△",IF(AB14>AD14,"○",IF(AB14<AD14,"●","")))) -> ● | AB14: =IF(AH13="","",AH13) -> 0 | AC14: - | AD14: =IF(AF13="","",AF13) -> 5 | AI14: =IF(OR(AJ14="",AL14=""),"",IF(AJ14=AL14,"△",IF(AJ14>AL14,"○",IF(AJ14<AL14,"●","")))) -> ● | AJ14: 0 | AK14: - | AL14: 5 | AM14: =IF(OR(AN14="",AP14=""),"",IF(AN14=AP14,"△",IF(AN14>AP14,"○",IF(AN14<AP14,"●","")))) -> ● | AN14: 0 | AO14: - | AP14: 7 | AQ14: =IF(OR(AR14="",AT14=""),"",IF(AR14=AT14,"△",IF(AR14>AT14,"○",IF(AR14<AT14,"●","")))) | AS14: - | AU14: =COUNTIF(C14:AT14,"○") -> 0 | AV14: =COUNTIF(C14:AT14,"●") -> 7 | AW14: =COUNTIF(C14:AT14,"△") -> 0 | AX14: =SUM(3*AU14,0*AV14,1*AW14) -> 0 | AY14: =SUM(AB14,AF14,AJ14,AN14,AR14,X14,T14,P14,L14,H14,D14) -> 0 | AZ14: =SUM(AD14,AH14,AL14,AP14,AT14,Z14,V14,R14,N14,J14,F14) -> 62 | BA14: =AY14-AZ14 -> -62 | BB14: =AX14+(BA14/100)+(AY14/100000) -> -0.62 | BC14: =_xlfn.RANK.EQ(BB14,BB$7:BB$16,0) -> 10
A15: 9 | B15: =IF(組み分け!B14="","",組み分け!B14) -> 愛知ＦＣ一宮 Ｂ | C15: =IF(OR(D15="",F15=""),"",IF(D15=F15,"△",IF(D15>F15,"○",IF(D15<F15,"●","")))) -> ● | D15: =IF(AL7="","",AL7) -> 0 | E15: - | F15: =IF(AJ7="","",AJ7) -> 12 | G15: =IF(OR(H15="",J15=""),"",IF(H15=J15,"△",IF(H15>J15,"○",IF(H15<J15,"●","")))) -> ● | H15: =IF(AL8="","",AL8) -> 0 | I15: - | J15: =IF(AJ8="","",AJ8) -> 2 | K15: =IF(OR(L15="",N15=""),"",IF(L15=N15,"△",IF(L15>N15,"○",IF(L15<N15,"●","")))) -> ○ | L15: =IF(AL9="","",AL9) -> 2 | M15: - | N15: =IF(AJ9="","",AJ9) -> 1 | O15: =IF(OR(P15="",R15=""),"",IF(P15=R15,"△",IF(P15>R15,"○",IF(P15<R15,"●","")))) -> ○ | P15: =IF(AL10="","",AL10) -> 6 | Q15: - | R15: =IF(AJ10="","",AJ10) -> 1 | S15: =IF(OR(T15="",V15=""),"",IF(T15=V15,"△",IF(T15>V15,"○",IF(T15<V15,"●","")))) -> ○ | T15: =IF(AL11="","",AL11) -> 2 | U15: - | V15: =IF(AJ11="","",AJ11) -> 1 | W15: =IF(OR(X15="",Z15=""),"",IF(X15=Z15,"△",IF(X15>Z15,"○",IF(X15<Z15,"●","")))) | X15: =IF(AL12="","",AL12) | Y15: - | Z15: =IF(AJ12="","",AJ12) | AA15: =IF(OR(AB15="",AD15=""),"",IF(AB15=AD15,"△",IF(AB15>AD15,"○",IF(AB15<AD15,"●","")))) -> △ | AB15: =IF(AL13="","",AL13) -> 1 | AC15: - | AD15: =IF(AJ13="","",AJ13) -> 1 | AE15: =IF(OR(AF15="",AH15=""),"",IF(AF15=AH15,"△",IF(AF15>AH15,"○",IF(AF15<AH15,"●","")))) -> ○ | AF15: =IF(AL14="","",AL14) -> 5 | AG15: - | AH15: =IF(AJ14="","",AJ14) -> 0 | AM15: =IF(OR(AN15="",AP15=""),"",IF(AN15=AP15,"△",IF(AN15>AP15,"○",IF(AN15<AP15,"●","")))) -> ○ | AN15: 2 | AO15: - | AP15: 1 | AQ15: =IF(OR(AR15="",AT15=""),"",IF(AR15=AT15,"△",IF(AR15>AT15,"○",IF(AR15<AT15,"●","")))) | AS15: - | AU15: =COUNTIF(C15:AT15,"○") -> 5 | AV15: =COUNTIF(C15:AT15,"●") -> 2 | AW15: =COUNTIF(C15:AT15,"△") -> 1 | AX15: =SUM(3*AU15,0*AV15,1*AW15) -> 16 | AY15: =SUM(AB15,AF15,AJ15,AN15,AR15,X15,T15,P15,L15,H15,D15) -> 18 | AZ15: =SUM(AD15,AH15,AL15,AP15,AT15,Z15,V15,R15,N15,J15,F15) -> 19 | BA15: =AY15-AZ15 -> -1 | BB15: =AX15+(BA15/100)+(AY15/100000) -> 15.99018 | BC15: =_xlfn.RANK.EQ(BB15,BB$7:BB$16,0) -> 2
A16: 10 | B16: =IF(組み分け!B15="","",組み分け!B15) -> ドルフィンＦＣ | C16: =IF(OR(D16="",F16=""),"",IF(D16=F16,"△",IF(D16>F16,"○",IF(D16<F16,"●","")))) -> ● | D16: =IF(AP7="","",AP7) -> 0 | E16: - | F16: =IF(AN7="","",AN7) -> 5 | G16: =IF(OR(H16="",J16=""),"",IF(H16=J16,"△",IF(H16>J16,"○",IF(H16<J16,"●","")))) | H16: =IF(AP8="","",AP8) | I16: - | J16: =IF(AN8="","",AN8) | K16: =IF(OR(L16="",N16=""),"",IF(L16=N16,"△",IF(L16>N16,"○",IF(L16<N16,"●","")))) -> △ | L16: =IF(AP9="","",AP9) -> 2 | M16: - | N16: =IF(AN9="","",AN9) -> 2 | O16: =IF(OR(P16="",R16=""),"",IF(P16=R16,"△",IF(P16>R16,"○",IF(P16<R16,"●","")))) -> ● | P16: =IF(AP10="","",AP10) -> 0 | Q16: - | R16: =IF(AN10="","",AN10) -> 1 | S16: =IF(OR(T16="",V16=""),"",IF(T16=V16,"△",IF(T16>V16,"○",IF(T16<V16,"●","")))) -> ● | T16: =IF(AP11="","",AP11) -> 1 | U16: - | V16: =IF(AN11="","",AN11) -> 6 | W16: =IF(OR(X16="",Z16=""),"",IF(X16=Z16,"△",IF(X16>Z16,"○",IF(X16<Z16,"●","")))) -> ● | X16: =IF(AP12="","",AP12) -> 1 | Y16: - | Z16: =IF(AN12="","",AN12) -> 3 | AA16: =IF(OR(AB16="",AD16=""),"",IF(AB16=AD16,"△",IF(AB16>AD16,"○",IF(AB16<AD16,"●","")))) -> ● | AB16: =IF(AP13="","",AP13) -> 1 | AC16: - | AD16: =IF(AN13="","",AN13) -> 3 | AE16: =IF(OR(AF16="",AH16=""),"",IF(AF16=AH16,"△",IF(AF16>AH16,"○",IF(AF16<AH16,"●","")))) -> ○ | AF16: =IF(AP14="","",AP14) -> 7 | AG16: - | AH16: =IF(AN14="","",AN14) -> 0 | AI16: =IF(OR(AJ16="",AL16=""),"",IF(AJ16=AL16,"△",IF(AJ16>AL16,"○",IF(AJ16<AL16,"●","")))) -> ● | AJ16: =IF(AP15="","",AP15) -> 1 | AK16: - | AL16: =IF(AN15="","",AN15) -> 2 | AQ16: =IF(OR(AR16="",AT16=""),"",IF(AR16=AT16,"△",IF(AR16>AT16,"○",IF(AR16<AT16,"●","")))) | AS16: - | AU16: =COUNTIF(C16:AT16,"○") -> 1 | AV16: =COUNTIF(C16:AT16,"●") -> 6 | AW16: =COUNTIF(C16:AT16,"△") -> 1 | AX16: =SUM(3*AU16,0*AV16,1*AW16) -> 4 | AY16: =SUM(AB16,AF16,AJ16,AN16,AR16,X16,T16,P16,L16,H16,D16) -> 13 | AZ16: =SUM(AD16,AH16,AL16,AP16,AT16,Z16,V16,R16,N16,J16,F16) -> 22 | BA16: =AY16-AZ16 -> -9 | BB16: =AX16+(BA16/100)+(AY16/100000) -> 3.91013 | BC16: =_xlfn.RANK.EQ(BB16,BB$7:BB$16,0) -> 9
C17: =IF(OR(D17="",F17=""),"",IF(D17=F17,"△",IF(D17>F17,"○",IF(D17<F17,"●","")))) | D17: =IF(AT7="","",AT7) | E17: - | F17: =IF(AR7="","",AR7) | G17: =IF(OR(H17="",J17=""),"",IF(H17=J17,"△",IF(H17>J17,"○",IF(H17<J17,"●","")))) | H17: =IF(AT8="","",AT8) | I17: - | J17: =IF(AR8="","",AR8) | K17: =IF(OR(L17="",N17=""),"",IF(L17=N17,"△",IF(L17>N17,"○",IF(L17<N17,"●","")))) | L17: =IF(AT9="","",AT9) | M17: - | N17: =IF(AR9="","",AR9) | O17: =IF(OR(P17="",R17=""),"",IF(P17=R17,"△",IF(P17>R17,"○",IF(P17<R17,"●","")))) | P17: =IF(AT10="","",AT10) | Q17: - | R17: =IF(AR10="","",AR10) | S17: =IF(OR(T17="",V17=""),"",IF(T17=V17,"△",IF(T17>V17,"○",IF(T17<V17,"●","")))) | T17: =IF(AT11="","",AT11) | U17: - | V17: =IF(AR11="","",AR11) | W17: =IF(OR(X17="",Z17=""),"",IF(X17=Z17,"△",IF(X17>Z17,"○",IF(X17<Z17,"●","")))) | X17: =IF(AT12="","",AT12) | Y17: - | Z17: =IF(AR12="","",AR12) | AA17: =IF(OR(AB17="",AD17=""),"",IF(AB17=AD17,"△",IF(AB17>AD17,"○",IF(AB17<AD17,"●","")))) | AB17: =IF(AT13="","",AT13) | AC17: - | AD17: =IF(AR13="","",AR13) | AE17: =IF(OR(AF17="",AH17=""),"",IF(AF17=AH17,"△",IF(AF17>AH17,"○",IF(AF17<AH17,"●","")))) | AF17: =IF(AT14="","",AT14) | AG17: - | AH17: =IF(AR14="","",AR14) | AI17: =IF(OR(AJ17="",AL17=""),"",IF(AJ17=AL17,"△",IF(AJ17>AL17,"○",IF(AJ17<AL17,"●","")))) | AJ17: =IF(AT15="","",AT15) | AK17: - | AL17: =IF(AR15="","",AR15) | AM17: =IF(OR(AN17="",AP17=""),"",IF(AN17=AP17,"△",IF(AN17>AP17,"○",IF(AN17<AP17,"●","")))) | AN17: =IF(AT16="","",AT16) | AO17: - | AP17: =IF(AR16="","",AR16) | AU17: =COUNTIF(C17:AT17,"○") -> 0 | AV17: =COUNTIF(C17:AT17,"●") -> 0 | AW17: =COUNTIF(C17:AT17,"△") -> 0 | AX17: =SUM(3*AU17,0*AV17,1*AW17) -> 0 | AY17: =SUM(AB17,AF17,AJ17,AN17,AR17,X17,T17,P17,L17,H17,D17) -> 0 | AZ17: =SUM(AD17,AH17,AL17,AP17,AT17,Z17,V17,R17,N17,J17,F17) -> 0 | BA17: =AY17-AZ17 -> 0 | BB17: =AX17+(BA17/100)+(AY17/100000) -> 0
B21: 【Bブロック】
A22: Bブロック | D22: =IF(A24="","",A24) -> 11 | H22: =IF(A25="","",A25) -> 12 | L22: =IF(A26="","",A26) -> 13 | P22: =IF(A27="","",A27) -> 14 | T22: =IF(A28="","",A28) -> 15 | X22: =IF(A29="","",A29) -> 16 | AB22: =IF(A30="","",A30) -> 17 | AF22: =IF(A31="","",A31) -> 18 | AJ22: =IF(A32="","",A32) -> 19 | AN22: =IF(A33="","",A33) -> 20 | AR22: =IF(A34="","",A34) | AU22: 勝 | AV22: 負 | AW22: 分 | AX22: 勝点 | AY22: 得点 | AZ22: 失点 | BA22: 得失 | BB22: 集計 | BC22: 順位
C23: =IF(B24="","",B24) -> クレバーフット | G23: =IF(B25="","",B25) -> 津島ＡＦＣ | K23: =IF(B26="","",B26) -> 岩倉ＦＣフォルテ | O23: =IF(B27="","",B27) -> 尾張ＦＣ Ａ | S23: =IF(B28="","",B28) -> ＦＣ ＫＯＮＡＮ | W23: =IF(B29="","",B29) -> Partigiano FC | AA23: =IF(B30="","",B30) -> F.C.DIVINE B | AE23: =IF(B31="","",B31) -> エルニーニョ美和 | AI23: =IF(B32="","",B32) -> 尾西FC B | AM23: =IF(B33="","",B33) -> 一宮ＦＣ Ｃ | AQ23: =IF(B34="","",B34)
A24: 11 | B24: =IF(組み分け!I6="","",組み分け!I6) -> クレバーフット | G24: =IF(OR(H24="",J24=""),"",IF(H24=J24,"△",IF(H24>J24,"○",IF(H24<J24,"●","")))) | I24: - | K24: =IF(OR(L24="",N24=""),"",IF(L24=N24,"△",IF(L24>N24,"○",IF(L24<N24,"●","")))) | M24: - | O24: =IF(OR(P24="",R24=""),"",IF(P24=R24,"△",IF(P24>R24,"○",IF(P24<R24,"●","")))) | Q24: - | S24: =IF(OR(T24="",V24=""),"",IF(T24=V24,"△",IF(T24>V24,"○",IF(T24<V24,"●","")))) | U24: - | W24: =IF(OR(X24="",Z24=""),"",IF(X24=Z24,"△",IF(X24>Z24,"○",IF(X24<Z24,"●","")))) | Y24: - | AA24: =IF(OR(AB24="",AD24=""),"",IF(AB24=AD24,"△",IF(AB24>AD24,"○",IF(AB24<AD24,"●","")))) | AC24: - | AE24: =IF(OR(AF24="",AH24=""),"",IF(AF24=AH24,"△",IF(AF24>AH24,"○",IF(AF24<AH24,"●","")))) | AG24: - | AI24: =IF(OR(AJ24="",AL24=""),"",IF(AJ24=AL24,"△",IF(AJ24>AL24,"○",IF(AJ24<AL24,"●","")))) | AK24: - | AM24: =IF(OR(AN24="",AP24=""),"",IF(AN24=AP24,"△",IF(AN24>AP24,"○",IF(AN24<AP24,"●","")))) | AO24: - | AQ24: =IF(OR(AR24="",AT24=""),"",IF(AR24=AT24,"△",IF(AR24>AT24,"○",IF(AR24<AT24,"●","")))) | AS24: - | AU24: =COUNTIF(C24:AT24,"○") -> 0 | AV24: =COUNTIF(C24:AT24,"●") -> 0 | AW24: =COUNTIF(C24:AT24,"△") -> 0 | AX24: =SUM(3*AU24,0*AV24,1*AW24) -> 0 | AY24: =SUM(AB24,AF24,AJ24,AN24,AR24,X24,T24,P24,L24,H24,D24) -> 0 | AZ24: =SUM(AD24,AH24,AL24,AP24,AT24,Z24,V24,R24,N24,J24,F24) -> 0 | BA24: =AY24-AZ24 -> 0 | BB24: =AX24+(BA24/100)+(AY24/100000) -> 0 | BC24: =_xlfn.RANK.EQ(BB24,BB$24:BB$33,0) -> 1
A25: 12 | B25: =IF(組み分け!I7="","",組み分け!I7) -> 津島ＡＦＣ | C25: =IF(OR(D25="",F25=""),"",IF(D25=F25,"△",IF(D25>F25,"○",IF(D25<F25,"●","")))) | D25: =IF(J24="","",J24) | E25: - | F25: =IF(H24="","",H24) | K25: =IF(OR(L25="",N25=""),"",IF(L25=N25,"△",IF(L25>N25,"○",IF(L25<N25,"●","")))) | M25: - | O25: =IF(OR(P25="",R25=""),"",IF(P25=R25,"△",IF(P25>R25,"○",IF(P25<R25,"●","")))) | Q25: - | S25: =IF(OR(T25="",V25=""),"",IF(T25=V25,"△",IF(T25>V25,"○",IF(T25<V25,"●","")))) | U25: - | W25: =IF(OR(X25="",Z25=""),"",IF(X25=Z25,"△",IF(X25>Z25,"○",IF(X25<Z25,"●","")))) | Y25: - | AA25: =IF(OR(AB25="",AD25=""),"",IF(AB25=AD25,"△",IF(AB25>AD25,"○",IF(AB25<AD25,"●","")))) | AC25: - | AE25: =IF(OR(AF25="",AH25=""),"",IF(AF25=AH25,"△",IF(AF25>AH25,"○",IF(AF25<AH25,"●","")))) | AG25: - | AI25: =IF(OR(AJ25="",AL25=""),"",IF(AJ25=AL25,"△",IF(AJ25>AL25,"○",IF(AJ25<AL25,"●","")))) | AK25: - | AM25: =IF(OR(AN25="",AP25=""),"",IF(AN25=AP25,"△",IF(AN25>AP25,"○",IF(AN25<AP25,"●","")))) | AO25: - | AQ25: =IF(OR(AR25="",AT25=""),"",IF(AR25=AT25,"△",IF(AR25>AT25,"○",IF(AR25<AT25,"●","")))) | AS25: - | AU25: =COUNTIF(C25:AT25,"○") -> 0 | AV25: =COUNTIF(C25:AT25,"●") -> 0 | AW25: =COUNTIF(C25:AT25,"△") -> 0 | AX25: =SUM(3*AU25,0*AV25,1*AW25) -> 0 | AY25: =SUM(AB25,AF25,AJ25,AN25,AR25,X25,T25,P25,L25,H25,D25) -> 0 | AZ25: =SUM(AD25,AH25,AL25,AP25,AT25,Z25,V25,R25,N25,J25,F25) -> 0 | BA25: =AY25-AZ25 -> 0 | BB25: =AX25+(BA25/100)+(AY25/100000) -> 0 | BC25: =_xlfn.RANK.EQ(BB25,BB$24:BB$33,0) -> 1
A26: 13 | B26: =IF(組み分け!I8="","",組み分け!I8) -> 岩倉ＦＣフォルテ | C26: =IF(OR(D26="",F26=""),"",IF(D26=F26,"△",IF(D26>F26,"○",IF(D26<F26,"●","")))) | D26: =IF(N24="","",N24) | E26: - | F26: =IF(L24="","",L24) | G26: =IF(OR(H26="",J26=""),"",IF(H26=J26,"△",IF(H26>J26,"○",IF(H26<J26,"●","")))) | H26: =IF(N25="","",N25) | I26: - | J26: =IF(L25="","",L25) | O26: =IF(OR(P26="",R26=""),"",IF(P26=R26,"△",IF(P26>R26,"○",IF(P26<R26,"●","")))) | Q26: - | S26: =IF(OR(T26="",V26=""),"",IF(T26=V26,"△",IF(T26>V26,"○",IF(T26<V26,"●","")))) | U26: - | W26: =IF(OR(X26="",Z26=""),"",IF(X26=Z26,"△",IF(X26>Z26,"○",IF(X26<Z26,"●","")))) | Y26: - | AA26: =IF(OR(AB26="",AD26=""),"",IF(AB26=AD26,"△",IF(AB26>AD26,"○",IF(AB26<AD26,"●","")))) | AC26: - | AE26: =IF(OR(AF26="",AH26=""),"",IF(AF26=AH26,"△",IF(AF26>AH26,"○",IF(AF26<AH26,"●","")))) | AG26: - | AI26: =IF(OR(AJ26="",AL26=""),"",IF(AJ26=AL26,"△",IF(AJ26>AL26,"○",IF(AJ26<AL26,"●","")))) | AK26: - | AM26: =IF(OR(AN26="",AP26=""),"",IF(AN26=AP26,"△",IF(AN26>AP26,"○",IF(AN26<AP26,"●","")))) | AO26: - | AQ26: =IF(OR(AR26="",AT26=""),"",IF(AR26=AT26,"△",IF(AR26>AT26,"○",IF(AR26<AT26,"●","")))) | AS26: - | AU26: =COUNTIF(C26:AT26,"○") -> 0 | AV26: =COUNTIF(C26:AT26,"●") -> 0 | AW26: =COUNTIF(C26:AT26,"△") -> 0 | AX26: =SUM(3*AU26,0*AV26,1*AW26) -> 0 | AY26: =SUM(AB26,AF26,AJ26,AN26,AR26,X26,T26,P26,L26,H26,D26) -> 0 | AZ26: =SUM(AD26,AH26,AL26,AP26,AT26,Z26,V26,R26,N26,J26,F26) -> 0 | BA26: =AY26-AZ26 -> 0 | BB26: =AX26+(BA26/100)+(AY26/100000) -> 0 | BC26: =_xlfn.RANK.EQ(BB26,BB$24:BB$33,0) -> 1
A27: 14 | B27: =IF(組み分け!I9="","",組み分け!I9) -> 尾張ＦＣ Ａ | C27: =IF(OR(D27="",F27=""),"",IF(D27=F27,"△",IF(D27>F27,"○",IF(D27<F27,"●","")))) | D27: =IF(R24="","",R24) | E27: - | F27: =IF(P24="","",P24) | G27: =IF(OR(H27="",J27=""),"",IF(H27=J27,"△",IF(H27>J27,"○",IF(H27<J27,"●","")))) | H27: =IF(R25="","",R25) | I27: - | J27: =IF(P25="","",P25) | K27: =IF(OR(L27="",N27=""),"",IF(L27=N27,"△",IF(L27>N27,"○",IF(L27<N27,"●","")))) | L27: =IF(R26="","",R26) | M27: - | N27: =IF(P26="","",P26) | S27: =IF(OR(T27="",V27=""),"",IF(T27=V27,"△",IF(T27>V27,"○",IF(T27<V27,"●","")))) | U27: - | W27: =IF(OR(X27="",Z27=""),"",IF(X27=Z27,"△",IF(X27>Z27,"○",IF(X27<Z27,"●","")))) | Y27: - | AA27: =IF(OR(AB27="",AD27=""),"",IF(AB27=AD27,"△",IF(AB27>AD27,"○",IF(AB27<AD27,"●","")))) | AC27: - | AE27: =IF(OR(AF27="",AH27=""),"",IF(AF27=AH27,"△",IF(AF27>AH27,"○",IF(AF27<AH27,"●","")))) | AG27: - | AI27: =IF(OR(AJ27="",AL27=""),"",IF(AJ27=AL27,"△",IF(AJ27>AL27,"○",IF(AJ27<AL27,"●","")))) | AK27: - | AM27: =IF(OR(AN27="",AP27=""),"",IF(AN27=AP27,"△",IF(AN27>AP27,"○",IF(AN27<AP27,"●","")))) | AO27: - | AQ27: =IF(OR(AR27="",AT27=""),"",IF(AR27=AT27,"△",IF(AR27>AT27,"○",IF(AR27<AT27,"●","")))) | AS27: - | AU27: =COUNTIF(C27:AT27,"○") -> 0 | AV27: =COUNTIF(C27:AT27,"●") -> 0 | AW27: =COUNTIF(C27:AT27,"△") -> 0 | AX27: =SUM(3*AU27,0*AV27,1*AW27) -> 0 | AY27: =SUM(AB27,AF27,AJ27,AN27,AR27,X27,T27,P27,L27,H27,D27) -> 0 | AZ27: =SUM(AD27,AH27,AL27,AP27,AT27,Z27,V27,R27,N27,J27,F27) -> 0 | BA27: =AY27-AZ27 -> 0 | BB27: =AX27+(BA27/100)+(AY27/100000) -> 0 | BC27: =_xlfn.RANK.EQ(BB27,BB$24:BB$33,0) -> 1
A28: 15 | B28: =IF(組み分け!I10="","",組み分け!I10) -> ＦＣ ＫＯＮＡＮ | C28: =IF(OR(D28="",F28=""),"",IF(D28=F28,"△",IF(D28>F28,"○",IF(D28<F28,"●","")))) | D28: =IF(V24="","",V24) | E28: - | F28: =IF(T24="","",T24) | G28: =IF(OR(H28="",J28=""),"",IF(H28=J28,"△",IF(H28>J28,"○",IF(H28<J28,"●","")))) | H28: =IF(V25="","",V25) | I28: - | J28: =IF(T25="","",T25) | K28: =IF(OR(L28="",N28=""),"",IF(L28=N28,"△",IF(L28>N28,"○",IF(L28<N28,"●","")))) | L28: =IF(V26="","",V26) | M28: - | N28: =IF(T26="","",T26) | O28: =IF(OR(P28="",R28=""),"",IF(P28=R28,"△",IF(P28>R28,"○",IF(P28<R28,"●","")))) | P28: =IF(V27="","",V27) | Q28: - | R28: =IF(T27="","",T27) | W28: =IF(OR(X28="",Z28=""),"",IF(X28=Z28,"△",IF(X28>Z28,"○",IF(X28<Z28,"●","")))) | Y28: - | AA28: =IF(OR(AB28="",AD28=""),"",IF(AB28=AD28,"△",IF(AB28>AD28,"○",IF(AB28<AD28,"●","")))) | AC28: - | AE28: =IF(OR(AF28="",AH28=""),"",IF(AF28=AH28,"△",IF(AF28>AH28,"○",IF(AF28<AH28,"●","")))) | AG28: - | AI28: =IF(OR(AJ28="",AL28=""),"",IF(AJ28=AL28,"△",IF(AJ28>AL28,"○",IF(AJ28<AL28,"●","")))) | AK28: - | AM28: =IF(OR(AN28="",AP28=""),"",IF(AN28=AP28,"△",IF(AN28>AP28,"○",IF(AN28<AP28,"●","")))) | AO28: - | AQ28: =IF(OR(AR28="",AT28=""),"",IF(AR28=AT28,"△",IF(AR28>AT28,"○",IF(AR28<AT28,"●","")))) | AS28: - | AU28: =COUNTIF(C28:AT28,"○") -> 0 | AV28: =COUNTIF(C28:AT28,"●") -> 0 | AW28: =COUNTIF(C28:AT28,"△") -> 0 | AX28: =SUM(3*AU28,0*AV28,1*AW28) -> 0 | AY28: =SUM(AB28,AF28,AJ28,AN28,AR28,X28,T28,P28,L28,H28,D28) -> 0 | AZ28: =SUM(AD28,AH28,AL28,AP28,AT28,Z28,V28,R28,N28,J28,F28) -> 0 | BA28: =AY28-AZ28 -> 0 | BB28: =AX28+(BA28/100)+(AY28/100000) -> 0 | BC28: =_xlfn.RANK.EQ(BB28,BB$24:BB$33,0) -> 1
A29: 16 | B29: =IF(組み分け!I11="","",組み分け!I11) -> Partigiano FC | C29: =IF(OR(D29="",F29=""),"",IF(D29=F29,"△",IF(D29>F29,"○",IF(D29<F29,"●","")))) | D29: =IF(Z24="","",Z24) | E29: - | F29: =IF(X24="","",X24) | G29: =IF(OR(H29="",J29=""),"",IF(H29=J29,"△",IF(H29>J29,"○",IF(H29<J29,"●","")))) | H29: =IF(Z25="","",Z25) | I29: - | J29: =IF(X25="","",X25) | K29: =IF(OR(L29="",N29=""),"",IF(L29=N29,"△",IF(L29>N29,"○",IF(L29<N29,"●","")))) | L29: =IF(Z26="","",Z26) | M29: - | N29: =IF(X26="","",X26) | O29: =IF(OR(P29="",R29=""),"",IF(P29=R29,"△",IF(P29>R29,"○",IF(P29<R29,"●","")))) | P29: =IF(Z27="","",Z27) | Q29: - | R29: =IF(X27="","",X27) | S29: =IF(OR(T29="",V29=""),"",IF(T29=V29,"△",IF(T29>V29,"○",IF(T29<V29,"●","")))) | T29: =IF(Z28="","",Z28) | U29: - | V29: =IF(X28="","",X28) | AA29: =IF(OR(AB29="",AD29=""),"",IF(AB29=AD29,"△",IF(AB29>AD29,"○",IF(AB29<AD29,"●","")))) | AC29: - | AE29: =IF(OR(AF29="",AH29=""),"",IF(AF29=AH29,"△",IF(AF29>AH29,"○",IF(AF29<AH29,"●","")))) | AG29: - | AI29: =IF(OR(AJ29="",AL29=""),"",IF(AJ29=AL29,"△",IF(AJ29>AL29,"○",IF(AJ29<AL29,"●","")))) | AK29: - | AM29: =IF(OR(AN29="",AP29=""),"",IF(AN29=AP29,"△",IF(AN29>AP29,"○",IF(AN29<AP29,"●","")))) | AO29: - | AQ29: =IF(OR(AR29="",AT29=""),"",IF(AR29=AT29,"△",IF(AR29>AT29,"○",IF(AR29<AT29,"●","")))) | AS29: - | AU29: =COUNTIF(C29:AT29,"○") -> 0 | AV29: =COUNTIF(C29:AT29,"●") -> 0 | AW29: =COUNTIF(C29:AT29,"△") -> 0 | AX29: =SUM(3*AU29,0*AV29,1*AW29) -> 0 | AY29: =SUM(AB29,AF29,AJ29,AN29,AR29,X29,T29,P29,L29,H29,D29) -> 0 | AZ29: =SUM(AD29,AH29,AL29,AP29,AT29,Z29,V29,R29,N29,J29,F29) -> 0 | BA29: =AY29-AZ29 -> 0 | BB29: =AX29+(BA29/100)+(AY29/100000) -> 0 | BC29: =_xlfn.RANK.EQ(BB29,BB$24:BB$33,0) -> 1
A30: 17 | B30: =IF(組み分け!I12="","",組み分け!I12) -> F.C.DIVINE B | C30: =IF(OR(D30="",F30=""),"",IF(D30=F30,"△",IF(D30>F30,"○",IF(D30<F30,"●","")))) | D30: =IF(AD24="","",AD24) | E30: - | F30: =IF(AB24="","",AB24) | G30: =IF(OR(H30="",J30=""),"",IF(H30=J30,"△",IF(H30>J30,"○",IF(H30<J30,"●","")))) | H30: =IF(AD25="","",AD25) | I30: - | J30: =IF(AB25="","",AB25) | K30: =IF(OR(L30="",N30=""),"",IF(L30=N30,"△",IF(L30>N30,"○",IF(L30<N30,"●","")))) | L30: =IF(AD26="","",AD26) | M30: - | N30: =IF(AB26="","",AB26) | O30: =IF(OR(P30="",R30=""),"",IF(P30=R30,"△",IF(P30>R30,"○",IF(P30<R30,"●","")))) | P30: =IF(AD27="","",AD27) | Q30: - | R30: =IF(AB27="","",AB27) | S30: =IF(OR(T30="",V30=""),"",IF(T30=V30,"△",IF(T30>V30,"○",IF(T30<V30,"●","")))) | T30: =IF(AD28="","",AD28) | U30: - | V30: =IF(AB28="","",AB28) | W30: =IF(OR(X30="",Z30=""),"",IF(X30=Z30,"△",IF(X30>Z30,"○",IF(X30<Z30,"●","")))) | X30: =IF(AD29="","",AD29) | Y30: - | Z30: =IF(AB29="","",AB29) | AE30: =IF(OR(AF30="",AH30=""),"",IF(AF30=AH30,"△",IF(AF30>AH30,"○",IF(AF30<AH30,"●","")))) | AG30: - | AI30: =IF(OR(AJ30="",AL30=""),"",IF(AJ30=AL30,"△",IF(AJ30>AL30,"○",IF(AJ30<AL30,"●","")))) | AK30: - | AM30: =IF(OR(AN30="",AP30=""),"",IF(AN30=AP30,"△",IF(AN30>AP30,"○",IF(AN30<AP30,"●","")))) | AO30: - | AQ30: =IF(OR(AR30="",AT30=""),"",IF(AR30=AT30,"△",IF(AR30>AT30,"○",IF(AR30<AT30,"●","")))) | AS30: - | AU30: =COUNTIF(C30:AT30,"○") -> 0 | AV30: =COUNTIF(C30:AT30,"●") -> 0 | AW30: =COUNTIF(C30:AT30,"△") -> 0 | AX30: =SUM(3*AU30,0*AV30,1*AW30) -> 0 | AY30: =SUM(AB30,AF30,AJ30,AN30,AR30,X30,T30,P30,L30,H30,D30) -> 0 | AZ30: =SUM(AD30,AH30,AL30,AP30,AT30,Z30,V30,R30,N30,J30,F30) -> 0 | BA30: =AY30-AZ30 -> 0 | BB30: =AX30+(BA30/100)+(AY30/100000) -> 0 | BC30: =_xlfn.RANK.EQ(BB30,BB$24:BB$33,0) -> 1
A31: 18 | B31: =IF(組み分け!I13="","",組み分け!I13) -> エルニーニョ美和 | C31: =IF(OR(D31="",F31=""),"",IF(D31=F31,"△",IF(D31>F31,"○",IF(D31<F31,"●","")))) | D31: =IF(AH24="","",AH24) | E31: - | F31: =IF(AF24="","",AF24) | G31: =IF(OR(H31="",J31=""),"",IF(H31=J31,"△",IF(H31>J31,"○",IF(H31<J31,"●","")))) | H31: =IF(AH25="","",AH25) | I31: - | J31: =IF(AF25="","",AF25) | K31: =IF(OR(L31="",N31=""),"",IF(L31=N31,"△",IF(L31>N31,"○",IF(L31<N31,"●","")))) | L31: =IF(AH26="","",AH26) | M31: - | N31: =IF(AF26="","",AF26) | O31: =IF(OR(P31="",R31=""),"",IF(P31=R31,"△",IF(P31>R31,"○",IF(P31<R31,"●","")))) | P31: =IF(AH27="","",AH27) | Q31: - | R31: =IF(AF27="","",AF27) | S31: =IF(OR(T31="",V31=""),"",IF(T31=V31,"△",IF(T31>V31,"○",IF(T31<V31,"●","")))) | T31: =IF(AH28="","",AH28) | U31: - | V31: =IF(AF28="","",AF28) | W31: =IF(OR(X31="",Z31=""),"",IF(X31=Z31,"△",IF(X31>Z31,"○",IF(X31<Z31,"●","")))) | X31: =IF(AH29="","",AH29) | Y31: - | Z31: =IF(AF29="","",AF29) | AA31: =IF(OR(AB31="",AD31=""),"",IF(AB31=AD31,"△",IF(AB31>AD31,"○",IF(AB31<AD31,"●","")))) | AB31: =IF(AH30="","",AH30) | AC31: - | AD31: =IF(AF30="","",AF30) | AI31: =IF(OR(AJ31="",AL31=""),"",IF(AJ31=AL31,"△",IF(AJ31>AL31,"○",IF(AJ31<AL31,"●","")))) | AK31: - | AM31: =IF(OR(AN31="",AP31=""),"",IF(AN31=AP31,"△",IF(AN31>AP31,"○",IF(AN31<AP31,"●","")))) | AO31: - | AQ31: =IF(OR(AR31="",AT31=""),"",IF(AR31=AT31,"△",IF(AR31>AT31,"○",IF(AR31<AT31,"●","")))) | AS31: - | AU31: =COUNTIF(C31:AT31,"○") -> 0 | AV31: =COUNTIF(C31:AT31,"●") -> 0 | AW31: =COUNTIF(C31:AT31,"△") -> 0 | AX31: =SUM(3*AU31,0*AV31,1*AW31) -> 0 | AY31: =SUM(AB31,AF31,AJ31,AN31,AR31,X31,T31,P31,L31,H31,D31) -> 0 | AZ31: =SUM(AD31,AH31,AL31,AP31,AT31,Z31,V31,R31,N31,J31,F31) -> 0 | BA31: =AY31-AZ31 -> 0 | BB31: =AX31+(BA31/100)+(AY31/100000) -> 0 | BC31: =_xlfn.RANK.EQ(BB31,BB$24:BB$33,0) -> 1
A32: 19 | B32: =IF(組み分け!I14="","",組み分け!I14) -> 尾西FC B | C32: =IF(OR(D32="",F32=""),"",IF(D32=F32,"△",IF(D32>F32,"○",IF(D32<F32,"●","")))) | D32: =IF(AL24="","",AL24) | E32: - | F32: =IF(AJ24="","",AJ24) | G32: =IF(OR(H32="",J32=""),"",IF(H32=J32,"△",IF(H32>J32,"○",IF(H32<J32,"●","")))) | H32: =IF(AL25="","",AL25) | I32: - | J32: =IF(AJ25="","",AJ25) | K32: =IF(OR(L32="",N32=""),"",IF(L32=N32,"△",IF(L32>N32,"○",IF(L32<N32,"●","")))) | L32: =IF(AL26="","",AL26) | M32: - | N32: =IF(AJ26="","",AJ26) | O32: =IF(OR(P32="",R32=""),"",IF(P32=R32,"△",IF(P32>R32,"○",IF(P32<R32,"●","")))) | P32: =IF(AL27="","",AL27) | Q32: - | R32: =IF(AJ27="","",AJ27) | S32: =IF(OR(T32="",V32=""),"",IF(T32=V32,"△",IF(T32>V32,"○",IF(T32<V32,"●","")))) | T32: =IF(AL28="","",AL28) | U32: - | V32: =IF(AJ28="","",AJ28) | W32: =IF(OR(X32="",Z32=""),"",IF(X32=Z32,"△",IF(X32>Z32,"○",IF(X32<Z32,"●","")))) | X32: =IF(AL29="","",AL29) | Y32: - | Z32: =IF(AJ29="","",AJ29) | AA32: =IF(OR(AB32="",AD32=""),"",IF(AB32=AD32,"△",IF(AB32>AD32,"○",IF(AB32<AD32,"●","")))) | AB32: =IF(AL30="","",AL30) | AC32: - | AD32: =IF(AJ30="","",AJ30) | AE32: =IF(OR(AF32="",AH32=""),"",IF(AF32=AH32,"△",IF(AF32>AH32,"○",IF(AF32<AH32,"●","")))) | AF32: =IF(AL31="","",AL31) | AG32: - | AH32: =IF(AJ31="","",AJ31) | AM32: =IF(OR(AN32="",AP32=""),"",IF(AN32=AP32,"△",IF(AN32>AP32,"○",IF(AN32<AP32,"●","")))) | AO32: - | AQ32: =IF(OR(AR32="",AT32=""),"",IF(AR32=AT32,"△",IF(AR32>AT32,"○",IF(AR32<AT32,"●","")))) | AS32: - | AU32: =COUNTIF(C32:AT32,"○") -> 0 | AV32: =COUNTIF(C32:AT32,"●") -> 0 | AW32: =COUNTIF(C32:AT32,"△") -> 0 | AX32: =SUM(3*AU32,0*AV32,1*AW32) -> 0 | AY32: =SUM(AB32,AF32,AJ32,AN32,AR32,X32,T32,P32,L32,H32,D32) -> 0 | AZ32: =SUM(AD32,AH32,AL32,AP32,AT32,Z32,V32,R32,N32,J32,F32) -> 0 | BA32: =AY32-AZ32 -> 0 | BB32: =AX32+(BA32/100)+(AY32/100000) -> 0 | BC32: =_xlfn.RANK.EQ(BB32,BB$24:BB$33,0) -> 1
A33: 20 | B33: =IF(組み分け!I15="","",組み分け!I15) -> 一宮ＦＣ Ｃ | C33: =IF(OR(D33="",F33=""),"",IF(D33=F33,"△",IF(D33>F33,"○",IF(D33<F33,"●","")))) | D33: =IF(AP24="","",AP24) | E33: - | F33: =IF(AN24="","",AN24) | G33: =IF(OR(H33="",J33=""),"",IF(H33=J33,"△",IF(H33>J33,"○",IF(H33<J33,"●","")))) | H33: =IF(AP25="","",AP25) | I33: - | J33: =IF(AN25="","",AN25) | K33: =IF(OR(L33="",N33=""),"",IF(L33=N33,"△",IF(L33>N33,"○",IF(L33<N33,"●","")))) | L33: =IF(AP26="","",AP26) | M33: - | N33: =IF(AN26="","",AN26) | O33: =IF(OR(P33="",R33=""),"",IF(P33=R33,"△",IF(P33>R33,"○",IF(P33<R33,"●","")))) | P33: =IF(AP27="","",AP27) | Q33: - | R33: =IF(AN27="","",AN27) | S33: =IF(OR(T33="",V33=""),"",IF(T33=V33,"△",IF(T33>V33,"○",IF(T33<V33,"●","")))) | T33: =IF(AP28="","",AP28) | U33: - | V33: =IF(AN28="","",AN28) | W33: =IF(OR(X33="",Z33=""),"",IF(X33=Z33,"△",IF(X33>Z33,"○",IF(X33<Z33,"●","")))) | X33: =IF(AP29="","",AP29) | Y33: - | Z33: =IF(AN29="","",AN29) | AA33: =IF(OR(AB33="",AD33=""),"",IF(AB33=AD33,"△",IF(AB33>AD33,"○",IF(AB33<AD33,"●","")))) | AB33: =IF(AP30="","",AP30) | AC33: - | AD33: =IF(AN30="","",AN30) | AE33: =IF(OR(AF33="",AH33=""),"",IF(AF33=AH33,"△",IF(AF33>AH33,"○",IF(AF33<AH33,"●","")))) | AF33: =IF(AP31="","",AP31) | AG33: - | AH33: =IF(AN31="","",AN31) | AI33: =IF(OR(AJ33="",AL33=""),"",IF(AJ33=AL33,"△",IF(AJ33>AL33,"○",IF(AJ33<AL33,"●","")))) | AJ33: =IF(AP32="","",AP32) | AK33: - | AL33: =IF(AN32="","",AN32) | AQ33: =IF(OR(AR33="",AT33=""),"",IF(AR33=AT33,"△",IF(AR33>AT33,"○",IF(AR33<AT33,"●","")))) | AS33: - | AU33: =COUNTIF(C33:AT33,"○") -> 0 | AV33: =COUNTIF(C33:AT33,"●") -> 0 | AW33: =COUNTIF(C33:AT33,"△") -> 0 | AX33: =SUM(3*AU33,0*AV33,1*AW33) -> 0 | AY33: =SUM(AB33,AF33,AJ33,AN33,AR33,X33,T33,P33,L33,H33,D33) -> 0 | AZ33: =SUM(AD33,AH33,AL33,AP33,AT33,Z33,V33,R33,N33,J33,F33) -> 0 | BA33: =AY33-AZ33 -> 0 | BB33: =AX33+(BA33/100)+(AY33/100000) -> 0 | BC33: =_xlfn.RANK.EQ(BB33,BB$24:BB$33,0) -> 1
C34: =IF(OR(D34="",F34=""),"",IF(D34=F34,"△",IF(D34>F34,"○",IF(D34<F34,"●","")))) | D34: =IF(AT24="","",AT24) | E34: - | F34: =IF(AR24="","",AR24) | G34: =IF(OR(H34="",J34=""),"",IF(H34=J34,"△",IF(H34>J34,"○",IF(H34<J34,"●","")))) | H34: =IF(AT25="","",AT25) | I34: - | J34: =IF(AR25="","",AR25) | K34: =IF(OR(L34="",N34=""),"",IF(L34=N34,"△",IF(L34>N34,"○",IF(L34<N34,"●","")))) | L34: =IF(AT26="","",AT26) | M34: - | N34: =IF(AR26="","",AR26) | O34: =IF(OR(P34="",R34=""),"",IF(P34=R34,"△",IF(P34>R34,"○",IF(P34<R34,"●","")))) | P34: =IF(AT27="","",AT27) | Q34: - | R34: =IF(AR27="","",AR27) | S34: =IF(OR(T34="",V34=""),"",IF(T34=V34,"△",IF(T34>V34,"○",IF(T34<V34,"●","")))) | T34: =IF(AT28="","",AT28) | U34: - | V34: =IF(AR28="","",AR28) | W34: =IF(OR(X34="",Z34=""),"",IF(X34=Z34,"△",IF(X34>Z34,"○",IF(X34<Z34,"●","")))) | X34: =IF(AT29="","",AT29) | Y34: - | Z34: =IF(AR29="","",AR29) | AA34: =IF(OR(AB34="",AD34=""),"",IF(AB34=AD34,"△",IF(AB34>AD34,"○",IF(AB34<AD34,"●","")))) | AB34: =IF(AT30="","",AT30) | AC34: - | AD34: =IF(AR30="","",AR30) | AE34: =IF(OR(AF34="",AH34=""),"",IF(AF34=AH34,"△",IF(AF34>AH34,"○",IF(AF34<AH34,"●","")))) | AF34: =IF(AT31="","",AT31) | AG34: - | AH34: =IF(AR31="","",AR31) | AI34: =IF(OR(AJ34="",AL34=""),"",IF(AJ34=AL34,"△",IF(AJ34>AL34,"○",IF(AJ34<AL34,"●","")))) | AJ34: =IF(AT32="","",AT32) | AK34: - | AL34: =IF(AR32="","",AR32) | AM34: =IF(OR(AN34="",AP34=""),"",IF(AN34=AP34,"△",IF(AN34>AP34,"○",IF(AN34<AP34,"●","")))) | AN34: =IF(AT33="","",AT33) | AO34: - | AP34: =IF(AR33="","",AR33) | AU34: =COUNTIF(C34:AT34,"○") -> 0 | AV34: =COUNTIF(C34:AT34,"●") -> 0 | AW34: =COUNTIF(C34:AT34,"△") -> 0 | AX34: =SUM(3*AU34,0*AV34,1*AW34) -> 0 | AY34: =SUM(AB34,AF34,AJ34,AN34,AR34,X34,T34,P34,L34,H34,D34) -> 0 | AZ34: =SUM(AD34,AH34,AL34,AP34,AT34,Z34,V34,R34,N34,J34,F34) -> 0 | BA34: =AY34-AZ34 -> 0 | BB34: =AX34+(BA34/100)+(AY34/100000) -> 0
B38: 【Cブロック】
A39: Cブロック | D39: =IF(A41="","",A41) -> 21 | H39: =IF(A42="","",A42) -> 22 | L39: =IF(A43="","",A43) -> 23 | P39: =IF(A44="","",A44) -> 24 | T39: =IF(A45="","",A45) -> 25 | X39: =IF(A46="","",A46) -> 26 | AB39: =IF(A47="","",A47) -> 27 | AF39: =IF(A48="","",A48) -> 28 | AJ39: =IF(A49="","",A49) -> 29 | AN39: =IF(A50="","",A50) -> 30 | AR39: =IF(A51="","",A51) | AU39: 勝 | AV39: 負 | AW39: 分 | AX39: 勝点 | AY39: 得点 | AZ39: 失点 | BA39: 得失 | BB39: 集計 | BC39: 順位
C40: =IF(B41="","",B41) -> 尾西FC A | G40: =IF(B42="","",B42) -> 愛知FC一宮 A | K40: =IF(B43="","",B43) -> SAKURA FC | O40: =IF(B44="","",B44) -> F.C.DIVINE A | S40: =IF(B45="","",B45) -> PositivoFC | W40: =IF(B46="","",B46) -> アクアJFC愛西 | AA40: =IF(B47="","",B47) -> NPFC | AE40: =IF(B48="","",B48) -> Livent | AI40: =IF(B49="","",B49) -> アシストFC | AM40: =IF(B50="","",B50) -> 一宮ＦＣ Ｂ | AQ40: =IF(B51="","",B51)
A41: 21 | B41: =IF(組み分け!P6="","",組み分け!P6) -> 尾西FC A | G41: =IF(OR(H41="",J41=""),"",IF(H41=J41,"△",IF(H41>J41,"○",IF(H41<J41,"●","")))) | I41: - | K41: =IF(OR(L41="",N41=""),"",IF(L41=N41,"△",IF(L41>N41,"○",IF(L41<N41,"●","")))) | M41: - | O41: =IF(OR(P41="",R41=""),"",IF(P41=R41,"△",IF(P41>R41,"○",IF(P41<R41,"●","")))) | Q41: - | S41: =IF(OR(T41="",V41=""),"",IF(T41=V41,"△",IF(T41>V41,"○",IF(T41<V41,"●","")))) | U41: - | W41: =IF(OR(X41="",Z41=""),"",IF(X41=Z41,"△",IF(X41>Z41,"○",IF(X41<Z41,"●","")))) | Y41: - | AA41: =IF(OR(AB41="",AD41=""),"",IF(AB41=AD41,"△",IF(AB41>AD41,"○",IF(AB41<AD41,"●","")))) | AC41: - | AE41: =IF(OR(AF41="",AH41=""),"",IF(AF41=AH41,"△",IF(AF41>AH41,"○",IF(AF41<AH41,"●","")))) | AG41: - | AI41: =IF(OR(AJ41="",AL41=""),"",IF(AJ41=AL41,"△",IF(AJ41>AL41,"○",IF(AJ41<AL41,"●","")))) | AK41: - | AM41: =IF(OR(AN41="",AP41=""),"",IF(AN41=AP41,"△",IF(AN41>AP41,"○",IF(AN41<AP41,"●","")))) | AO41: - | AQ41: =IF(OR(AR41="",AT41=""),"",IF(AR41=AT41,"△",IF(AR41>AT41,"○",IF(AR41<AT41,"●","")))) | AS41: - | AU41: =COUNTIF(C41:AT41,"○") -> 0 | AV41: =COUNTIF(C41:AT41,"●") -> 0 | AW41: =COUNTIF(C41:AT41,"△") -> 0 | AX41: =SUM(3*AU41,0*AV41,1*AW41) -> 0 | AY41: =SUM(AB41,AF41,AJ41,AN41,AR41,X41,T41,P41,L41,H41,D41) -> 0 | AZ41: =SUM(AD41,AH41,AL41,AP41,AT41,Z41,V41,R41,N41,J41,F41) -> 0 | BA41: =AY41-AZ41 -> 0 | BB41: =AX41+(BA41/100)+(AY41/100000) -> 0 | BC41: =_xlfn.RANK.EQ(BB41,BB$41:BB$50,0) -> 1
A42: 22 | B42: =IF(組み分け!P7="","",組み分け!P7) -> 愛知FC一宮 A | C42: =IF(OR(D42="",F42=""),"",IF(D42=F42,"△",IF(D42>F42,"○",IF(D42<F42,"●","")))) | D42: =IF(J41="","",J41) | E42: - | F42: =IF(H41="","",H41) | K42: =IF(OR(L42="",N42=""),"",IF(L42=N42,"△",IF(L42>N42,"○",IF(L42<N42,"●","")))) | M42: - | O42: =IF(OR(P42="",R42=""),"",IF(P42=R42,"△",IF(P42>R42,"○",IF(P42<R42,"●","")))) | Q42: - | S42: =IF(OR(T42="",V42=""),"",IF(T42=V42,"△",IF(T42>V42,"○",IF(T42<V42,"●","")))) | U42: - | W42: =IF(OR(X42="",Z42=""),"",IF(X42=Z42,"△",IF(X42>Z42,"○",IF(X42<Z42,"●","")))) | Y42: - | AA42: =IF(OR(AB42="",AD42=""),"",IF(AB42=AD42,"△",IF(AB42>AD42,"○",IF(AB42<AD42,"●","")))) | AC42: - | AE42: =IF(OR(AF42="",AH42=""),"",IF(AF42=AH42,"△",IF(AF42>AH42,"○",IF(AF42<AH42,"●","")))) | AG42: - | AI42: =IF(OR(AJ42="",AL42=""),"",IF(AJ42=AL42,"△",IF(AJ42>AL42,"○",IF(AJ42<AL42,"●","")))) | AK42: - | AM42: =IF(OR(AN42="",AP42=""),"",IF(AN42=AP42,"△",IF(AN42>AP42,"○",IF(AN42<AP42,"●","")))) | AO42: - | AQ42: =IF(OR(AR42="",AT42=""),"",IF(AR42=AT42,"△",IF(AR42>AT42,"○",IF(AR42<AT42,"●","")))) | AS42: - | AU42: =COUNTIF(C42:AT42,"○") -> 0 | AV42: =COUNTIF(C42:AT42,"●") -> 0 | AW42: =COUNTIF(C42:AT42,"△") -> 0 | AX42: =SUM(3*AU42,0*AV42,1*AW42) -> 0 | AY42: =SUM(AB42,AF42,AJ42,AN42,AR42,X42,T42,P42,L42,H42,D42) -> 0 | AZ42: =SUM(AD42,AH42,AL42,AP42,AT42,Z42,V42,R42,N42,J42,F42) -> 0 | BA42: =AY42-AZ42 -> 0 | BB42: =AX42+(BA42/100)+(AY42/100000) -> 0 | BC42: =_xlfn.RANK.EQ(BB42,BB$41:BB$50,0) -> 1
A43: 23 | B43: =IF(組み分け!P8="","",組み分け!P8) -> SAKURA FC | C43: =IF(OR(D43="",F43=""),"",IF(D43=F43,"△",IF(D43>F43,"○",IF(D43<F43,"●","")))) | D43: =IF(N41="","",N41) | E43: - | F43: =IF(L41="","",L41) | G43: =IF(OR(H43="",J43=""),"",IF(H43=J43,"△",IF(H43>J43,"○",IF(H43<J43,"●","")))) | H43: =IF(N42="","",N42) | I43: - | J43: =IF(L42="","",L42) | O43: =IF(OR(P43="",R43=""),"",IF(P43=R43,"△",IF(P43>R43,"○",IF(P43<R43,"●","")))) | Q43: - | S43: =IF(OR(T43="",V43=""),"",IF(T43=V43,"△",IF(T43>V43,"○",IF(T43<V43,"●","")))) | U43: - | W43: =IF(OR(X43="",Z43=""),"",IF(X43=Z43,"△",IF(X43>Z43,"○",IF(X43<Z43,"●","")))) | Y43: - | AA43: =IF(OR(AB43="",AD43=""),"",IF(AB43=AD43,"△",IF(AB43>AD43,"○",IF(AB43<AD43,"●","")))) | AC43: - | AE43: =IF(OR(AF43="",AH43=""),"",IF(AF43=AH43,"△",IF(AF43>AH43,"○",IF(AF43<AH43,"●","")))) | AG43: - | AI43: =IF(OR(AJ43="",AL43=""),"",IF(AJ43=AL43,"△",IF(AJ43>AL43,"○",IF(AJ43<AL43,"●","")))) | AK43: - | AM43: =IF(OR(AN43="",AP43=""),"",IF(AN43=AP43,"△",IF(AN43>AP43,"○",IF(AN43<AP43,"●","")))) | AO43: - | AQ43: =IF(OR(AR43="",AT43=""),"",IF(AR43=AT43,"△",IF(AR43>AT43,"○",IF(AR43<AT43,"●","")))) | AS43: - | AU43: =COUNTIF(C43:AT43,"○") -> 0 | AV43: =COUNTIF(C43:AT43,"●") -> 0 | AW43: =COUNTIF(C43:AT43,"△") -> 0 | AX43: =SUM(3*AU43,0*AV43,1*AW43) -> 0 | AY43: =SUM(AB43,AF43,AJ43,AN43,AR43,X43,T43,P43,L43,H43,D43) -> 0 | AZ43: =SUM(AD43,AH43,AL43,AP43,AT43,Z43,V43,R43,N43,J43,F43) -> 0 | BA43: =AY43-AZ43 -> 0 | BB43: =AX43+(BA43/100)+(AY43/100000) -> 0 | BC43: =_xlfn.RANK.EQ(BB43,BB$41:BB$50,0) -> 1
A44: 24 | B44: =IF(組み分け!P9="","",組み分け!P9) -> F.C.DIVINE A | C44: =IF(OR(D44="",F44=""),"",IF(D44=F44,"△",IF(D44>F44,"○",IF(D44<F44,"●","")))) | D44: =IF(R41="","",R41) | E44: - | F44: =IF(P41="","",P41) | G44: =IF(OR(H44="",J44=""),"",IF(H44=J44,"△",IF(H44>J44,"○",IF(H44<J44,"●","")))) | H44: =IF(R42="","",R42) | I44: - | J44: =IF(P42="","",P42) | K44: =IF(OR(L44="",N44=""),"",IF(L44=N44,"△",IF(L44>N44,"○",IF(L44<N44,"●","")))) | L44: =IF(R43="","",R43) | M44: - | N44: =IF(P43="","",P43) | S44: =IF(OR(T44="",V44=""),"",IF(T44=V44,"△",IF(T44>V44,"○",IF(T44<V44,"●","")))) | U44: - | W44: =IF(OR(X44="",Z44=""),"",IF(X44=Z44,"△",IF(X44>Z44,"○",IF(X44<Z44,"●","")))) | Y44: - | AA44: =IF(OR(AB44="",AD44=""),"",IF(AB44=AD44,"△",IF(AB44>AD44,"○",IF(AB44<AD44,"●","")))) | AC44: - | AE44: =IF(OR(AF44="",AH44=""),"",IF(AF44=AH44,"△",IF(AF44>AH44,"○",IF(AF44<AH44,"●","")))) | AG44: - | AI44: =IF(OR(AJ44="",AL44=""),"",IF(AJ44=AL44,"△",IF(AJ44>AL44,"○",IF(AJ44<AL44,"●","")))) | AK44: - | AM44: =IF(OR(AN44="",AP44=""),"",IF(AN44=AP44,"△",IF(AN44>AP44,"○",IF(AN44<AP44,"●","")))) | AO44: - | AQ44: =IF(OR(AR44="",AT44=""),"",IF(AR44=AT44,"△",IF(AR44>AT44,"○",IF(AR44<AT44,"●","")))) | AS44: - | AU44: =COUNTIF(C44:AT44,"○") -> 0 | AV44: =COUNTIF(C44:AT44,"●") -> 0 | AW44: =COUNTIF(C44:AT44,"△") -> 0 | AX44: =SUM(3*AU44,0*AV44,1*AW44) -> 0 | AY44: =SUM(AB44,AF44,AJ44,AN44,AR44,X44,T44,P44,L44,H44,D44) -> 0 | AZ44: =SUM(AD44,AH44,AL44,AP44,AT44,Z44,V44,R44,N44,J44,F44) -> 0 | BA44: =AY44-AZ44 -> 0 | BB44: =AX44+(BA44/100)+(AY44/100000) -> 0 | BC44: =_xlfn.RANK.EQ(BB44,BB$41:BB$50,0) -> 1
